BEGIN:VCALENDAR
VERSION:2.0
PRODID:-//Monyash Village - ECPv6.15.20//NONSGML v1.0//EN
CALSCALE:GREGORIAN
METHOD:PUBLISH
X-WR-CALNAME:Monyash Village
X-ORIGINAL-URL:https://monyash.info
X-WR-CALDESC:Events for Monyash Village
REFRESH-INTERVAL;VALUE=DURATION:PT1H
X-Robots-Tag:noindex
X-PUBLISHED-TTL:PT1H
BEGIN:VTIMEZONE
TZID:Europe/London
BEGIN:DAYLIGHT
TZOFFSETFROM:+0000
TZOFFSETTO:+0100
TZNAME:BST
DTSTART:20220327T010000
END:DAYLIGHT
BEGIN:STANDARD
TZOFFSETFROM:+0100
TZOFFSETTO:+0000
TZNAME:GMT
DTSTART:20221030T010000
END:STANDARD
BEGIN:DAYLIGHT
TZOFFSETFROM:+0000
TZOFFSETTO:+0100
TZNAME:BST
DTSTART:20230326T010000
END:DAYLIGHT
BEGIN:STANDARD
TZOFFSETFROM:+0100
TZOFFSETTO:+0000
TZNAME:GMT
DTSTART:20231029T010000
END:STANDARD
BEGIN:DAYLIGHT
TZOFFSETFROM:+0000
TZOFFSETTO:+0100
TZNAME:BST
DTSTART:20240331T010000
END:DAYLIGHT
BEGIN:STANDARD
TZOFFSETFROM:+0100
TZOFFSETTO:+0000
TZNAME:GMT
DTSTART:20241027T010000
END:STANDARD
END:VTIMEZONE
BEGIN:VEVENT
DTSTART;TZID=Europe/London:20231221T191500
DTEND;TZID=Europe/London:20231221T203000
DTSTAMP:20260420T020036
CREATED:20231117T113907Z
LAST-MODIFIED:20231117T113909Z
UID:9531-1703186100-1703190600@monyash.info
SUMMARY:Hatha Yoga
DESCRIPTION:Hatha Yoga with Yoga Nidra meditation \n\n\n\nClasses by Caroline Webster \n\n\n\nMore details on our Pilates and Yoga page
URL:https://monyash.info/event/hatha-yoga-37/
LOCATION:Monyash Village Hall\, Church Street\, Monyash\, DE45 1JH
END:VEVENT
BEGIN:VEVENT
DTSTART;TZID=Europe/London:20231220T193000
DTEND;TZID=Europe/London:20231220T203000
DTSTAMP:20260420T020036
CREATED:20231030T140045Z
LAST-MODIFIED:20231030T140046Z
UID:9345-1703100600-1703104200@monyash.info
SUMMARY:Pilates for men
DESCRIPTION:Classes by Caroline Webster \n\n\n\nMore details on our Pilates and Yoga page
URL:https://monyash.info/event/pilates-for-men-6/
LOCATION:Monyash Village Hall\, Church Street\, Monyash\, DE45 1JH
END:VEVENT
BEGIN:VEVENT
DTSTART;TZID=Europe/London:20231219T180000
DTEND;TZID=Europe/London:20231219T190000
DTSTAMP:20260420T020036
CREATED:20230922T143011Z
LAST-MODIFIED:20231030T141657Z
UID:9149-1703008800-1703012400@monyash.info
SUMMARY:Pilates
DESCRIPTION:Classes by Caroline Webster \n\n\n\nMore details on our Pilates and Yoga page
URL:https://monyash.info/event/pilates-161/
LOCATION:Monyash Village Hall\, Church Street\, Monyash\, DE45 1JH
END:VEVENT
BEGIN:VEVENT
DTSTART;TZID=Europe/London:20231219T140000
DTEND;TZID=Europe/London:20231219T160000
DTSTAMP:20260420T020036
CREATED:20230922T144734Z
LAST-MODIFIED:20230922T144736Z
UID:9167-1702994400-1703001600@monyash.info
SUMMARY:Monyash Quilters
DESCRIPTION:A friendly group with a wide range of creative talent who love making beautiful quilts and anything crafty. Drop into one of our weekly meetings as a taster to see what we do and if we can tempt you to join.
URL:https://monyash.info/event/monyash-quilters-35/
LOCATION:Monyash Village Hall\, Church Street\, Monyash\, DE45 1JH
END:VEVENT
BEGIN:VEVENT
DTSTART;TZID=Europe/London:20231218T173000
DTEND;TZID=Europe/London:20231218T184500
DTSTAMP:20260420T020036
CREATED:20231001T132340Z
LAST-MODIFIED:20231001T132342Z
UID:9267-1702920600-1702925100@monyash.info
SUMMARY:Iyengar Yoga
DESCRIPTION:Classes by Dave Swinhoe \n\n\n\nMore details about Iyengar Yoga on the IYUK website
URL:https://monyash.info/event/iyengar-yoga-9/
LOCATION:Monyash Village Hall\, Church Street\, Monyash\, DE45 1JH
END:VEVENT
BEGIN:VEVENT
DTSTART;TZID=Europe/London:20231218T000000
DTEND;TZID=Europe/London:20231226T235959
DTSTAMP:20260420T020036
CREATED:20231219T161536Z
LAST-MODIFIED:20231219T162006Z
UID:9724-1702857600-1703635199@monyash.info
SUMMARY:Smithy closed for Christmas
DESCRIPTION:The Old Smithy will be closed from Monday 18th December to Boxing Day inclusive so all ther staff can enjoy Christmas time with their families.  They reopen at 10:00 on Wednesday 27th. \n\n\n\nMore information on their webpage here and on their Facebook page here.
URL:https://monyash.info/event/smithy-closing-for-christmas-3/
LOCATION:The Old Smithy\, Church Street\, Monyash\, Bakewell\, Derbyshire\, DE45 1JH
END:VEVENT
BEGIN:VEVENT
DTSTART;TZID=Europe/London:20231215T090000
DTEND;TZID=Europe/London:20231215T110000
DTSTAMP:20260420T020036
CREATED:20230930T153006Z
LAST-MODIFIED:20230930T153008Z
UID:9247-1702630800-1702638000@monyash.info
SUMMARY:Tea and Tots
DESCRIPTION:Tea and Tots is a playgroup\, aimed at babies and preschoolers\, for local families and friends to get together for a cuppa\, chat and play! Whilst we are aimed at preschool ages\, anyone is welcome to pop in and join us.Tea\, coffee\, snacks and a variety of toys are provided. Parents are responsible for their children whilst there.Hope to see you soon!
URL:https://monyash.info/event/tea-and-tots-24/
LOCATION:Monyash Village Hall\, Church Street\, Monyash\, DE45 1JH
END:VEVENT
BEGIN:VEVENT
DTSTART;TZID=Europe/London:20231214T191500
DTEND;TZID=Europe/London:20231214T203000
DTSTAMP:20260420T020036
CREATED:20231117T113809Z
LAST-MODIFIED:20231117T113812Z
UID:9529-1702581300-1702585800@monyash.info
SUMMARY:Hatha Yoga
DESCRIPTION:Hatha Yoga with Yoga Nidra meditation \n\n\n\nClasses by Caroline Webster \n\n\n\nMore details on our Pilates and Yoga page
URL:https://monyash.info/event/hatha-yoga-36/
LOCATION:Monyash Village Hall\, Church Street\, Monyash\, DE45 1JH
END:VEVENT
BEGIN:VEVENT
DTSTART;TZID=Europe/London:20231213T193000
DTEND;TZID=Europe/London:20231213T203000
DTSTAMP:20260420T020036
CREATED:20231030T135948Z
LAST-MODIFIED:20231030T135950Z
UID:9343-1702495800-1702499400@monyash.info
SUMMARY:Pilates for men
DESCRIPTION:Classes by Caroline Webster \n\n\n\nMore details on our Pilates and Yoga page
URL:https://monyash.info/event/pilates-for-men-5/
LOCATION:Monyash Village Hall\, Church Street\, Monyash\, DE45 1JH
END:VEVENT
BEGIN:VEVENT
DTSTART;TZID=Europe/London:20231213T111500
DTEND;TZID=Europe/London:20231213T114500
DTSTAMP:20260420T020036
CREATED:20230922T151038Z
LAST-MODIFIED:20230922T151040Z
UID:9171-1702466100-1702467900@monyash.info
SUMMARY:Mobile Library
DESCRIPTION:Full details of the mobile library service including a county-wide schedule are on this page on the County Council website.
URL:https://monyash.info/event/mobile-library-55/
LOCATION:The Square\, The Square\, Monyash\, DE45 1JH
END:VEVENT
BEGIN:VEVENT
DTSTART;TZID=Europe/London:20231212T180000
DTEND;TZID=Europe/London:20231212T190000
DTSTAMP:20260420T020036
CREATED:20230922T142911Z
LAST-MODIFIED:20231030T141642Z
UID:9147-1702404000-1702407600@monyash.info
SUMMARY:Pilates
DESCRIPTION:Classes by Caroline Webster \n\n\n\nMore details on our Pilates and Yoga page
URL:https://monyash.info/event/pilates-160/
LOCATION:Monyash Village Hall\, Church Street\, Monyash\, DE45 1JH
END:VEVENT
BEGIN:VEVENT
DTSTART;TZID=Europe/London:20231212T180000
DTEND;TZID=Europe/London:20231212T180000
DTSTAMP:20260420T020036
CREATED:20231110T115542Z
LAST-MODIFIED:20231110T115545Z
UID:9401-1702404000-1702404000@monyash.info
SUMMARY:PTFA Christmas Raffle
DESCRIPTION:Monyash Primary School’s PTFA is holding a Christmas Raffle at the Bull’s Head.  There are loads of great prizes\, including a 60 minute pleasure flight with transfers to Manchester.  You can find more details on their poster which you can view or download here
URL:https://monyash.info/event/ptfa-christmas-raffle/
LOCATION:The Bull’s Head\, The Square\, Monyash\, DE45 1JH
END:VEVENT
BEGIN:VEVENT
DTSTART;TZID=Europe/London:20231212T140000
DTEND;TZID=Europe/London:20231212T160000
DTSTAMP:20260420T020036
CREATED:20230922T144635Z
LAST-MODIFIED:20230922T144637Z
UID:9165-1702389600-1702396800@monyash.info
SUMMARY:Monyash Quilters
DESCRIPTION:A friendly group with a wide range of creative talent who love making beautiful quilts and anything crafty. Drop into one of our weekly meetings as a taster to see what we do and if we can tempt you to join.
URL:https://monyash.info/event/monyash-quilters-34/
LOCATION:Monyash Village Hall\, Church Street\, Monyash\, DE45 1JH
END:VEVENT
BEGIN:VEVENT
DTSTART;TZID=Europe/London:20231211T173000
DTEND;TZID=Europe/London:20231211T184500
DTSTAMP:20260420T020036
CREATED:20231001T132256Z
LAST-MODIFIED:20231001T132259Z
UID:9265-1702315800-1702320300@monyash.info
SUMMARY:Iyengar Yoga
DESCRIPTION:Classes by Dave Swinhoe \n\n\n\nMore details about Iyengar Yoga on the IYUK website
URL:https://monyash.info/event/iyengar-yoga-8/
LOCATION:Monyash Village Hall\, Church Street\, Monyash\, DE45 1JH
END:VEVENT
BEGIN:VEVENT
DTSTART;TZID=Europe/London:20231210T180000
DTEND;TZID=Europe/London:20231210T180000
DTSTAMP:20260420T020036
CREATED:20231110T140219Z
LAST-MODIFIED:20231117T111047Z
UID:9411-1702231200-1702231200@monyash.info
SUMMARY:Carol Service
DESCRIPTION:Please join us for our Carols by Candlelight Service followed by refreshments
URL:https://monyash.info/event/carol-service-6/
LOCATION:St Leonard’s Church\, Church Street\, Monyash\, DE45 1JH
END:VEVENT
BEGIN:VEVENT
DTSTART;TZID=Europe/London:20231208T151500
DTEND;TZID=Europe/London:20231208T151500
DTSTAMP:20260420T020036
CREATED:20231120T153849Z
LAST-MODIFIED:20231120T153851Z
UID:9555-1702048500-1702048500@monyash.info
SUMMARY:Messy Christmas
DESCRIPTION:Messy Christmas is straight after school on Friday 8th December. Some Christmas games and tea. £2 per child. Children must be accompanied by an adult.
URL:https://monyash.info/event/messy-christmas/
LOCATION:Monyash Methodist Chapel\, Chapel Street\, Monyash\, DE45 1JJ
END:VEVENT
BEGIN:VEVENT
DTSTART;TZID=Europe/London:20231208T140000
DTEND;TZID=Europe/London:20231208T153000
DTSTAMP:20260420T020036
CREATED:20230922T145047Z
LAST-MODIFIED:20230922T145052Z
UID:9169-1702044000-1702049400@monyash.info
SUMMARY:Crafternoon
DESCRIPTION:Tea & Cake\, Crafts and Chat – what’s not to like?!
URL:https://monyash.info/event/crafternoon-71/
LOCATION:Monyash Village Hall\, Church Street\, Monyash\, DE45 1JH
END:VEVENT
BEGIN:VEVENT
DTSTART;TZID=Europe/London:20231208T090000
DTEND;TZID=Europe/London:20231208T110000
DTSTAMP:20260420T020036
CREATED:20230930T152900Z
LAST-MODIFIED:20230930T152903Z
UID:9245-1702026000-1702033200@monyash.info
SUMMARY:Tea and Tots
DESCRIPTION:Tea and Tots is a playgroup\, aimed at babies and preschoolers\, for local families and friends to get together for a cuppa\, chat and play! Whilst we are aimed at preschool ages\, anyone is welcome to pop in and join us.Tea coffee\, snacks and a variety of toys are provided. Parents are responsible for their children whilst there.Hope to see you soon!
URL:https://monyash.info/event/tea-and-tots-23/
LOCATION:Monyash Village Hall\, Church Street\, Monyash\, DE45 1JH
END:VEVENT
BEGIN:VEVENT
DTSTART;TZID=Europe/London:20231207T191500
DTEND;TZID=Europe/London:20231207T203000
DTSTAMP:20260420T020036
CREATED:20231117T113447Z
LAST-MODIFIED:20231117T113720Z
UID:9527-1701976500-1701981000@monyash.info
SUMMARY:Hatha Yoga
DESCRIPTION:Hatha Yoga with Yoga Nidra meditation \n\n\n\nClasses by Caroline Webster \n\n\n\nMore details on our Pilates and Yoga page
URL:https://monyash.info/event/hatha-yoga-35/
LOCATION:Monyash Village Hall\, Church Street\, Monyash\, DE45 1JH
END:VEVENT
BEGIN:VEVENT
DTSTART;TZID=Europe/London:20231206T193000
DTEND;TZID=Europe/London:20231206T203000
DTSTAMP:20260420T020036
CREATED:20231205T160818Z
LAST-MODIFIED:20231205T184146Z
UID:9632-1701891000-1701894600@monyash.info
SUMMARY:Pilates for men
DESCRIPTION:Classes by Caroline Webster \n\n\n\nMore details on our Pilates and Yoga page
URL:https://monyash.info/event/pilates-for-men-11/
LOCATION:Monyash Village Hall\, Church Street\, Monyash\, DE45 1JH
END:VEVENT
BEGIN:VEVENT
DTSTART;TZID=Europe/London:20231205T180000
DTEND;TZID=Europe/London:20231205T190000
DTSTAMP:20260420T020036
CREATED:20230922T142819Z
LAST-MODIFIED:20231030T141546Z
UID:9145-1701799200-1701802800@monyash.info
SUMMARY:Pilates
DESCRIPTION:Classes by Caroline Webster \n\n\n\nMore details on our Pilates and Yoga page
URL:https://monyash.info/event/pilates-159/
LOCATION:Monyash Village Hall\, Church Street\, Monyash\, DE45 1JH
END:VEVENT
BEGIN:VEVENT
DTSTART;TZID=Europe/London:20231205T140000
DTEND;TZID=Europe/London:20231205T160000
DTSTAMP:20260420T020036
CREATED:20230922T144530Z
LAST-MODIFIED:20230922T144816Z
UID:9163-1701784800-1701792000@monyash.info
SUMMARY:Monyash Quilters
DESCRIPTION:A friendly group with a wide range of creative talent who love making beautiful quilts and anything crafty. Drop into one of our weekly meetings as a taster to see what we do and if we can tempt you to join.
URL:https://monyash.info/event/monyash-quilters-33/
LOCATION:Monyash Village Hall\, Church Street\, Monyash\, DE45 1JH
END:VEVENT
BEGIN:VEVENT
DTSTART;TZID=Europe/London:20231205T140000
DTEND;TZID=Europe/London:20231205T140000
DTSTAMP:20260420T020036
CREATED:20230521T140230Z
LAST-MODIFIED:20230521T140232Z
UID:8373-1701784800-1701784800@monyash.info
SUMMARY:Test N
DESCRIPTION:Test event to check the behaviour of The Events Calendar for events created across Daylight Savings changes.
URL:https://monyash.info/event/test-n/
END:VEVENT
BEGIN:VEVENT
DTSTART;TZID=Europe/London:20231204T190000
DTEND;TZID=Europe/London:20231204T190000
DTSTAMP:20260420T020036
CREATED:20230109T213606Z
LAST-MODIFIED:20230109T213609Z
UID:7645-1701716400-1701716400@monyash.info
SUMMARY:Parish Council meeting
DESCRIPTION:
URL:https://monyash.info/event/parish-council-meeting-52/
LOCATION:Monyash Village Hall\, Church Street\, Monyash\, DE45 1JH
END:VEVENT
BEGIN:VEVENT
DTSTART;TZID=Europe/London:20231204T173000
DTEND;TZID=Europe/London:20231204T184500
DTSTAMP:20260420T020036
CREATED:20231001T132202Z
LAST-MODIFIED:20231001T132204Z
UID:9263-1701711000-1701715500@monyash.info
SUMMARY:Iyengar Yoga
DESCRIPTION:Classes by Dave Swinhoe \n\n\n\nMore details about Iyengar Yoga on the IYUK website
URL:https://monyash.info/event/iyengar-yoga-7/
LOCATION:Monyash Village Hall\, Church Street\, Monyash\, DE45 1JH
END:VEVENT
BEGIN:VEVENT
DTSTART;TZID=Europe/London:20231203T150000
DTEND;TZID=Europe/London:20231203T150000
DTSTAMP:20260420T020036
CREATED:20231120T153418Z
LAST-MODIFIED:20231120T153420Z
UID:9553-1701615600-1701615600@monyash.info
SUMMARY:Carol Service
DESCRIPTION:An all-age Carol Service to close the Christmas Tree FestivalFull details of the festival are in the poster which you can view or download here.
URL:https://monyash.info/event/carol-service-7/
LOCATION:Monyash Methodist Chapel\, Chapel Street\, Monyash\, DE45 1JJ
END:VEVENT
BEGIN:VEVENT
DTSTART;TZID=Europe/London:20231203T110000
DTEND;TZID=Europe/London:20231203T150000
DTSTAMP:20260420T020036
CREATED:20231120T153234Z
LAST-MODIFIED:20231120T153236Z
UID:9551-1701601200-1701615600@monyash.info
SUMMARY:Christmas Tree Festival
DESCRIPTION:A display of Christmas Trees🎄from different groups in the community on the theme of ‘Our Favourite Carols’Refreshments ● free entry ● all donations going to charityFull details are in the poster which you can view or download here.
URL:https://monyash.info/event/christmas-tree-festival-15/
LOCATION:Monyash Methodist Chapel\, Chapel Street\, Monyash\, DE45 1JJ
END:VEVENT
BEGIN:VEVENT
DTSTART;TZID=Europe/London:20231202T110000
DTEND;TZID=Europe/London:20231202T160000
DTSTAMP:20260420T020036
CREATED:20231120T153153Z
LAST-MODIFIED:20231120T153155Z
UID:9549-1701514800-1701532800@monyash.info
SUMMARY:Christmas Tree Festival
DESCRIPTION:A display of Christmas Trees🎄from different groups in the community on the theme of ‘Our Favourite Carols’Refreshments ● free entry ● all donations going to charityFull details are in the poster which you can view or download here.
URL:https://monyash.info/event/christmas-tree-festival-14/
LOCATION:Monyash Methodist Chapel\, Chapel Street\, Monyash\, DE45 1JJ
END:VEVENT
BEGIN:VEVENT
DTSTART;TZID=Europe/London:20231201T140000
DTEND;TZID=Europe/London:20231201T235900
DTSTAMP:20260420T020036
CREATED:20231202T115333Z
LAST-MODIFIED:20231202T115336Z
UID:9602-1701439200-1701475140@monyash.info
SUMMARY:Free afternoon parking starts
DESCRIPTION:DDDC car parks will be free to use after 2pm throughout December.
URL:https://monyash.info/event/free-afternoon-parking-starts-4/
END:VEVENT
BEGIN:VEVENT
DTSTART;TZID=Europe/London:20231201T110000
DTEND;TZID=Europe/London:20231201T160000
DTSTAMP:20260420T020036
CREATED:20231120T153049Z
LAST-MODIFIED:20231120T153051Z
UID:9546-1701428400-1701446400@monyash.info
SUMMARY:Christmas Tree Festival
DESCRIPTION:A display of Christmas Trees🎄from different groups in the community on the theme of ‘Our Favourite Carols’Refreshments ● free entry ● all donations going to charityFull details are in the poster which you can view or download here.
URL:https://monyash.info/event/christmas-tree-festival-13/
LOCATION:Monyash Methodist Chapel\, Chapel Street\, Monyash\, DE45 1JJ
END:VEVENT
END:VCALENDAR