BEGIN:VCALENDAR
VERSION:2.0
PRODID:-//Monyash Village - ECPv6.15.20//NONSGML v1.0//EN
CALSCALE:GREGORIAN
METHOD:PUBLISH
X-WR-CALNAME:Monyash Village
X-ORIGINAL-URL:https://monyash.info
X-WR-CALDESC:Events for Monyash Village
REFRESH-INTERVAL;VALUE=DURATION:PT1H
X-Robots-Tag:noindex
X-PUBLISHED-TTL:PT1H
BEGIN:VTIMEZONE
TZID:Europe/London
BEGIN:DAYLIGHT
TZOFFSETFROM:+0000
TZOFFSETTO:+0100
TZNAME:BST
DTSTART:20220327T010000
END:DAYLIGHT
BEGIN:STANDARD
TZOFFSETFROM:+0100
TZOFFSETTO:+0000
TZNAME:GMT
DTSTART:20221030T010000
END:STANDARD
BEGIN:DAYLIGHT
TZOFFSETFROM:+0000
TZOFFSETTO:+0100
TZNAME:BST
DTSTART:20230326T010000
END:DAYLIGHT
BEGIN:STANDARD
TZOFFSETFROM:+0100
TZOFFSETTO:+0000
TZNAME:GMT
DTSTART:20231029T010000
END:STANDARD
BEGIN:DAYLIGHT
TZOFFSETFROM:+0000
TZOFFSETTO:+0100
TZNAME:BST
DTSTART:20240331T010000
END:DAYLIGHT
BEGIN:STANDARD
TZOFFSETFROM:+0100
TZOFFSETTO:+0000
TZNAME:GMT
DTSTART:20241027T010000
END:STANDARD
END:VTIMEZONE
BEGIN:VEVENT
DTSTART;TZID=Europe/London:20230911T191500
DTEND;TZID=Europe/London:20230911T203000
DTSTAMP:20260420T050837
CREATED:20230708T112655Z
LAST-MODIFIED:20230708T112659Z
UID:8790-1694459700-1694464200@monyash.info
SUMMARY:Hatha Yoga
DESCRIPTION:Classes by Caroline Webster \n\n\n\nMore details on our Pilates and Yoga page
URL:https://monyash.info/event/hatha-yoga-32/
LOCATION:Taddington Institute\, Bramwell Memorial Institute\, Main Road\, Taddington\, SK17 9TU
END:VEVENT
BEGIN:VEVENT
DTSTART;TZID=Europe/London:20230911T180000
DTEND;TZID=Europe/London:20230911T190000
DTSTAMP:20260420T050837
CREATED:20230708T111659Z
LAST-MODIFIED:20230708T111702Z
UID:8774-1694455200-1694458800@monyash.info
SUMMARY:Pilates
DESCRIPTION:Classes by Caroline Webster \n\n\n\nMore details on our Pilates and Yoga page
URL:https://monyash.info/event/pilates-134/
LOCATION:Taddington Institute\, Bramwell Memorial Institute\, Main Road\, Taddington\, SK17 9TU
END:VEVENT
BEGIN:VEVENT
DTSTART;TZID=Europe/London:20230910T120000
DTEND;TZID=Europe/London:20230910T150000
DTSTAMP:20260420T050837
CREATED:20230824T190226Z
LAST-MODIFIED:20230824T190228Z
UID:8995-1694347200-1694358000@monyash.info
SUMMARY:Grindleford Goat
DESCRIPTION:Charity bike ride coming through Monyash.  The organisers expect 250-300 riders coming through the village\, mostly between 12:00 and 15:00.  The feeding station will be near the bus shelter. \n\n\n\nThe charity website is here: www.grindlefordgoat.co.uk \n\n\n\nThe charity’s aims etc. are listed on the Charity Commission website on this page:https://register-of-charities.charitycommission.gov.uk/charity-search/-/charity-details/5212153
URL:https://monyash.info/event/grindleford-goat-2/
LOCATION:Village Green\, Village Green\, Monyash\, DE45 1JH
END:VEVENT
BEGIN:VEVENT
DTSTART;TZID=Europe/London:20230910T110000
DTEND;TZID=Europe/London:20230910T110000
DTSTAMP:20260420T050837
CREATED:20230910T103815Z
LAST-MODIFIED:20230910T103817Z
UID:9103-1694343600-1694343600@monyash.info
SUMMARY:Church Service
DESCRIPTION:Morning Worship and a baptism\, led by Rev’d Adele.  All welcome.
URL:https://monyash.info/event/church-service-48/
LOCATION:St Leonard’s Church\, Church Street\, Monyash\, DE45 1JH
END:VEVENT
BEGIN:VEVENT
DTSTART;TZID=Europe/London:20230910T110000
DTEND;TZID=Europe/London:20230910T110000
DTSTAMP:20260420T050837
CREATED:20230824T195112Z
LAST-MODIFIED:20230824T195115Z
UID:9031-1694343600-1694343600@monyash.info
SUMMARY:Church Service
DESCRIPTION:You are welcome to join us for our Morning Prayer service and baptism
URL:https://monyash.info/event/church-service-44/
LOCATION:St Leonard’s Church\, Church Street\, Monyash\, DE45 1JH
END:VEVENT
BEGIN:VEVENT
DTSTART;TZID=Europe/London:20230908T090000
DTEND;TZID=Europe/London:20230908T110000
DTSTAMP:20260420T050837
CREATED:20230708T140130Z
LAST-MODIFIED:20230708T140133Z
UID:8814-1694163600-1694170800@monyash.info
SUMMARY:Tea and Tots
DESCRIPTION:Tea and Tots is a playgroup\, aimed at babies and preschoolers\, for local families and friends to get together for a cuppa\, chat and play! Whilst we are aimed at preschool ages\, anyone is welcome to pop in and join us.Tea coffee\, snacks and a variety of toys are provided. Parents are responsible for their children whilst there.Hope to see you soon!
URL:https://monyash.info/event/tea-and-tots-10/
LOCATION:Monyash Village Hall\, Church Street\, Monyash\, DE45 1JH
END:VEVENT
BEGIN:VEVENT
DTSTART;TZID=Europe/London:20230906T193000
DTEND;TZID=Europe/London:20230906T193000
DTSTAMP:20260420T050837
CREATED:20230609T130446Z
LAST-MODIFIED:20230609T144619Z
UID:8520-1694028600-1694028600@monyash.info
SUMMARY:WI
DESCRIPTION:Guest speaker\, competition and refreshments.
URL:https://monyash.info/event/wi-35/
LOCATION:Monyash Village Hall\, Church Street\, Monyash\, DE45 1JH
END:VEVENT
BEGIN:VEVENT
DTSTART;TZID=Europe/London:20230905T180000
DTEND;TZID=Europe/London:20230905T190000
DTSTAMP:20260420T050837
CREATED:20230708T111929Z
LAST-MODIFIED:20230708T111932Z
UID:8780-1693936800-1693940400@monyash.info
SUMMARY:Pilates
DESCRIPTION:Classes by Caroline Webster \n\n\n\nMore details on our Pilates and Yoga page
URL:https://monyash.info/event/pilates-137/
LOCATION:Monyash Village Hall\, Church Street\, Monyash\, DE45 1JH
END:VEVENT
BEGIN:VEVENT
DTSTART;TZID=Europe/London:20230905T140000
DTEND;TZID=Europe/London:20230905T160000
DTSTAMP:20260420T050837
CREATED:20230708T113014Z
LAST-MODIFIED:20230708T113016Z
UID:8796-1693922400-1693929600@monyash.info
SUMMARY:Monyash Quilters
DESCRIPTION:A friendly group with a wide range of creative talent who love making beautiful quilts and anything crafty. Drop into one of our weekly meetings as a taster to see what we do and if we can tempt you to join.
URL:https://monyash.info/event/monyash-quilters-20/
LOCATION:Monyash Village Hall\, Church Street\, Monyash\, DE45 1JH
END:VEVENT
BEGIN:VEVENT
DTSTART;TZID=Europe/London:20230904T191500
DTEND;TZID=Europe/London:20230904T203000
DTSTAMP:20260420T050837
CREATED:20230708T112256Z
LAST-MODIFIED:20230708T112300Z
UID:8788-1693854900-1693859400@monyash.info
SUMMARY:Hatha Yoga
DESCRIPTION:Classes by Caroline Webster \n\n\n\nMore details on our Pilates and Yoga page
URL:https://monyash.info/event/hatha-yoga-31/
LOCATION:Taddington Institute\, Bramwell Memorial Institute\, Main Road\, Taddington\, SK17 9TU
END:VEVENT
BEGIN:VEVENT
DTSTART;TZID=Europe/London:20230904T190000
DTEND;TZID=Europe/London:20230904T190000
DTSTAMP:20260420T050837
CREATED:20230109T213339Z
LAST-MODIFIED:20230109T213342Z
UID:7639-1693854000-1693854000@monyash.info
SUMMARY:Parish Council meeting
DESCRIPTION:
URL:https://monyash.info/event/parish-council-meeting-49/
LOCATION:Monyash Village Hall\, Church Street\, Monyash\, DE45 1JH
END:VEVENT
BEGIN:VEVENT
DTSTART;TZID=Europe/London:20230904T180000
DTEND;TZID=Europe/London:20230904T190000
DTSTAMP:20260420T050837
CREATED:20230708T111605Z
LAST-MODIFIED:20230708T111607Z
UID:8772-1693850400-1693854000@monyash.info
SUMMARY:Pilates
DESCRIPTION:Classes by Caroline Webster \n\n\n\nMore details on our Pilates and Yoga page
URL:https://monyash.info/event/pilates-133/
LOCATION:Taddington Institute\, Bramwell Memorial Institute\, Main Road\, Taddington\, SK17 9TU
END:VEVENT
BEGIN:VEVENT
DTSTART;TZID=Europe/London:20230904T100000
DTEND;TZID=Europe/London:20230904T100000
DTSTAMP:20260420T050837
CREATED:20230902T222626Z
LAST-MODIFIED:20230902T223351Z
UID:9086-1693821600-1693821600@monyash.info
SUMMARY:Church Service
DESCRIPTION:Our new curate\, Lisa Price\, will lead a short service of Morning Prayer.  All welcome.
URL:https://monyash.info/event/church-service-47/
LOCATION:St Leonard’s Church\, Church Street\, Monyash\, DE45 1JH
END:VEVENT
BEGIN:VEVENT
DTSTART;TZID=Europe/London:20230903T100000
DTEND;TZID=Europe/London:20230903T150000
DTSTAMP:20260420T050837
CREATED:20230731T110002Z
LAST-MODIFIED:20230731T110005Z
UID:8898-1693735200-1693753200@monyash.info
SUMMARY:Donkey Sanctuary Open Day
DESCRIPTION:Near the top of Hutmoor Butts – at this link on Google MapsMore information at their website here
URL:https://monyash.info/event/donkey-sanctuary-open-day-2/
LOCATION:Donkey Sanctuary\, Ashbourne Road\, Hurdlow\, SK17 9QQ\, United Kingdom
END:VEVENT
BEGIN:VEVENT
DTSTART;TZID=Europe/London:20230901T140000
DTEND;TZID=Europe/London:20230901T153000
DTSTAMP:20260420T050837
CREATED:20230708T113858Z
LAST-MODIFIED:20230708T113901Z
UID:8804-1693576800-1693582200@monyash.info
SUMMARY:Crafternoon
DESCRIPTION:Tea & Cake\, Crafts and Chat – what’s not to like?!
URL:https://monyash.info/event/crafternoon-64/
LOCATION:Monyash Village Hall\, Church Street\, Monyash\, DE45 1JH
END:VEVENT
BEGIN:VEVENT
DTSTART;TZID=Europe/London:20230901T090000
DTEND;TZID=Europe/London:20230901T110000
DTSTAMP:20260420T050837
CREATED:20230708T140038Z
LAST-MODIFIED:20230708T140042Z
UID:8812-1693558800-1693566000@monyash.info
SUMMARY:Tea and Tots
DESCRIPTION:Tea and Tots is a playgroup\, aimed at babies and preschoolers\, for local families and friends to get together for a cuppa\, chat and play! Whilst we are aimed at preschool ages\, anyone is welcome to pop in and join us.Tea coffee\, snacks and a variety of toys are provided. Parents are responsible for their children whilst there.Hope to see you soon!
URL:https://monyash.info/event/tea-and-tots-9/
LOCATION:Monyash Village Hall\, Church Street\, Monyash\, DE45 1JH
END:VEVENT
BEGIN:VEVENT
DTSTART;TZID=Europe/London:20230901T000000
DTEND;TZID=Europe/London:20230901T235959
DTSTAMP:20260420T050837
CREATED:20220125T151151Z
LAST-MODIFIED:20220125T155017Z
UID:5223-1693526400-1693612799@monyash.info
SUMMARY:Last day of school summer holiday
DESCRIPTION:
URL:https://monyash.info/event/last-day-of-school-summer-holiday-5/
LOCATION:Monyash Primary School\, Church Street\, Monyash\, DE45 1JH
END:VEVENT
BEGIN:VEVENT
DTSTART;TZID=Europe/London:20230831T000000
DTEND;TZID=Europe/London:20230831T235959
DTSTAMP:20260420T050837
CREATED:20230109T153134Z
LAST-MODIFIED:20230423T120753Z
UID:7613-1693440000-1693526399@monyash.info
SUMMARY:Domestic bins emptied a day later
DESCRIPTION:Domestic bins will be emptied a day later than usual. For most of us\, this means green (if you subscribe to the garden waste scheme) and blue bins emptied on Thursday 31st August.
URL:https://monyash.info/event/domestic-bins-emptied-a-day-later-19/
END:VEVENT
BEGIN:VEVENT
DTSTART;TZID=Europe/London:20230829T180000
DTEND;TZID=Europe/London:20230829T190000
DTSTAMP:20260420T050837
CREATED:20230609T075111Z
LAST-MODIFIED:20230609T075114Z
UID:8482-1693332000-1693335600@monyash.info
SUMMARY:Pilates
DESCRIPTION:Classes by Caroline Webster \n\n\n\nMore details on our Pilates and Yoga page
URL:https://monyash.info/event/pilates-119/
LOCATION:Monyash Village Hall\, Church Street\, Monyash\, DE45 1JH
END:VEVENT
BEGIN:VEVENT
DTSTART;TZID=Europe/London:20230829T140000
DTEND;TZID=Europe/London:20230829T160000
DTSTAMP:20260420T050837
CREATED:20230609T125927Z
LAST-MODIFIED:20230609T125929Z
UID:8514-1693317600-1693324800@monyash.info
SUMMARY:Monyash Quilters
DESCRIPTION:A friendly group with a wide range of creative talent who love making beautiful quilts and anything crafty. Drop into one of our weekly meetings as a taster to see what we do and if we can tempt you to join.
URL:https://monyash.info/event/monyash-quilters-19/
LOCATION:Monyash Village Hall\, Church Street\, Monyash\, DE45 1JH
END:VEVENT
BEGIN:VEVENT
DTSTART;TZID=Europe/London:20230828T191500
DTEND;TZID=Europe/London:20230828T203000
DTSTAMP:20260420T050837
CREATED:20230610T135053Z
LAST-MODIFIED:20230610T135056Z
UID:8570-1693250100-1693254600@monyash.info
SUMMARY:Hatha Yoga
DESCRIPTION:Classes by Caroline Webster \n\n\n\nMore details on our Pilates and Yoga page
URL:https://monyash.info/event/hatha-yoga-18/
LOCATION:Taddington Institute\, Bramwell Memorial Institute\, Main Road\, Taddington\, SK17 9TU
END:VEVENT
BEGIN:VEVENT
DTSTART;TZID=Europe/London:20230828T180000
DTEND;TZID=Europe/London:20230828T190000
DTSTAMP:20260420T050837
CREATED:20230610T134841Z
LAST-MODIFIED:20230610T134844Z
UID:8568-1693245600-1693249200@monyash.info
SUMMARY:Pilates
DESCRIPTION:Classes by Caroline Webster \n\n\n\nMore details on our Pilates and Yoga page
URL:https://monyash.info/event/pilates-132/
END:VEVENT
BEGIN:VEVENT
DTSTART;TZID=Europe/London:20230826T090000
DTEND;TZID=Europe/London:20230826T090000
DTSTAMP:20260420T050837
CREATED:20230521T140132Z
LAST-MODIFIED:20230521T140134Z
UID:8371-1693040400-1693040400@monyash.info
SUMMARY:Test M
DESCRIPTION:Test event to check the behaviour of The Events Calendar for events created across Daylight Savings changes.
URL:https://monyash.info/event/test-m/
END:VEVENT
BEGIN:VEVENT
DTSTART;TZID=Europe/London:20230823T111500
DTEND;TZID=Europe/London:20230823T114500
DTSTAMP:20260420T050837
CREATED:20230703T103709Z
LAST-MODIFIED:20230731T104622Z
UID:8745-1692789300-1692791100@monyash.info
SUMMARY:Mobile Library
DESCRIPTION:Full details of the mobile library service including a county-wide schedule are on this page on the County Council website.
URL:https://monyash.info/event/mobile-library-51/
LOCATION:The Square\, The Square\, Monyash\, DE45 1JH
END:VEVENT
BEGIN:VEVENT
DTSTART;TZID=Europe/London:20230822T180000
DTEND;TZID=Europe/London:20230822T190000
DTSTAMP:20260420T050837
CREATED:20230609T075006Z
LAST-MODIFIED:20230609T075009Z
UID:8480-1692727200-1692730800@monyash.info
SUMMARY:Pilates
DESCRIPTION:Classes by Caroline Webster \n\n\n\nMore details on our Pilates and Yoga page
URL:https://monyash.info/event/pilates-118/
LOCATION:Monyash Village Hall\, Church Street\, Monyash\, DE45 1JH
END:VEVENT
BEGIN:VEVENT
DTSTART;TZID=Europe/London:20230822T140000
DTEND;TZID=Europe/London:20230822T160000
DTSTAMP:20260420T050837
CREATED:20230609T125844Z
LAST-MODIFIED:20230609T125845Z
UID:8512-1692712800-1692720000@monyash.info
SUMMARY:Monyash Quilters
DESCRIPTION:A friendly group with a wide range of creative talent who love making beautiful quilts and anything crafty. Drop into one of our weekly meetings as a taster to see what we do and if we can tempt you to join.
URL:https://monyash.info/event/monyash-quilters-18/
LOCATION:Monyash Village Hall\, Church Street\, Monyash\, DE45 1JH
END:VEVENT
BEGIN:VEVENT
DTSTART;TZID=Europe/London:20230821T191500
DTEND;TZID=Europe/London:20230821T203000
DTSTAMP:20260420T050837
CREATED:20230610T135148Z
LAST-MODIFIED:20230610T135149Z
UID:8572-1692645300-1692649800@monyash.info
SUMMARY:Hatha Yoga
DESCRIPTION:Classes by Caroline Webster \n\n\n\nMore details on our Pilates and Yoga page
URL:https://monyash.info/event/hatha-yoga-19/
LOCATION:Taddington Institute\, Bramwell Memorial Institute\, Main Road\, Taddington\, SK17 9TU
END:VEVENT
BEGIN:VEVENT
DTSTART;TZID=Europe/London:20230821T180000
DTEND;TZID=Europe/London:20230821T190000
DTSTAMP:20260420T050837
CREATED:20230610T134746Z
LAST-MODIFIED:20230610T134749Z
UID:8566-1692640800-1692644400@monyash.info
SUMMARY:Pilates
DESCRIPTION:Classes by Caroline Webster \n\n\n\nMore details on our Pilates and Yoga page
URL:https://monyash.info/event/pilates-131/
LOCATION:Taddington Institute\, Bramwell Memorial Institute\, Main Road\, Taddington\, SK17 9TU
END:VEVENT
BEGIN:VEVENT
DTSTART;TZID=Europe/London:20230818T140000
DTEND;TZID=Europe/London:20230818T153000
DTSTAMP:20260420T050837
CREATED:20230609T125033Z
LAST-MODIFIED:20230609T125036Z
UID:8496-1692367200-1692372600@monyash.info
SUMMARY:Crafternoon
DESCRIPTION:Tea & Cake\, Crafts and Chat – what’s not to like?!
URL:https://monyash.info/event/crafternoon-63/
LOCATION:Monyash Village Hall\, Church Street\, Monyash\, DE45 1JH
END:VEVENT
BEGIN:VEVENT
DTSTART;TZID=Europe/London:20230816T080000
DTEND;TZID=Europe/London:20230818T180000
DTSTAMP:20260420T050837
CREATED:20230731T131614Z
LAST-MODIFIED:20230731T151803Z
UID:8956-1692172800-1692381600@monyash.info
SUMMARY:Chapel Street roadworks closure
DESCRIPTION:Chapel Street will be closed between The Grange and Townend Farmhouse to facilitate a new water connection.  Details on the roadworks website here. You can read or download the County Council closure notice here.
URL:https://monyash.info/event/chapel-street-roadworks-closure-2/
END:VEVENT
END:VCALENDAR