BEGIN:VCALENDAR
VERSION:2.0
PRODID:-//Monyash Village - ECPv6.15.20//NONSGML v1.0//EN
CALSCALE:GREGORIAN
METHOD:PUBLISH
X-ORIGINAL-URL:https://monyash.info
X-WR-CALDESC:Events for Monyash Village
REFRESH-INTERVAL;VALUE=DURATION:PT1H
X-Robots-Tag:noindex
X-PUBLISHED-TTL:PT1H
BEGIN:VTIMEZONE
TZID:Europe/London
BEGIN:DAYLIGHT
TZOFFSETFROM:+0000
TZOFFSETTO:+0100
TZNAME:BST
DTSTART:20240331T010000
END:DAYLIGHT
BEGIN:STANDARD
TZOFFSETFROM:+0100
TZOFFSETTO:+0000
TZNAME:GMT
DTSTART:20241027T010000
END:STANDARD
BEGIN:DAYLIGHT
TZOFFSETFROM:+0000
TZOFFSETTO:+0100
TZNAME:BST
DTSTART:20250330T010000
END:DAYLIGHT
BEGIN:STANDARD
TZOFFSETFROM:+0100
TZOFFSETTO:+0000
TZNAME:GMT
DTSTART:20251026T010000
END:STANDARD
BEGIN:DAYLIGHT
TZOFFSETFROM:+0000
TZOFFSETTO:+0100
TZNAME:BST
DTSTART:20260329T010000
END:DAYLIGHT
BEGIN:STANDARD
TZOFFSETFROM:+0100
TZOFFSETTO:+0000
TZNAME:GMT
DTSTART:20261025T010000
END:STANDARD
END:VTIMEZONE
BEGIN:VEVENT
DTSTART;TZID=Europe/London:20250908T093000
DTEND;TZID=Europe/London:20250908T103000
DTSTAMP:20260420T080413
CREATED:20250622T132052Z
LAST-MODIFIED:20250622T132054Z
UID:13297-1757323800-1757327400@monyash.info
SUMMARY:Beginners' Pilates
DESCRIPTION:Classes by Caroline Webster \n\n\n\nMore details on our Pilates and Yoga page
URL:https://monyash.info/event/beginners-pilates-28/
LOCATION:Monyash Village Hall\, Church Street\, Monyash\, DE45 1JH
END:VEVENT
BEGIN:VEVENT
DTSTART;TZID=Europe/London:20250908T170000
DTEND;TZID=Europe/London:20250908T170000
DTSTAMP:20260420T080413
CREATED:20250622T144702Z
LAST-MODIFIED:20250831T160256Z
UID:13354-1757350800-1757350800@monyash.info
SUMMARY:No Iyengar Yoga
DESCRIPTION:Classes by Dave Swinhoe \n\n\n\nOver the summer\, classes will be fortnightly (14/7\, 28/7 11/8\, 25/8 with a break in September) for two hours from 5pm\, costing £15. Back to weekly starting 5:30pm from 22nd September at £8. \n\n\n\nMore details about Iyengar Yoga on the IYUK website
URL:https://monyash.info/event/iyengar-yoga-90/
LOCATION:Monyash Village Hall\, Church Street\, Monyash\, DE45 1JH
END:VEVENT
BEGIN:VEVENT
DTSTART;TZID=Europe/London:20250909T140000
DTEND;TZID=Europe/London:20250909T160000
DTSTAMP:20260420T080413
CREATED:20250622T152058Z
LAST-MODIFIED:20250622T152100Z
UID:13378-1757426400-1757433600@monyash.info
SUMMARY:Monyash Quilters
DESCRIPTION:A friendly group with a wide range of creative talent who love making beautiful quilts and anything crafty. Drop into one of our weekly meetings as a taster to see what we do and if we can tempt you to join.
URL:https://monyash.info/event/monyash-quilters-120/
LOCATION:Monyash Village Hall\, Church Street\, Monyash\, DE45 1JH
END:VEVENT
BEGIN:VEVENT
DTSTART;TZID=Europe/London:20250909T180000
DTEND;TZID=Europe/London:20250909T190000
DTSTAMP:20260420T080413
CREATED:20250622T135926Z
LAST-MODIFIED:20250622T140119Z
UID:13321-1757440800-1757444400@monyash.info
SUMMARY:Pilates
DESCRIPTION:Classes by Caroline Webster \n\n\n\nMore details on our Pilates and Yoga page
URL:https://monyash.info/event/pilates-240/
LOCATION:Monyash Village Hall\, Church Street\, Monyash\, DE45 1JH
END:VEVENT
BEGIN:VEVENT
DTSTART;TZID=Europe/London:20250910T180000
DTEND;TZID=Europe/London:20250910T191500
DTSTAMP:20260420T080413
CREATED:20250622T140928Z
LAST-MODIFIED:20250622T140930Z
UID:13335-1757527200-1757531700@monyash.info
SUMMARY:Hatha Yoga
DESCRIPTION:Hatha Yoga ending with Yoga Nidra relaxationClasses by Caroline WebsterMore details on our Pilates and Yoga page
URL:https://monyash.info/event/hatha-yoga-120/
LOCATION:Monyash Village Hall\, Church Street\, Monyash\, DE45 1JH
END:VEVENT
BEGIN:VEVENT
DTSTART;TZID=Europe/London:20250911T213000
DTEND;TZID=Europe/London:20250911T214500
DTSTAMP:20260420T080413
CREATED:20250622T155031Z
LAST-MODIFIED:20250622T155034Z
UID:13406-1757626200-1757627100@monyash.info
SUMMARY:Pub Quiz
DESCRIPTION:Quiz night at the pub every Thursday starting 9:30-9:45. 50p/person entry fee. Winnings £25 per team\, but you have to set the quiz the following weekFollowed by Play Your Cards Right🃏♠️❤️♦️♣️🃏
URL:https://monyash.info/event/pub-quiz-27/
LOCATION:The Bull’s Head\, The Square\, Monyash\, DE45 1JH
END:VEVENT
BEGIN:VEVENT
DTSTART;TZID=Europe/London:20250912T151500
DTEND;TZID=Europe/London:20250912T164500
DTSTAMP:20260420T080413
CREATED:20250622T154350Z
LAST-MODIFIED:20250622T154353Z
UID:13394-1757690100-1757695500@monyash.info
SUMMARY:Messy Church
DESCRIPTION:Messy Church is straight after school\, usually on the 2nd Friday of the month.£2 per child\, incuding food and squash.Children must be accompanied by an adult.
URL:https://monyash.info/event/messy-church-14/
LOCATION:Monyash Methodist Chapel\, Chapel Street\, Monyash\, DE45 1JJ
END:VEVENT
BEGIN:VEVENT
DTSTART;TZID=Europe/London:20250914T110000
DTEND;TZID=Europe/London:20250914T160000
DTSTAMP:20260420T080413
CREATED:20250831T135649Z
LAST-MODIFIED:20250831T135652Z
UID:13755-1757847600-1757865600@monyash.info
SUMMARY:Magpie Mine Open Day
DESCRIPTION:Heritage Day at Magpie Mine\, the last working lead mine in England which closed in 1958. Tours last 1 hour\, no pre-booking required.More details at this webpage: www.heritageopendays.org.uk/submission-event/magpie-mine-2025.html
URL:https://monyash.info/event/magpie-mine-open-day/
LOCATION:Magpie Mine\, Sheldon\, Derbyshire\, DE45 1QU\, United Kingdom
END:VEVENT
BEGIN:VEVENT
DTSTART;TZID=Europe/London:20250914T120000
DTEND;TZID=Europe/London:20250914T150000
DTSTAMP:20260420T080413
CREATED:20250831T133749Z
LAST-MODIFIED:20250831T133752Z
UID:13748-1757851200-1757862000@monyash.info
SUMMARY:Grindleford Goat
DESCRIPTION:Charity bike ride coming through Monyash. The organisers expect 250-300 riders coming through the village\, mostly between 12:00 and 15:00. The feeding station will be near the bus shelter – please come and say hello. \n\n\n\nThe charity website is here: www.grindlefordgoat.co.uk \n\n\n\nThe charity’s aims etc. are listed on the Charity Commission website on this page:https://register-of-charities.charitycommission.gov.uk/charity-search/-/charity-details/5212153
URL:https://monyash.info/event/grindleford-goat-4/
LOCATION:Village Green\, Village Green\, Monyash\, DE45 1JH
END:VEVENT
BEGIN:VEVENT
DTSTART;TZID=Europe/London:20250915T093000
DTEND;TZID=Europe/London:20250915T103000
DTSTAMP:20260420T080413
CREATED:20250622T132155Z
LAST-MODIFIED:20250622T132159Z
UID:13299-1757928600-1757932200@monyash.info
SUMMARY:Beginners' Pilates
DESCRIPTION:Classes by Caroline Webster \n\n\n\nMore details on our Pilates and Yoga page
URL:https://monyash.info/event/beginners-pilates-29/
LOCATION:Monyash Village Hall\, Church Street\, Monyash\, DE45 1JH
END:VEVENT
BEGIN:VEVENT
DTSTART;TZID=Europe/London:20250915T170000
DTEND;TZID=Europe/London:20250915T170000
DTSTAMP:20260420T080413
CREATED:20250622T144801Z
LAST-MODIFIED:20250831T160343Z
UID:13356-1757955600-1757955600@monyash.info
SUMMARY:No Iyengar Yoga
DESCRIPTION:Classes by Dave Swinhoe \n\n\n\nOver the summer\, classes will be fortnightly (14/7\, 28/7 11/8\, 25/8 with a break in September) for two hours from 5pm\, costing £15. Back to weekly starting 5:30pm from 22nd September at £8. \n\n\n\nMore details about Iyengar Yoga on the IYUK website
URL:https://monyash.info/event/iyengar-yoga-91/
LOCATION:Monyash Village Hall\, Church Street\, Monyash\, DE45 1JH
END:VEVENT
BEGIN:VEVENT
DTSTART;TZID=Europe/London:20250916T140000
DTEND;TZID=Europe/London:20250916T160000
DTSTAMP:20260420T080413
CREATED:20250622T152151Z
LAST-MODIFIED:20250622T152156Z
UID:13380-1758031200-1758038400@monyash.info
SUMMARY:Monyash Quilters
DESCRIPTION:A friendly group with a wide range of creative talent who love making beautiful quilts and anything crafty. Drop into one of our weekly meetings as a taster to see what we do and if we can tempt you to join.
URL:https://monyash.info/event/monyash-quilters-121/
LOCATION:Monyash Village Hall\, Church Street\, Monyash\, DE45 1JH
END:VEVENT
BEGIN:VEVENT
DTSTART;TZID=Europe/London:20250916T180000
DTEND;TZID=Europe/London:20250916T190000
DTSTAMP:20260420T080413
CREATED:20250622T135137Z
LAST-MODIFIED:20250622T135140Z
UID:13315-1758045600-1758049200@monyash.info
SUMMARY:Pilates
DESCRIPTION:Classes by Caroline Webster \n\n\n\nMore details on our Pilates and Yoga page
URL:https://monyash.info/event/pilates-237/
LOCATION:Monyash Village Hall\, Church Street\, Monyash\, DE45 1JH
END:VEVENT
BEGIN:VEVENT
DTSTART;TZID=Europe/London:20250917T111500
DTEND;TZID=Europe/London:20250917T114500
DTSTAMP:20260420T080413
CREATED:20250622T151343Z
LAST-MODIFIED:20250622T151346Z
UID:13366-1758107700-1758109500@monyash.info
SUMMARY:Mobile Library
DESCRIPTION:Full details of the mobile library service including a county-wide schedule are on this page on the County Council website.
URL:https://monyash.info/event/mobile-library-77/
LOCATION:Village Green\, Village Green\, Monyash\, DE45 1JH
END:VEVENT
BEGIN:VEVENT
DTSTART;TZID=Europe/London:20250917T180000
DTEND;TZID=Europe/London:20250917T191500
DTSTAMP:20260420T080413
CREATED:20250622T141026Z
LAST-MODIFIED:20250622T141029Z
UID:13337-1758132000-1758136500@monyash.info
SUMMARY:Hatha Yoga
DESCRIPTION:Hatha Yoga ending with Yoga Nidra relaxationClasses by Caroline WebsterMore details on our Pilates and Yoga page
URL:https://monyash.info/event/hatha-yoga-121/
LOCATION:Monyash Village Hall\, Church Street\, Monyash\, DE45 1JH
END:VEVENT
BEGIN:VEVENT
DTSTART;TZID=Europe/London:20250918T213000
DTEND;TZID=Europe/London:20250918T214500
DTSTAMP:20260420T080413
CREATED:20250622T155128Z
LAST-MODIFIED:20250622T155131Z
UID:13408-1758231000-1758231900@monyash.info
SUMMARY:Pub Quiz
DESCRIPTION:Quiz night at the pub every Thursday starting 9:30-9:45. 50p/person entry fee. Winnings £25 per team\, but you have to set the quiz the following weekFollowed by Play Your Cards Right🃏♠️❤️♦️♣️🃏
URL:https://monyash.info/event/pub-quiz-28/
LOCATION:The Bull’s Head\, The Square\, Monyash\, DE45 1JH
END:VEVENT
BEGIN:VEVENT
DTSTART;TZID=Europe/London:20250919T140000
DTEND;TZID=Europe/London:20250919T153000
DTSTAMP:20260420T080413
CREATED:20250622T152914Z
LAST-MODIFIED:20250622T152916Z
UID:13392-1758290400-1758295800@monyash.info
SUMMARY:Crafternoon
DESCRIPTION:Tea & Cake\, Crafts and Chat – what’s not to like!?
URL:https://monyash.info/event/crafternoon-115/
LOCATION:Monyash Village Hall\, Church Street\, Monyash\, DE45 1JH
END:VEVENT
BEGIN:VEVENT
DTSTART;TZID=Europe/London:20250921T183000
DTEND;TZID=Europe/London:20250921T183000
DTSTAMP:20260420T080413
CREATED:20250915T151201Z
LAST-MODIFIED:20250915T151208Z
UID:13995-1758479400-1758479400@monyash.info
SUMMARY:Reflection – Chapel service
DESCRIPTION:“Reflection” is usually on the third Sunday in the month. Everyone is very welcome to attend.
URL:https://monyash.info/event/reflection-chapel-service-9/
LOCATION:Monyash Methodist Chapel\, Chapel Street\, Monyash\, DE45 1JJ
END:VEVENT
BEGIN:VEVENT
DTSTART;TZID=Europe/London:20250922T093000
DTEND;TZID=Europe/London:20250922T103000
DTSTAMP:20260420T080413
CREATED:20250622T132255Z
LAST-MODIFIED:20250622T132257Z
UID:13301-1758533400-1758537000@monyash.info
SUMMARY:Beginners' Pilates
DESCRIPTION:Classes by Caroline Webster \n\n\n\nMore details on our Pilates and Yoga page
URL:https://monyash.info/event/beginners-pilates-30/
LOCATION:Monyash Village Hall\, Church Street\, Monyash\, DE45 1JH
END:VEVENT
BEGIN:VEVENT
DTSTART;TZID=Europe/London:20250922T173000
DTEND;TZID=Europe/London:20250922T184500
DTSTAMP:20260420T080413
CREATED:20250622T144901Z
LAST-MODIFIED:20250622T144905Z
UID:13358-1758562200-1758566700@monyash.info
SUMMARY:Iyengar Yoga
DESCRIPTION:Classes by Dave Swinhoe \n\n\n\nMore details about Iyengar Yoga on the IYUK website
URL:https://monyash.info/event/iyengar-yoga-92/
LOCATION:Monyash Village Hall\, Church Street\, Monyash\, DE45 1JH
END:VEVENT
BEGIN:VEVENT
DTSTART;TZID=Europe/London:20250923T140000
DTEND;TZID=Europe/London:20250923T160000
DTSTAMP:20260420T080413
CREATED:20250622T152237Z
LAST-MODIFIED:20250622T152239Z
UID:13382-1758636000-1758643200@monyash.info
SUMMARY:Monyash Quilters
DESCRIPTION:A friendly group with a wide range of creative talent who love making beautiful quilts and anything crafty. Drop into one of our weekly meetings as a taster to see what we do and if we can tempt you to join.
URL:https://monyash.info/event/monyash-quilters-122/
LOCATION:Monyash Village Hall\, Church Street\, Monyash\, DE45 1JH
END:VEVENT
BEGIN:VEVENT
DTSTART;TZID=Europe/London:20250923T180000
DTEND;TZID=Europe/London:20250923T190000
DTSTAMP:20260420T080413
CREATED:20250622T135227Z
LAST-MODIFIED:20250622T135712Z
UID:13317-1758650400-1758654000@monyash.info
SUMMARY:Pilates
DESCRIPTION:Classes by Caroline Webster \n\n\n\nMore details on our Pilates and Yoga page
URL:https://monyash.info/event/pilates-238/
LOCATION:Monyash Village Hall\, Church Street\, Monyash\, DE45 1JH
END:VEVENT
BEGIN:VEVENT
DTSTART;TZID=Europe/London:20250924T000000
DTEND;TZID=Europe/London:20250924T235959
DTSTAMP:20260420T080413
CREATED:20250917T102319Z
LAST-MODIFIED:20250917T102322Z
UID:14018-1758672000-1758758399@monyash.info
SUMMARY:Cafe closed for funeral
DESCRIPTION:The Old Smithy will be closed on Wednesday 24th September as a mark of respect for Sara Little\, who died in August aged just 28\, leaving her 3-year-old daughter Rose. There’s a fundraiser to help pay for Sara’s funeral and establish a trust for Rose.  If you would like to contribute\, please visit this GoFundMe page https://www.gofundme.com/f/sara-little
URL:https://monyash.info/event/cafe-closed-for-funeral/
END:VEVENT
BEGIN:VEVENT
DTSTART;TZID=Europe/London:20250924T180000
DTEND;TZID=Europe/London:20250924T191500
DTSTAMP:20260420T080413
CREATED:20250622T141131Z
LAST-MODIFIED:20250622T141133Z
UID:13339-1758736800-1758741300@monyash.info
SUMMARY:Hatha Yoga
DESCRIPTION:Hatha Yoga ending with Yoga Nidra relaxationClasses by Caroline WebsterMore details on our Pilates and Yoga page
URL:https://monyash.info/event/hatha-yoga-122/
LOCATION:Monyash Village Hall\, Church Street\, Monyash\, DE45 1JH
END:VEVENT
BEGIN:VEVENT
DTSTART;TZID=Europe/London:20250925T100000
DTEND;TZID=Europe/London:20250925T100000
DTSTAMP:20260420T080413
CREATED:20250917T103030Z
LAST-MODIFIED:20250917T103033Z
UID:14026-1758794400-1758794400@monyash.info
SUMMARY:Cafe reopens after funeral
DESCRIPTION:The Old Smithy is open\, following a one-day closure as a mark of respect for Sara Little.  Sara died in August aged just 28\, leaving her 3-year-old daughter Rose.There’s a fundraiser to help pay for Sara’s funeral and establish a trust for Rose. If you would like to contribute\, please visit this GoFundMe page https://www.gofundme.com/f/sara-little
URL:https://monyash.info/event/cafe-reopens-after-funeral/
LOCATION:The Old Smithy\, Church Street\, Monyash\, Bakewell\, Derbyshire\, DE45 1JH
END:VEVENT
BEGIN:VEVENT
DTSTART;TZID=Europe/London:20250925T213000
DTEND;TZID=Europe/London:20250925T214500
DTSTAMP:20260420T080413
CREATED:20250622T155223Z
LAST-MODIFIED:20250622T155225Z
UID:13410-1758835800-1758836700@monyash.info
SUMMARY:Pub Quiz
DESCRIPTION:Quiz night at the pub every Thursday starting 9:30-9:45. 50p/person entry fee. Winnings £25 per team\, but you have to set the quiz the following weekFollowed by Play Your Cards Right🃏♠️❤️♦️♣️🃏
URL:https://monyash.info/event/pub-quiz-29/
LOCATION:The Bull’s Head\, The Square\, Monyash\, DE45 1JH
END:VEVENT
BEGIN:VEVENT
DTSTART;TZID=Europe/London:20250929T000000
DTEND;TZID=Europe/London:20251006T235959
DTSTAMP:20260420T080413
CREATED:20250915T173332Z
LAST-MODIFIED:20250915T173338Z
UID:14010-1759104000-1759795199@monyash.info
SUMMARY:Pub closed for a holiday
DESCRIPTION:
URL:https://monyash.info/event/pub-closed-for-a-holiday/
LOCATION:The Bull’s Head\, The Square\, Monyash\, DE45 1JH
END:VEVENT
BEGIN:VEVENT
DTSTART;TZID=Europe/London:20250929T093000
DTEND;TZID=Europe/London:20250929T093000
DTSTAMP:20260420T080413
CREATED:20250622T132358Z
LAST-MODIFIED:20250831T200757Z
UID:13303-1759138200-1759138200@monyash.info
SUMMARY:No Beginners' Pilates
DESCRIPTION:Beginners’ Pilates is taking a short break this week. \n\n\n\nClasses by Caroline Webster resume week commencing 6th October \n\n\n\nMore details on our Pilates and Yoga page
URL:https://monyash.info/event/beginners-pilates-31/
LOCATION:Monyash Village Hall\, Church Street\, Monyash\, DE45 1JH
END:VEVENT
BEGIN:VEVENT
DTSTART;TZID=Europe/London:20250929T173000
DTEND;TZID=Europe/London:20250929T184500
DTSTAMP:20260420T080413
CREATED:20250622T145026Z
LAST-MODIFIED:20250622T145029Z
UID:13360-1759167000-1759171500@monyash.info
SUMMARY:Iyengar Yoga
DESCRIPTION:Classes by Dave Swinhoe \n\n\n\nMore details about Iyengar Yoga on the IYUK website
URL:https://monyash.info/event/iyengar-yoga-93/
LOCATION:Monyash Village Hall\, Church Street\, Monyash\, DE45 1JH
END:VEVENT
BEGIN:VEVENT
DTSTART;TZID=Europe/London:20250930T140000
DTEND;TZID=Europe/London:20250930T160000
DTSTAMP:20260420T080413
CREATED:20250622T152325Z
LAST-MODIFIED:20250622T152327Z
UID:13384-1759240800-1759248000@monyash.info
SUMMARY:Monyash Quilters
DESCRIPTION:A friendly group with a wide range of creative talent who love making beautiful quilts and anything crafty. Drop into one of our weekly meetings as a taster to see what we do and if we can tempt you to join.
URL:https://monyash.info/event/monyash-quilters-123/
LOCATION:Monyash Village Hall\, Church Street\, Monyash\, DE45 1JH
END:VEVENT
END:VCALENDAR