BEGIN:VCALENDAR
VERSION:2.0
PRODID:-//Monyash Village - ECPv6.15.20//NONSGML v1.0//EN
CALSCALE:GREGORIAN
METHOD:PUBLISH
X-WR-CALNAME:Monyash Village
X-ORIGINAL-URL:https://monyash.info
X-WR-CALDESC:Events for Monyash Village
REFRESH-INTERVAL;VALUE=DURATION:PT1H
X-Robots-Tag:noindex
X-PUBLISHED-TTL:PT1H
BEGIN:VTIMEZONE
TZID:Europe/London
BEGIN:DAYLIGHT
TZOFFSETFROM:+0000
TZOFFSETTO:+0100
TZNAME:BST
DTSTART:20230326T010000
END:DAYLIGHT
BEGIN:STANDARD
TZOFFSETFROM:+0100
TZOFFSETTO:+0000
TZNAME:GMT
DTSTART:20231029T010000
END:STANDARD
BEGIN:DAYLIGHT
TZOFFSETFROM:+0000
TZOFFSETTO:+0100
TZNAME:BST
DTSTART:20240331T010000
END:DAYLIGHT
BEGIN:STANDARD
TZOFFSETFROM:+0100
TZOFFSETTO:+0000
TZNAME:GMT
DTSTART:20241027T010000
END:STANDARD
BEGIN:DAYLIGHT
TZOFFSETFROM:+0000
TZOFFSETTO:+0100
TZNAME:BST
DTSTART:20250330T010000
END:DAYLIGHT
BEGIN:STANDARD
TZOFFSETFROM:+0100
TZOFFSETTO:+0000
TZNAME:GMT
DTSTART:20251026T010000
END:STANDARD
END:VTIMEZONE
BEGIN:VEVENT
DTSTART;TZID=Europe/London:20240319T180000
DTEND;TZID=Europe/London:20240319T190000
DTSTAMP:20260420T001743
CREATED:20240101T151359Z
LAST-MODIFIED:20240101T151402Z
UID:9782-1710871200-1710874800@monyash.info
SUMMARY:Pilates
DESCRIPTION:Classes by Caroline Webster \n\n\n\nMore details on our Pilates and Yoga page
URL:https://monyash.info/event/pilates-162/
LOCATION:Monyash Village Hall\, Church Street\, Monyash\, DE45 1JH
END:VEVENT
BEGIN:VEVENT
DTSTART;TZID=Europe/London:20240319T140000
DTEND;TZID=Europe/London:20240319T160000
DTSTAMP:20260420T001743
CREATED:20240101T155040Z
LAST-MODIFIED:20240101T155042Z
UID:9808-1710856800-1710864000@monyash.info
SUMMARY:Monyash Quilters
DESCRIPTION:A friendly group with a wide range of creative talent who love making beautiful quilts and anything crafty. Drop into one of our weekly meetings as a taster to see what we do and if we can tempt you to join.
URL:https://monyash.info/event/monyash-quilters-46/
LOCATION:Monyash Village Hall\, Church Street\, Monyash\, DE45 1JH
END:VEVENT
BEGIN:VEVENT
DTSTART;TZID=Europe/London:20240318T173000
DTEND;TZID=Europe/London:20240318T184500
DTSTAMP:20260420T001743
CREATED:20240101T153343Z
LAST-MODIFIED:20240101T153347Z
UID:9790-1710783000-1710787500@monyash.info
SUMMARY:Iyengar Yoga
DESCRIPTION:Classes by Dave Swinhoe \n\n\n\nMore details about Iyengar Yoga on the IYUK website
URL:https://monyash.info/event/iyengar-yoga-20/
LOCATION:Monyash Village Hall\, Church Street\, Monyash\, DE45 1JH
END:VEVENT
BEGIN:VEVENT
DTSTART;TZID=Europe/London:20240317T180000
DTEND;TZID=Europe/London:20240317T180000
DTSTAMP:20260420T001743
CREATED:20240109T111306Z
LAST-MODIFIED:20240109T111310Z
UID:9853-1710698400-1710698400@monyash.info
SUMMARY:Reflection - Chapel service
DESCRIPTION:“Reflection” is usually on the third Sunday in the month\, from 6-6:45pm
URL:https://monyash.info/event/reflection-chapel-service-3/
LOCATION:Monyash Methodist Chapel\, Chapel Street\, Monyash\, DE45 1JJ
END:VEVENT
BEGIN:VEVENT
DTSTART;TZID=Europe/London:20240316T090000
DTEND;TZID=Europe/London:20240316T090000
DTSTAMP:20260420T001743
CREATED:20240306T160007Z
LAST-MODIFIED:20240306T160010Z
UID:10225-1710579600-1710579600@monyash.info
SUMMARY:Village Litter Pick
DESCRIPTION:Village Litter Pick to coincide with the Great British Spring Clean.  Meet at the Village Green at 09:00.  Litter pickers and bags will be supplied\, but please let Jo know if you can help as she would like to know volunteer numbers.
URL:https://monyash.info/event/village-litter-pick/
LOCATION:Village Green\, Village Green\, Monyash\, DE45 1JH
END:VEVENT
BEGIN:VEVENT
DTSTART;TZID=Europe/London:20240315T140000
DTEND;TZID=Europe/London:20240315T153000
DTSTAMP:20260420T001743
CREATED:20240101T155807Z
LAST-MODIFIED:20240117T215751Z
UID:9814-1710511200-1710516600@monyash.info
SUMMARY:Crafternoon
DESCRIPTION:Tea & Cake\, Crafts and Chat – what’s not to like?!
URL:https://monyash.info/event/crafternoon-77/
LOCATION:Monyash Village Hall\, Church Street\, Monyash\, DE45 1JH
END:VEVENT
BEGIN:VEVENT
DTSTART;TZID=Europe/London:20240315T113000
DTEND;TZID=Europe/London:20240315T113000
DTSTAMP:20260420T001743
CREATED:20240310T120850Z
LAST-MODIFIED:20240311T165839Z
UID:10297-1710502200-1710502200@monyash.info
SUMMARY:Jumble Collection
DESCRIPTION:The Village Hall is open for donations for the Jumble Sale to be held on 6th April.Full details on the flyer which you can read or download here.Any questions contact Mandy or Wendy directly or via the Village Hall contact form here.
URL:https://monyash.info/event/jumble-collection/
LOCATION:Monyash Village Hall\, Church Street\, Monyash\, DE45 1JH
END:VEVENT
BEGIN:VEVENT
DTSTART;TZID=Europe/London:20240315T090000
DTEND;TZID=Europe/London:20240315T110000
DTSTAMP:20260420T001743
CREATED:20240101T154233Z
LAST-MODIFIED:20240101T154234Z
UID:9798-1710493200-1710500400@monyash.info
SUMMARY:Tea and tots
DESCRIPTION:Tea and Tots is a playgroup\, aimed at babies and preschoolers\, for local families and friends to get together for a cuppa\, chat and play! Whilst we are aimed at preschool ages\, anyone is welcome to pop in and join us.Tea\, coffee\, snacks and a variety of toys are provided. Parents are responsible for their children whilst there.Hope to see you soon!
URL:https://monyash.info/event/tea-and-tots-34/
LOCATION:Monyash Village Hall\, Church Street\, Monyash\, DE45 1JH
END:VEVENT
BEGIN:VEVENT
DTSTART;TZID=Europe/London:20240314T191500
DTEND;TZID=Europe/London:20240314T203000
DTSTAMP:20260420T001743
CREATED:20240124T213934Z
LAST-MODIFIED:20240124T213937Z
UID:9952-1710443700-1710448200@monyash.info
SUMMARY:Hatha Yoga
DESCRIPTION:Hatha Yoga ending with Yoga Nidra relaxationClasses by Caroline WebsterMore details on our Pilates and Yoga page
URL:https://monyash.info/event/hatha-yoga-45/
LOCATION:Monyash Village Hall\, Church Street\, Monyash\, DE45 1JH
END:VEVENT
BEGIN:VEVENT
DTSTART;TZID=Europe/London:20240313T193000
DTEND;TZID=Europe/London:20240313T203000
DTSTAMP:20260420T001743
CREATED:20240101T150904Z
LAST-MODIFIED:20240101T150906Z
UID:9772-1710358200-1710361800@monyash.info
SUMMARY:Pilates for men
DESCRIPTION:Classes by Caroline Webster \n\n\n\nMore details on our Pilates and Yoga page
URL:https://monyash.info/event/pilates-for-men-16/
LOCATION:Monyash Village Hall\, Church Street\, Monyash\, DE45 1JH
END:VEVENT
BEGIN:VEVENT
DTSTART;TZID=Europe/London:20240312T180000
DTEND;TZID=Europe/London:20240312T190000
DTSTAMP:20260420T001743
CREATED:20240101T151303Z
LAST-MODIFIED:20240101T151305Z
UID:9780-1710266400-1710270000@monyash.info
SUMMARY:Pilates
DESCRIPTION:Classes by Caroline Webster \n\n\n\nMore details on our Pilates and Yoga page
URL:https://monyash.info/event/pilates-158/
LOCATION:Monyash Village Hall\, Church Street\, Monyash\, DE45 1JH
END:VEVENT
BEGIN:VEVENT
DTSTART;TZID=Europe/London:20240312T140000
DTEND;TZID=Europe/London:20240312T160000
DTSTAMP:20260420T001743
CREATED:20240101T154953Z
LAST-MODIFIED:20240101T154956Z
UID:9806-1710252000-1710259200@monyash.info
SUMMARY:Monyash Quilters
DESCRIPTION:A friendly group with a wide range of creative talent who love making beautiful quilts and anything crafty. Drop into one of our weekly meetings as a taster to see what we do and if we can tempt you to join.
URL:https://monyash.info/event/monyash-quilters-45/
LOCATION:Monyash Village Hall\, Church Street\, Monyash\, DE45 1JH
END:VEVENT
BEGIN:VEVENT
DTSTART;TZID=Europe/London:20240311T173000
DTEND;TZID=Europe/London:20240311T184500
DTSTAMP:20260420T001743
CREATED:20240101T153243Z
LAST-MODIFIED:20240101T153246Z
UID:9788-1710178200-1710182700@monyash.info
SUMMARY:Iyengar Yoga
DESCRIPTION:Classes by Dave Swinhoe \n\n\n\nMore details about Iyengar Yoga on the IYUK website
URL:https://monyash.info/event/iyengar-yoga-19/
LOCATION:Monyash Village Hall\, Church Street\, Monyash\, DE45 1JH
END:VEVENT
BEGIN:VEVENT
DTSTART;TZID=Europe/London:20240308T151500
DTEND;TZID=Europe/London:20240308T164500
DTSTAMP:20260420T001743
CREATED:20240109T110807Z
LAST-MODIFIED:20240109T110809Z
UID:9847-1709910900-1709916300@monyash.info
SUMMARY:Messy Church
DESCRIPTION:Messy Church is straight after school\, usually on the 2nd Friday of the month.£2 per child.Children must be accompanied by an adult.
URL:https://monyash.info/event/messy-church-3/
LOCATION:Monyash Methodist Chapel\, Chapel Street\, Monyash\, DE45 1JJ
END:VEVENT
BEGIN:VEVENT
DTSTART;TZID=Europe/London:20240308T090000
DTEND;TZID=Europe/London:20240308T110000
DTSTAMP:20260420T001743
CREATED:20240101T154131Z
LAST-MODIFIED:20240101T154133Z
UID:9796-1709888400-1709895600@monyash.info
SUMMARY:Tea and Tots
DESCRIPTION:Tea and Tots is a playgroup\, aimed at babies and preschoolers\, for local families and friends to get together for a cuppa\, chat and play! Whilst we are aimed at preschool ages\, anyone is welcome to pop in and join us.Tea\, coffee\, snacks and a variety of toys are provided. Parents are responsible for their children whilst there.Hope to see you soon!
URL:https://monyash.info/event/tea-and-tots-33/
LOCATION:Monyash Village Hall\, Church Street\, Monyash\, DE45 1JH
END:VEVENT
BEGIN:VEVENT
DTSTART;TZID=Europe/London:20240307T191500
DTEND;TZID=Europe/London:20240307T203000
DTSTAMP:20260420T001743
CREATED:20240124T213811Z
LAST-MODIFIED:20240124T213814Z
UID:9950-1709838900-1709843400@monyash.info
SUMMARY:Hatha Yoga
DESCRIPTION:Hatha Yoga ending with Yoga Nidra relaxationClasses by Caroline WebsterMore details on our Pilates and Yoga page
URL:https://monyash.info/event/hatha-yoga-44/
LOCATION:Monyash Village Hall\, Church Street\, Monyash\, DE45 1JH
END:VEVENT
BEGIN:VEVENT
DTSTART;TZID=Europe/London:20240306T193000
DTEND;TZID=Europe/London:20240306T203000
DTSTAMP:20260420T001743
CREATED:20240131T211700Z
LAST-MODIFIED:20240131T211703Z
UID:10023-1709753400-1709757000@monyash.info
SUMMARY:Pilates for men
DESCRIPTION:Classes by Caroline Webster \n\n\n\nMore details on our Pilates and Yoga page
URL:https://monyash.info/event/pilates-for-men-19/
LOCATION:Flagg Village Hall\, Mycock Lane\, Flagg\, SK17 9ED
END:VEVENT
BEGIN:VEVENT
DTSTART;TZID=Europe/London:20240306T193000
DTEND;TZID=Europe/London:20240306T193000
DTSTAMP:20260420T001743
CREATED:20231112T151703Z
LAST-MODIFIED:20231112T151705Z
UID:9498-1709753400-1709753400@monyash.info
SUMMARY:WI
DESCRIPTION:Guest speaker\, competition and refreshments.
URL:https://monyash.info/event/wi-40/
LOCATION:Monyash Village Hall\, Church Street\, Monyash\, DE45 1JH
END:VEVENT
BEGIN:VEVENT
DTSTART;TZID=Europe/London:20240306T111500
DTEND;TZID=Europe/London:20240306T114500
DTSTAMP:20260420T001743
CREATED:20240101T161339Z
LAST-MODIFIED:20240101T161342Z
UID:9818-1709723700-1709725500@monyash.info
SUMMARY:Mobile Library
DESCRIPTION:Full details of the mobile library service including a county-wide schedule are on this page on the County Council website.
URL:https://monyash.info/event/mobile-library-58/
LOCATION:Village Green\, Village Green\, Monyash\, DE45 1JH
END:VEVENT
BEGIN:VEVENT
DTSTART;TZID=Europe/London:20240305T180000
DTEND;TZID=Europe/London:20240305T190000
DTSTAMP:20260420T001743
CREATED:20240101T151213Z
LAST-MODIFIED:20240101T151215Z
UID:9778-1709661600-1709665200@monyash.info
SUMMARY:Pilates
DESCRIPTION:Classes by Caroline Webster \n\n\n\nMore details on our Pilates and Yoga page
URL:https://monyash.info/event/pilates-157/
LOCATION:Monyash Village Hall\, Church Street\, Monyash\, DE45 1JH
END:VEVENT
BEGIN:VEVENT
DTSTART;TZID=Europe/London:20240305T140000
DTEND;TZID=Europe/London:20240305T160000
DTSTAMP:20260420T001743
CREATED:20240101T154905Z
LAST-MODIFIED:20240101T154908Z
UID:9804-1709647200-1709654400@monyash.info
SUMMARY:Monyash Quilters
DESCRIPTION:A friendly group with a wide range of creative talent who love making beautiful quilts and anything crafty. Drop into one of our weekly meetings as a taster to see what we do and if we can tempt you to join.
URL:https://monyash.info/event/monyash-quilters-44/
LOCATION:Monyash Village Hall\, Church Street\, Monyash\, DE45 1JH
END:VEVENT
BEGIN:VEVENT
DTSTART;TZID=Europe/London:20240304T190000
DTEND;TZID=Europe/London:20240304T190000
DTSTAMP:20260420T001743
CREATED:20231205T215914Z
LAST-MODIFIED:20231205T215917Z
UID:9685-1709578800-1709578800@monyash.info
SUMMARY:Parish Council meeting
DESCRIPTION:
URL:https://monyash.info/event/parish-council-meeting-54/
LOCATION:Monyash Village Hall\, Church Street\, Monyash\, DE45 1JH
END:VEVENT
BEGIN:VEVENT
DTSTART;TZID=Europe/London:20240304T173000
DTEND;TZID=Europe/London:20240304T184500
DTSTAMP:20260420T001743
CREATED:20240101T153132Z
LAST-MODIFIED:20240101T153135Z
UID:9786-1709573400-1709577900@monyash.info
SUMMARY:Iyengar Yoga
DESCRIPTION:Classes by Dave Swinhoe \n\n\n\nMore details about Iyengar Yoga on the IYUK website
URL:https://monyash.info/event/iyengar-yoga-18/
LOCATION:Monyash Village Hall\, Church Street\, Monyash\, DE45 1JH
END:VEVENT
BEGIN:VEVENT
DTSTART;TZID=Europe/London:20240301T140000
DTEND;TZID=Europe/London:20240301T153000
DTSTAMP:20260420T001743
CREATED:20240101T155700Z
LAST-MODIFIED:20240117T215724Z
UID:9812-1709301600-1709307000@monyash.info
SUMMARY:Crafternoon
DESCRIPTION:Tea & Cake\, Crafts and Chat – what’s not to like?!
URL:https://monyash.info/event/crafternoon-76/
LOCATION:Monyash Village Hall\, Church Street\, Monyash\, DE45 1JH
END:VEVENT
BEGIN:VEVENT
DTSTART;TZID=Europe/London:20240301T100000
DTEND;TZID=Europe/London:20240331T150000
DTSTAMP:20260420T001743
CREATED:20240101T145639Z
LAST-MODIFIED:20240101T145642Z
UID:9760-1709287200-1711897200@monyash.info
SUMMARY:Church open 10:00-15:00
DESCRIPTION:St Leonard’s is open every day from 10:00-15:00 for private prayer.We are looking forward to welcoming you inside our historic village church and know that you will help keep our village safe. Please take sensible precautions to avoid passing on any infection.
URL:https://monyash.info/event/church-open-1000-1500-29/
LOCATION:St Leonard’s Church\, Church Street\, Monyash\, DE45 1JH
END:VEVENT
BEGIN:VEVENT
DTSTART;TZID=Europe/London:20240301T090000
DTEND;TZID=Europe/London:20240301T110000
DTSTAMP:20260420T001743
CREATED:20240101T154044Z
LAST-MODIFIED:20240101T154046Z
UID:9794-1709283600-1709290800@monyash.info
SUMMARY:Tea and Tots
DESCRIPTION:Tea and Tots is a playgroup\, aimed at babies and preschoolers\, for local families and friends to get together for a cuppa\, chat and play! Whilst we are aimed at preschool ages\, anyone is welcome to pop in and join us.Tea\, coffee\, snacks and a variety of toys are provided. Parents are responsible for their children whilst there.Hope to see you soon!
URL:https://monyash.info/event/tea-and-tots-32/
LOCATION:Monyash Village Hall\, Church Street\, Monyash\, DE45 1JH
END:VEVENT
BEGIN:VEVENT
DTSTART;TZID=Europe/London:20240229T191500
DTEND;TZID=Europe/London:20240229T203000
DTSTAMP:20260420T001743
CREATED:20240124T213651Z
LAST-MODIFIED:20240124T213655Z
UID:9948-1709234100-1709238600@monyash.info
SUMMARY:Hatha Yoga
DESCRIPTION:Hatha Yoga ending with Yoga Nidra relaxationClasses by Caroline WebsterMore details on our Pilates and Yoga page
URL:https://monyash.info/event/hatha-yoga-43/
LOCATION:Monyash Village Hall\, Church Street\, Monyash\, DE45 1JH
END:VEVENT
BEGIN:VEVENT
DTSTART;TZID=Europe/London:20240228T193000
DTEND;TZID=Europe/London:20240228T203000
DTSTAMP:20260420T001743
CREATED:20231205T161135Z
LAST-MODIFIED:20231205T161138Z
UID:9639-1709148600-1709152200@monyash.info
SUMMARY:Pilates for men
DESCRIPTION:Classes by Caroline Webster \n\n\n\nMore details on our Pilates and Yoga page
URL:https://monyash.info/event/pilates-for-men-14/
LOCATION:Monyash Village Hall\, Church Street\, Monyash\, DE45 1JH
END:VEVENT
BEGIN:VEVENT
DTSTART;TZID=Europe/London:20240227T180000
DTEND;TZID=Europe/London:20240227T190000
DTSTAMP:20260420T001743
CREATED:20231205T160659Z
LAST-MODIFIED:20231205T160701Z
UID:9630-1709056800-1709060400@monyash.info
SUMMARY:Pilates
DESCRIPTION:Classes by Caroline Webster \n\n\n\nMore details on our Pilates and Yoga page
URL:https://monyash.info/event/pilates-156/
LOCATION:Monyash Village Hall\, Church Street\, Monyash\, DE45 1JH
END:VEVENT
BEGIN:VEVENT
DTSTART;TZID=Europe/London:20240227T140000
DTEND;TZID=Europe/London:20240227T160000
DTSTAMP:20260420T001743
CREATED:20231205T212316Z
LAST-MODIFIED:20231205T212318Z
UID:9667-1709042400-1709049600@monyash.info
SUMMARY:Monyash Quilters
DESCRIPTION:A friendly group with a wide range of creative talent who love making beautiful quilts and anything crafty. Drop into one of our weekly meetings as a taster to see what we do and if we can tempt you to join.
URL:https://monyash.info/event/monyash-quilters-43/
LOCATION:Monyash Village Hall\, Church Street\, Monyash\, DE45 1JH
END:VEVENT
END:VCALENDAR