BEGIN:VCALENDAR
VERSION:2.0
PRODID:-//Monyash Village - ECPv6.15.20//NONSGML v1.0//EN
CALSCALE:GREGORIAN
METHOD:PUBLISH
X-WR-CALNAME:Monyash Village
X-ORIGINAL-URL:https://monyash.info
X-WR-CALDESC:Events for Monyash Village
REFRESH-INTERVAL;VALUE=DURATION:PT1H
X-Robots-Tag:noindex
X-PUBLISHED-TTL:PT1H
BEGIN:VTIMEZONE
TZID:Europe/London
BEGIN:DAYLIGHT
TZOFFSETFROM:+0000
TZOFFSETTO:+0100
TZNAME:BST
DTSTART:20200329T010000
END:DAYLIGHT
BEGIN:STANDARD
TZOFFSETFROM:+0100
TZOFFSETTO:+0000
TZNAME:GMT
DTSTART:20201025T010000
END:STANDARD
BEGIN:DAYLIGHT
TZOFFSETFROM:+0000
TZOFFSETTO:+0100
TZNAME:BST
DTSTART:20210328T010000
END:DAYLIGHT
BEGIN:STANDARD
TZOFFSETFROM:+0100
TZOFFSETTO:+0000
TZNAME:GMT
DTSTART:20211031T010000
END:STANDARD
BEGIN:DAYLIGHT
TZOFFSETFROM:+0000
TZOFFSETTO:+0100
TZNAME:BST
DTSTART:20220327T010000
END:DAYLIGHT
BEGIN:STANDARD
TZOFFSETFROM:+0100
TZOFFSETTO:+0000
TZNAME:GMT
DTSTART:20221030T010000
END:STANDARD
END:VTIMEZONE
BEGIN:VEVENT
DTSTART;TZID=Europe/London:20210810T100000
DTEND;TZID=Europe/London:20210810T163000
DTSTAMP:20260422T124445
CREATED:20210609T205606Z
LAST-MODIFIED:20210609T205606Z
UID:4022-1628589600-1628613000@monyash.info
SUMMARY:Church open
DESCRIPTION:St Leonard’s is open each Tuesday for private prayer. \nPlease remember to keep yourself and others safe. Wear a mask\, keep your distance and if you have COVID-19 symptoms or have been in contact with someone who has it in the last 14 days\, please go home.
URL:https://monyash.info/event/church-open-11/
LOCATION:St Leonard’s Church\, Church Street\, Monyash\, DE45 1JH
END:VEVENT
BEGIN:VEVENT
DTSTART;TZID=Europe/London:20210806T140000
DTEND;TZID=Europe/London:20210806T153000
DTSTAMP:20260422T124445
CREATED:20210709T155246Z
LAST-MODIFIED:20210711T104701Z
UID:4131-1628258400-1628263800@monyash.info
SUMMARY:Crafternoon
DESCRIPTION:Tea & Cake\, Crafts and Chat – what’s not to like?! \n£1.50 – All welcome
URL:https://monyash.info/event/crafternoon-33/
LOCATION:Monyash Village Hall\, Church Street\, Monyash\, DE45 1JH
END:VEVENT
BEGIN:VEVENT
DTSTART;TZID=Europe/London:20210804T193000
DTEND;TZID=Europe/London:20210804T193000
DTSTAMP:20260422T124445
CREATED:20210728T194225Z
LAST-MODIFIED:20210728T194225Z
UID:4295-1628105400-1628105400@monyash.info
SUMMARY:WI Annual General Meeting
DESCRIPTION:AGM
URL:https://monyash.info/event/wi-annual-general-meeting-2/
LOCATION:Monyash Village Hall\, Church Street\, Monyash\, DE45 1JH
END:VEVENT
BEGIN:VEVENT
DTSTART;TZID=Europe/London:20210803T100000
DTEND;TZID=Europe/London:20210803T163000
DTSTAMP:20260422T124445
CREATED:20210609T205503Z
LAST-MODIFIED:20210609T205503Z
UID:4020-1627984800-1628008200@monyash.info
SUMMARY:Church open
DESCRIPTION:St Leonard’s is open each Tuesday for private prayer. \nPlease remember to keep yourself and others safe. Wear a mask\, keep your distance and if you have COVID-19 symptoms or have been in contact with someone who has it in the last 14 days\, please go home.
URL:https://monyash.info/event/church-open-10/
LOCATION:St Leonard’s Church\, Church Street\, Monyash\, DE45 1JH
END:VEVENT
BEGIN:VEVENT
DTSTART;TZID=Europe/London:20210802T190000
DTEND;TZID=Europe/London:20210802T190000
DTSTAMP:20260422T124445
CREATED:20210711T131947Z
LAST-MODIFIED:20210711T131947Z
UID:4174-1627930800-1627930800@monyash.info
SUMMARY:Parish Council meeting
DESCRIPTION:
URL:https://monyash.info/event/parish-council-meeting-32/
LOCATION:Monyash Village Hall\, Church Street\, Monyash\, DE45 1JH
END:VEVENT
BEGIN:VEVENT
DTSTART;TZID=Europe/London:20210801T100000
DTEND;TZID=Europe/London:20210801T100000
DTSTAMP:20260422T124445
CREATED:20210615T134054Z
LAST-MODIFIED:20210615T134054Z
UID:4071-1627812000-1627812000@monyash.info
SUMMARY:Church Service
DESCRIPTION:Holy Communion – Revd Canon Allan Lacey
URL:https://monyash.info/event/church-service-4/
END:VEVENT
BEGIN:VEVENT
DTSTART;TZID=Europe/London:20210728T115500
DTEND;TZID=Europe/London:20210728T123000
DTSTAMP:20260422T124445
CREATED:20210702T200611Z
LAST-MODIFIED:20210702T200611Z
UID:4101-1627473300-1627475400@monyash.info
SUMMARY:Mobile Library
DESCRIPTION:
URL:https://monyash.info/event/mobile-library-24/
LOCATION:The Square\, The Square\, Monyash\, DE45 1JH
END:VEVENT
BEGIN:VEVENT
DTSTART;TZID=Europe/London:20210727T100000
DTEND;TZID=Europe/London:20210727T163000
DTSTAMP:20260422T124445
CREATED:20210609T205407Z
LAST-MODIFIED:20210609T205407Z
UID:4018-1627380000-1627403400@monyash.info
SUMMARY:Church open
DESCRIPTION:St Leonard’s is open each Tuesday for private prayer. \nPlease remember to keep yourself and others safe. Wear a mask\, keep your distance and if you have COVID-19 symptoms or have been in contact with someone who has it in the last 14 days\, please go home.
URL:https://monyash.info/event/church-open-9/
LOCATION:St Leonard’s Church\, Church Street\, Monyash\, DE45 1JH
END:VEVENT
BEGIN:VEVENT
DTSTART;TZID=Europe/London:20210723T140000
DTEND;TZID=Europe/London:20210723T153000
DTSTAMP:20260422T124445
CREATED:20210616T144155Z
LAST-MODIFIED:20210711T104549Z
UID:4088-1627048800-1627054200@monyash.info
SUMMARY:Crafternoon
DESCRIPTION:Tea & Cake\, Crafts and Chat – what’s not to like?! \n£1.50 – All welcome
URL:https://monyash.info/event/crafternoon-32/
LOCATION:Monyash Village Hall\, Church Street\, Monyash\, DE45 1JH
END:VEVENT
BEGIN:VEVENT
DTSTART;VALUE=DATE:20210722
DTEND;VALUE=DATE:20210723
DTSTAMP:20260422T124445
CREATED:20200826T133030Z
LAST-MODIFIED:20200826T133229Z
UID:3283-1626912000-1626998399@monyash.info
SUMMARY:School summer holiday starts
DESCRIPTION:
URL:https://monyash.info/event/school-summer-holiday-starts-3/
LOCATION:Monyash Primary School\, Church Street\, Monyash\, DE45 1JH
END:VEVENT
BEGIN:VEVENT
DTSTART;TZID=Europe/London:20210720T100000
DTEND;TZID=Europe/London:20210720T163000
DTSTAMP:20260422T124445
CREATED:20210609T205317Z
LAST-MODIFIED:20210609T205317Z
UID:4016-1626775200-1626798600@monyash.info
SUMMARY:Church open
DESCRIPTION:St Leonard’s is open each Tuesday for private prayer. \nPlease remember to keep yourself and others safe. Wear a mask\, keep your distance and if you have COVID-19 symptoms or have been in contact with someone who has it in the last 14 days\, please go home.
URL:https://monyash.info/event/church-open-8/
LOCATION:St Leonard’s Church\, Church Street\, Monyash\, DE45 1JH
END:VEVENT
BEGIN:VEVENT
DTSTART;TZID=Europe/London:20210718T183000
DTEND;TZID=Europe/London:20210718T183000
DTSTAMP:20260422T124445
CREATED:20210615T133954Z
LAST-MODIFIED:20210615T133954Z
UID:4069-1626633000-1626633000@monyash.info
SUMMARY:Church Service
DESCRIPTION:Holy Communion – Revd Dwayne Engh – member of Ministry & Mission team Derby diocese
URL:https://monyash.info/event/church-service-3/
LOCATION:St Leonard’s Church\, Church Street\, Monyash\, DE45 1JH
END:VEVENT
BEGIN:VEVENT
DTSTART;TZID=Europe/London:20210714T193000
DTEND;TZID=Europe/London:20210714T193000
DTSTAMP:20260422T124445
CREATED:20210702T200226Z
LAST-MODIFIED:20210706T120346Z
UID:4099-1626291000-1626291000@monyash.info
SUMMARY:WI
DESCRIPTION:
URL:https://monyash.info/event/wi-21/
LOCATION:Monyash Village Hall\, Church Street\, Monyash\, DE45 1JH
END:VEVENT
BEGIN:VEVENT
DTSTART;TZID=Europe/London:20210713T100000
DTEND;TZID=Europe/London:20210713T163000
DTSTAMP:20260422T124445
CREATED:20210609T205223Z
LAST-MODIFIED:20210609T205223Z
UID:4014-1626170400-1626193800@monyash.info
SUMMARY:Church open
DESCRIPTION:St Leonard’s is open each Tuesday for private prayer. \nPlease remember to keep yourself and others safe. Wear a mask\, keep your distance and if you have COVID-19 symptoms or have been in contact with someone who has it in the last 14 days\, please go home.
URL:https://monyash.info/event/church-open-7/
LOCATION:St Leonard’s Church\, Church Street\, Monyash\, DE45 1JH
END:VEVENT
BEGIN:VEVENT
DTSTART;VALUE=DATE:20210710
DTEND;VALUE=DATE:20210711
DTSTAMP:20260422T124445
CREATED:20210609T211750Z
LAST-MODIFIED:20210616T144940Z
UID:4030-1625875200-1625961599@monyash.info
SUMMARY:Cancelled - White Peak Walk
DESCRIPTION:Following the extension of COVID-19 restrictions announced on 14th June\, it would not be feasible to stage this year’s White Peak Walk. \nThe event has become known for its light\, friendly atmosphere and with the restrictions in place\, we feel that the essential spirit would not be present. We would not have been able to gather in the Village Hall before the start and we would not have been able to provide a meal at the finish. \nSo\, with regret\, the organising committee has decided to cancel.
URL:https://monyash.info/event/white-peak-walk/
END:VEVENT
BEGIN:VEVENT
DTSTART;TZID=Europe/London:20210709T140000
DTEND;TZID=Europe/London:20210709T153000
DTSTAMP:20260422T124445
CREATED:20210616T144117Z
LAST-MODIFIED:20210616T144117Z
UID:4086-1625839200-1625844600@monyash.info
SUMMARY:Crafternoon
DESCRIPTION:
URL:https://monyash.info/event/crafternoon-31/
LOCATION:Monyash Village Hall\, Church Street\, Monyash\, DE45 1JH
END:VEVENT
BEGIN:VEVENT
DTSTART;TZID=Europe/London:20210706T100000
DTEND;TZID=Europe/London:20210706T163000
DTSTAMP:20260422T124445
CREATED:20210609T205125Z
LAST-MODIFIED:20210609T205125Z
UID:4012-1625565600-1625589000@monyash.info
SUMMARY:Church open
DESCRIPTION:St Leonard’s is open each Tuesday for private prayer. \nPlease remember to keep yourself and others safe. Wear a mask\, keep your distance and if you have COVID-19 symptoms or have been in contact with someone who has it in the last 14 days\, please go home.
URL:https://monyash.info/event/church-open-6/
LOCATION:St Leonard’s Church\, Church Street\, Monyash\, DE45 1JH
END:VEVENT
BEGIN:VEVENT
DTSTART;TZID=Europe/London:20210705T190000
DTEND;TZID=Europe/London:20210705T190000
DTSTAMP:20260422T124445
CREATED:20201211T163523Z
LAST-MODIFIED:20210609T144945Z
UID:3527-1625511600-1625511600@monyash.info
SUMMARY:Parish Council meeting
DESCRIPTION:
URL:https://monyash.info/event/parish-council-meeting-27/
LOCATION:Monyash Village Hall\, Church Street\, Monyash\, DE45 1JH
END:VEVENT
BEGIN:VEVENT
DTSTART;TZID=Europe/London:20210704T100000
DTEND;TZID=Europe/London:20210704T100000
DTSTAMP:20260422T124445
CREATED:20210615T133844Z
LAST-MODIFIED:20210615T133844Z
UID:4067-1625392800-1625392800@monyash.info
SUMMARY:Church Service
DESCRIPTION:Holy Communion – Revd Canon Allan Lacey – retired priest from Chesterfield
URL:https://monyash.info/event/church-service-2/
LOCATION:St Leonard’s Church\, Church Street\, Monyash\, DE45 1JH
END:VEVENT
BEGIN:VEVENT
DTSTART;TZID=Europe/London:20210630T115500
DTEND;TZID=Europe/London:20210630T123000
DTSTAMP:20260422T124445
CREATED:20210430T203920Z
LAST-MODIFIED:20210430T203920Z
UID:3899-1625054100-1625056200@monyash.info
SUMMARY:Mobile Library
DESCRIPTION:
URL:https://monyash.info/event/mobile-library-23/
LOCATION:The Square\, The Square\, Monyash\, DE45 1JH
END:VEVENT
BEGIN:VEVENT
DTSTART;TZID=Europe/London:20210629T100000
DTEND;TZID=Europe/London:20210629T163000
DTSTAMP:20260422T124445
CREATED:20210609T205026Z
LAST-MODIFIED:20210609T205026Z
UID:4010-1624960800-1624984200@monyash.info
SUMMARY:Church open
DESCRIPTION:St Leonard’s is open each Tuesday for private prayer. \nPlease remember to keep yourself and others safe. Wear a mask\, keep your distance and if you have COVID-19 symptoms or have been in contact with someone who has it in the last 14 days\, please go home.
URL:https://monyash.info/event/church-open-5/
LOCATION:St Leonard’s Church\, Church Street\, Monyash\, DE45 1JH
END:VEVENT
BEGIN:VEVENT
DTSTART;TZID=Europe/London:20210627T100000
DTEND;TZID=Europe/London:20210627T100000
DTSTAMP:20260422T124445
CREATED:20210609T142621Z
LAST-MODIFIED:20210609T142621Z
UID:3975-1624788000-1624788000@monyash.info
SUMMARY:Church service
DESCRIPTION:Morning Worship
URL:https://monyash.info/event/church-service/
LOCATION:St Leonard’s Church\, Church Street\, Monyash\, DE45 1JH
END:VEVENT
BEGIN:VEVENT
DTSTART;TZID=Europe/London:20210625T140000
DTEND;TZID=Europe/London:20210625T153000
DTSTAMP:20260422T124445
CREATED:20210616T144031Z
LAST-MODIFIED:20210616T144031Z
UID:4084-1624629600-1624635000@monyash.info
SUMMARY:Crafternoon
DESCRIPTION:
URL:https://monyash.info/event/crafternoon-30/
LOCATION:Monyash Village Hall\, Church Street\, Monyash\, DE45 1JH
END:VEVENT
BEGIN:VEVENT
DTSTART;TZID=Europe/London:20210622T100000
DTEND;TZID=Europe/London:20210622T163000
DTSTAMP:20260422T124445
CREATED:20210609T204940Z
LAST-MODIFIED:20210609T204940Z
UID:4008-1624356000-1624379400@monyash.info
SUMMARY:Church open
DESCRIPTION:St Leonard’s is open each Tuesday for private prayer. \nPlease remember to keep yourself and others safe. Wear a mask\, keep your distance and if you have COVID-19 symptoms or have been in contact with someone who has it in the last 14 days\, please go home.
URL:https://monyash.info/event/church-open-4/
LOCATION:St Leonard’s Church\, Church Street\, Monyash\, DE45 1JH
END:VEVENT
BEGIN:VEVENT
DTSTART;TZID=Europe/London:20210615T100000
DTEND;TZID=Europe/London:20210615T163000
DTSTAMP:20260422T124445
CREATED:20210609T204851Z
LAST-MODIFIED:20210609T204851Z
UID:4006-1623751200-1623774600@monyash.info
SUMMARY:Church open
DESCRIPTION:St Leonard’s is open each Tuesday for private prayer. \nPlease remember to keep yourself and others safe. Wear a mask\, keep your distance and if you have COVID-19 symptoms or have been in contact with someone who has it in the last 14 days\, please go home.
URL:https://monyash.info/event/church-open-3/
LOCATION:St Leonard’s Church\, Church Street\, Monyash\, DE45 1JH
END:VEVENT
BEGIN:VEVENT
DTSTART;TZID=Europe/London:20210611T140000
DTEND;TZID=Europe/London:20210611T153000
DTSTAMP:20260422T124445
CREATED:20210611T100515Z
LAST-MODIFIED:20210611T100515Z
UID:4035-1623420000-1623425400@monyash.info
SUMMARY:Crafternoon
DESCRIPTION:
URL:https://monyash.info/event/crafternoon-29/
LOCATION:Monyash Village Hall\, Church Street\, Monyash\, DE45 1JH
END:VEVENT
BEGIN:VEVENT
DTSTART;TZID=Europe/London:20210608T100000
DTEND;TZID=Europe/London:20210608T163000
DTSTAMP:20260422T124445
CREATED:20210609T204744Z
LAST-MODIFIED:20210609T204744Z
UID:4004-1623146400-1623169800@monyash.info
SUMMARY:Church open
DESCRIPTION:St Leonard’s is open each Tuesday for private prayer. \nPlease remember to keep yourself and others safe. Wear a mask\, keep your distance and if you have COVID-19 symptoms or have been in contact with someone who has it in the last 14 days\, please go home.
URL:https://monyash.info/event/church-open-2/
LOCATION:St Leonard’s Church\, Church Street\, Monyash\, DE45 1JH
END:VEVENT
BEGIN:VEVENT
DTSTART;TZID=Europe/London:20210607T190000
DTEND;TZID=Europe/London:20210607T190000
DTSTAMP:20260422T124445
CREATED:20201211T163434Z
LAST-MODIFIED:20210609T144911Z
UID:3525-1623092400-1623092400@monyash.info
SUMMARY:Parish Council meeting
DESCRIPTION:In the village hall
URL:https://monyash.info/event/parish-council-meeting-26/
LOCATION:Monyash Village Hall\, Church Street\, Monyash\, DE45 1JH
END:VEVENT
BEGIN:VEVENT
DTSTART;TZID=Europe/London:20210606T100000
DTEND;TZID=Europe/London:20210606T100000
DTSTAMP:20260422T124445
CREATED:20210609T142028Z
LAST-MODIFIED:20210609T142445Z
UID:3972-1622973600-1622973600@monyash.info
SUMMARY:Church service
DESCRIPTION:Holy Communion
URL:https://monyash.info/event/holy-communion-service/
LOCATION:St Leonard’s Church\, Church Street\, Monyash\, DE45 1JH
END:VEVENT
BEGIN:VEVENT
DTSTART;VALUE=DATE:20210603
DTEND;VALUE=DATE:20210604
DTSTAMP:20260422T124445
CREATED:20201228T144308Z
LAST-MODIFIED:20201228T144601Z
UID:3582-1622678400-1622764799@monyash.info
SUMMARY:Domestic bins emptied a day later
DESCRIPTION:For most of us\, who would usually have our grey bin emptied on Wednesday 2nd June\, this will be grey bin on Thursday 3rd.
URL:https://monyash.info/event/domestic-bins-emptied-a-day-later-13/
END:VEVENT
END:VCALENDAR