BEGIN:VCALENDAR
VERSION:2.0
PRODID:-//Monyash Village - ECPv6.15.20//NONSGML v1.0//EN
CALSCALE:GREGORIAN
METHOD:PUBLISH
X-WR-CALNAME:Monyash Village
X-ORIGINAL-URL:https://monyash.info
X-WR-CALDESC:Events for Monyash Village
REFRESH-INTERVAL;VALUE=DURATION:PT1H
X-Robots-Tag:noindex
X-PUBLISHED-TTL:PT1H
BEGIN:VTIMEZONE
TZID:Europe/London
BEGIN:DAYLIGHT
TZOFFSETFROM:+0000
TZOFFSETTO:+0100
TZNAME:BST
DTSTART:20200329T010000
END:DAYLIGHT
BEGIN:STANDARD
TZOFFSETFROM:+0100
TZOFFSETTO:+0000
TZNAME:GMT
DTSTART:20201025T010000
END:STANDARD
BEGIN:DAYLIGHT
TZOFFSETFROM:+0000
TZOFFSETTO:+0100
TZNAME:BST
DTSTART:20210328T010000
END:DAYLIGHT
BEGIN:STANDARD
TZOFFSETFROM:+0100
TZOFFSETTO:+0000
TZNAME:GMT
DTSTART:20211031T010000
END:STANDARD
BEGIN:DAYLIGHT
TZOFFSETFROM:+0000
TZOFFSETTO:+0100
TZNAME:BST
DTSTART:20220327T010000
END:DAYLIGHT
BEGIN:STANDARD
TZOFFSETFROM:+0100
TZOFFSETTO:+0000
TZNAME:GMT
DTSTART:20221030T010000
END:STANDARD
END:VTIMEZONE
BEGIN:VEVENT
DTSTART;TZID=Europe/London:20210929T093000
DTEND;TZID=Europe/London:20210929T103000
DTSTAMP:20260420T175129
CREATED:20210913T144254Z
LAST-MODIFIED:20210913T144255Z
UID:4686-1632907800-1632911400@monyash.info
SUMMARY:Pilates
DESCRIPTION:Classes by Caroline Webster \n\n\n\nMore details on our Pilates page
URL:https://monyash.info/event/pilates-20/
LOCATION:Monyash Village Hall\, Church Street\, Monyash\, DE45 1JH
END:VEVENT
BEGIN:VEVENT
DTSTART;TZID=Europe/London:20210928T180000
DTEND;TZID=Europe/London:20210928T190000
DTSTAMP:20260420T175129
CREATED:20210913T141644Z
LAST-MODIFIED:20210913T141720Z
UID:4648-1632852000-1632855600@monyash.info
SUMMARY:Pilates
DESCRIPTION:Classes by Caroline Webster \n\n\n\nMore details on our Pilates page
URL:https://monyash.info/event/4648/
LOCATION:Monyash Village Hall\, Church Street\, Monyash\, DE45 1JH
END:VEVENT
BEGIN:VEVENT
DTSTART;TZID=Europe/London:20210926T100000
DTEND;TZID=Europe/London:20210926T100000
DTSTAMP:20260420T175129
CREATED:20210827T141757Z
LAST-MODIFIED:20210827T141759Z
UID:4503-1632650400-1632650400@monyash.info
SUMMARY:Church Service
DESCRIPTION:Holy Communion
URL:https://monyash.info/event/church-service-7/
LOCATION:St Leonard’s Church\, Church Street\, Monyash\, DE45 1JH
END:VEVENT
BEGIN:VEVENT
DTSTART;TZID=Europe/London:20210922T115500
DTEND;TZID=Europe/London:20210922T123000
DTSTAMP:20260420T175129
CREATED:20210824T131142Z
LAST-MODIFIED:20210824T131145Z
UID:4478-1632311700-1632313800@monyash.info
SUMMARY:Mobile Library
DESCRIPTION:
URL:https://monyash.info/event/mobile-library-26/
LOCATION:The Square\, The Square\, Monyash\, DE45 1JH
END:VEVENT
BEGIN:VEVENT
DTSTART;TZID=Europe/London:20210922T093000
DTEND;TZID=Europe/London:20210922T103000
DTSTAMP:20260420T175129
CREATED:20210913T144415Z
LAST-MODIFIED:20210913T144417Z
UID:4688-1632303000-1632306600@monyash.info
SUMMARY:Pilates
DESCRIPTION:Classes by Caroline Webster \n\n\n\nMore details on our Pilates page
URL:https://monyash.info/event/pilates-21/
LOCATION:Monyash Village Hall\, Church Street\, Monyash\, DE45 1JH
END:VEVENT
BEGIN:VEVENT
DTSTART;TZID=Europe/London:20210921T180000
DTEND;TZID=Europe/London:20210921T190000
DTSTAMP:20260420T175129
CREATED:20210913T141516Z
LAST-MODIFIED:20210913T141519Z
UID:4646-1632247200-1632250800@monyash.info
SUMMARY:Pilates
DESCRIPTION:Classes by Caroline Webster \n\n\n\nMore details on our Pilates page
URL:https://monyash.info/event/pilates-3/
LOCATION:Monyash Village Hall\, Church Street\, Monyash\, DE45 1JH
END:VEVENT
BEGIN:VEVENT
DTSTART;TZID=Europe/London:20210920T100000
DTEND;TZID=Europe/London:20210930T150000
DTSTAMP:20260420T175129
CREATED:20210706T104521Z
LAST-MODIFIED:20210915T203503Z
UID:4112-1632132000-1633014000@monyash.info
SUMMARY:Church open 10:00-15:00
DESCRIPTION:St Leonard’s is open every day from 10:00-15:00 for private prayer. \nPlease remember to keep yourself and others safe. Wear a mask\, keep your distance and if you have COVID-19 symptoms or have been in contact with someone who has it in the last 14 days\, please go home.
URL:https://monyash.info/event/church-open-17/
LOCATION:St Leonard’s Church\, Church Street\, Monyash\, DE45 1JH
END:VEVENT
BEGIN:VEVENT
DTSTART;TZID=Europe/London:20210919T180000
DTEND;TZID=Europe/London:20210919T180000
DTSTAMP:20260420T175129
CREATED:20210827T142009Z
LAST-MODIFIED:20210913T130501Z
UID:4505-1632074400-1632074400@monyash.info
SUMMARY:Harvest Festival Service
DESCRIPTION:Led by the Reverend Andrew Parker and Deacon Lorraine Brown from Monyash Methodist Chapel \n\n\n\nPlease bring donations for the food bank – details in the flyer which you can view or download here.
URL:https://monyash.info/event/harvest-festival-service-2/
LOCATION:St Leonard’s Church\, Church Street\, Monyash\, DE45 1JH
END:VEVENT
BEGIN:VEVENT
DTSTART;TZID=Europe/London:20210917T140000
DTEND;TZID=Europe/London:20210917T153000
DTSTAMP:20260420T175129
CREATED:20210709T155501Z
LAST-MODIFIED:20210711T104901Z
UID:4137-1631887200-1631892600@monyash.info
SUMMARY:Crafternoon
DESCRIPTION:Tea & Cake\, Crafts and Chat – what’s not to like?! \n£1.50 – All welcome
URL:https://monyash.info/event/crafternoon-36/
LOCATION:Monyash Village Hall\, Church Street\, Monyash\, DE45 1JH
END:VEVENT
BEGIN:VEVENT
DTSTART;TZID=Europe/London:20210915T093000
DTEND;TZID=Europe/London:20210915T103000
DTSTAMP:20260420T175129
CREATED:20210905T144250Z
LAST-MODIFIED:20210913T140718Z
UID:4580-1631698200-1631701800@monyash.info
SUMMARY:Pilates
DESCRIPTION:Classes by Caroline Webster \n\n\n\nMore details on our Pilates page
URL:https://monyash.info/event/pilates-2/
LOCATION:Monyash Village Hall\, Church Street\, Monyash\, DE45 1JH
END:VEVENT
BEGIN:VEVENT
DTSTART;TZID=Europe/London:20210914T180000
DTEND;TZID=Europe/London:20210914T190000
DTSTAMP:20260420T175129
CREATED:20210905T144054Z
LAST-MODIFIED:20210913T133508Z
UID:4578-1631642400-1631646000@monyash.info
SUMMARY:Pilates
DESCRIPTION:Classes by Caroline Webster \n\n\n\nMore details on our Pilates page
URL:https://monyash.info/event/pilates/
LOCATION:Monyash Village Hall\, Church Street\, Monyash\, DE45 1JH
END:VEVENT
BEGIN:VEVENT
DTSTART;TZID=Europe/London:20210914T100000
DTEND;TZID=Europe/London:20210914T163000
DTSTAMP:20260420T175129
CREATED:20210706T104443Z
LAST-MODIFIED:20210706T104443Z
UID:4110-1631613600-1631637000@monyash.info
SUMMARY:Church open
DESCRIPTION:St Leonard’s is open each Tuesday for private prayer. \nPlease remember to keep yourself and others safe. Wear a mask\, keep your distance and if you have COVID-19 symptoms or have been in contact with someone who has it in the last 14 days\, please go home.
URL:https://monyash.info/event/church-open-16/
LOCATION:St Leonard’s Church\, Church Street\, Monyash\, DE45 1JH
END:VEVENT
BEGIN:VEVENT
DTSTART;TZID=Europe/London:20210912T000000
DTEND;TZID=Europe/London:20210912T235959
DTSTAMP:20260420T175129
CREATED:20210909T132031Z
LAST-MODIFIED:20210909T132034Z
UID:4587-1631404800-1631491199@monyash.info
SUMMARY:Grindleford Goat
DESCRIPTION:Charity cycle ride coming through Monyash – times not known
URL:https://monyash.info/event/grindleford-goat/
END:VEVENT
BEGIN:VEVENT
DTSTART;TZID=Europe/London:20210910T180000
DTEND;TZID=Europe/London:20210910T200000
DTSTAMP:20260420T175129
CREATED:20210901T161921Z
LAST-MODIFIED:20210901T162032Z
UID:4547-1631296800-1631304000@monyash.info
SUMMARY:Village Treasure Hunt
DESCRIPTION:A walking ? trail with all clues ? within easy walking distance of the Village Hall \n\n\n\nStart 6:00-6:30pm\, finish by 8:00pm. \n\n\n\nRefreshments will be available in the Village Hall. \n\n\n\n\n\nProceeds to support the Village Hall.
URL:https://monyash.info/event/village-treasure-hunt/
LOCATION:Monyash Village Hall\, Church Street\, Monyash\, DE45 1JH
END:VEVENT
BEGIN:VEVENT
DTSTART;TZID=Europe/London:20210907T100000
DTEND;TZID=Europe/London:20210907T163000
DTSTAMP:20260420T175129
CREATED:20210706T104359Z
LAST-MODIFIED:20210706T104359Z
UID:4108-1631008800-1631032200@monyash.info
SUMMARY:Church open
DESCRIPTION:St Leonard’s is open each Tuesday for private prayer. \nPlease remember to keep yourself and others safe. Wear a mask\, keep your distance and if you have COVID-19 symptoms or have been in contact with someone who has it in the last 14 days\, please go home.
URL:https://monyash.info/event/church-open-15/
LOCATION:St Leonard’s Church\, Church Street\, Monyash\, DE45 1JH
END:VEVENT
BEGIN:VEVENT
DTSTART;TZID=Europe/London:20210906T190000
DTEND;TZID=Europe/London:20210906T190000
DTSTAMP:20260420T175129
CREATED:20201211T163608Z
LAST-MODIFIED:20210609T145036Z
UID:3529-1630954800-1630954800@monyash.info
SUMMARY:Parish Council meeting
DESCRIPTION:
URL:https://monyash.info/event/parish-council-meeting-28/
LOCATION:Monyash Village Hall\, Church Street\, Monyash\, DE45 1JH
END:VEVENT
BEGIN:VEVENT
DTSTART;TZID=Europe/London:20210906T000000
DTEND;TZID=Europe/London:20210906T235959
DTSTAMP:20260420T175129
CREATED:20210827T152730Z
LAST-MODIFIED:20210827T152734Z
UID:4508-1630886400-1630972799@monyash.info
SUMMARY:Children return to school
DESCRIPTION:
URL:https://monyash.info/event/children-return-to-school/
LOCATION:Monyash Primary School\, Church Street\, Monyash\, DE45 1JH
END:VEVENT
BEGIN:VEVENT
DTSTART;TZID=Europe/London:20210905T100000
DTEND;TZID=Europe/London:20210905T100000
DTSTAMP:20260420T175129
CREATED:20210827T141608Z
LAST-MODIFIED:20210827T141611Z
UID:4501-1630836000-1630836000@monyash.info
SUMMARY:Church Service
DESCRIPTION:Holy Communion
URL:https://monyash.info/event/church-service-6/
LOCATION:St Leonard’s Church\, Church Street\, Monyash\, DE45 1JH
END:VEVENT
BEGIN:VEVENT
DTSTART;TZID=Europe/London:20210903T140000
DTEND;TZID=Europe/London:20210903T153000
DTSTAMP:20260420T175129
CREATED:20210709T155417Z
LAST-MODIFIED:20210711T104824Z
UID:4135-1630677600-1630683000@monyash.info
SUMMARY:Crafternoon
DESCRIPTION:Tea & Cake\, Crafts and Chat – what’s not to like?! \n£1.50 – All welcome
URL:https://monyash.info/event/crafternoon-35/
LOCATION:Monyash Village Hall\, Church Street\, Monyash\, DE45 1JH
END:VEVENT
BEGIN:VEVENT
DTSTART;VALUE=DATE:20210902
DTEND;VALUE=DATE:20210903
DTSTAMP:20260420T175129
CREATED:20201228T144458Z
LAST-MODIFIED:20201228T144458Z
UID:3584-1630540800-1630627199@monyash.info
SUMMARY:Domestic bins emptied a day later
DESCRIPTION:For most of us\, who would usually have our blue recycling and green garden waste bins emptied on Wed 1st September\, this will be blue and green bins on Thu 2nd.
URL:https://monyash.info/event/domestic-bins-emptied-a-day-later-14/
END:VEVENT
BEGIN:VEVENT
DTSTART;TZID=Europe/London:20210901T193000
DTEND;TZID=Europe/London:20210901T193000
DTSTAMP:20260420T175129
CREATED:20210816T144006Z
LAST-MODIFIED:20210816T144009Z
UID:4456-1630524600-1630524600@monyash.info
SUMMARY:WI
DESCRIPTION:Guest speaker from Aquabox \n\n\n\nPlus AGM
URL:https://monyash.info/event/wi-22/
LOCATION:Monyash Village Hall\, Church Street\, Monyash\, DE45 1JH
END:VEVENT
BEGIN:VEVENT
DTSTART;TZID=Europe/London:20210901T140000
DTEND;TZID=Europe/London:20210901T235900
DTSTAMP:20260420T175129
CREATED:20210829T153021Z
LAST-MODIFIED:20210829T163856Z
UID:4533-1630504800-1630540740@monyash.info
SUMMARY:Free afternoon parking starts
DESCRIPTION:DDDC car parks will be free to use after 2pm throughout September.
URL:https://monyash.info/event/free-afternoon-parking-starts/
END:VEVENT
BEGIN:VEVENT
DTSTART;VALUE=DATE:20210901
DTEND;VALUE=DATE:20210902
DTSTAMP:20260420T175129
CREATED:20200826T133318Z
LAST-MODIFIED:20200826T133318Z
UID:3285-1630454400-1630540799@monyash.info
SUMMARY:Last day of school summer holiday
DESCRIPTION:
URL:https://monyash.info/event/last-day-of-school-summer-holiday-3/
LOCATION:Monyash Primary School\, Church Street\, Monyash\, DE45 1JH
END:VEVENT
BEGIN:VEVENT
DTSTART;TZID=Europe/London:20210831T100000
DTEND;TZID=Europe/London:20210831T163000
DTSTAMP:20260420T175129
CREATED:20210609T205907Z
LAST-MODIFIED:20210609T205907Z
UID:4028-1630404000-1630427400@monyash.info
SUMMARY:Church open
DESCRIPTION:St Leonard’s is open each Tuesday for private prayer. \nPlease remember to keep yourself and others safe. Wear a mask\, keep your distance and if you have COVID-19 symptoms or have been in contact with someone who has it in the last 14 days\, please go home.
URL:https://monyash.info/event/church-open-14/
LOCATION:St Leonard’s Church\, Church Street\, Monyash\, DE45 1JH
END:VEVENT
BEGIN:VEVENT
DTSTART;TZID=Europe/London:20210825T115500
DTEND;TZID=Europe/London:20210825T123000
DTSTAMP:20260420T175129
CREATED:20210824T130948Z
LAST-MODIFIED:20210824T130950Z
UID:4476-1629892500-1629894600@monyash.info
SUMMARY:Mobile Library
DESCRIPTION:
URL:https://monyash.info/event/mobile-library-25/
LOCATION:The Square\, The Square\, Monyash\, DE45 1JH
END:VEVENT
BEGIN:VEVENT
DTSTART;TZID=Europe/London:20210824T100000
DTEND;TZID=Europe/London:20210824T163000
DTSTAMP:20260420T175129
CREATED:20210609T205800Z
LAST-MODIFIED:20210609T205800Z
UID:4026-1629799200-1629822600@monyash.info
SUMMARY:Church open
DESCRIPTION:St Leonard’s is open each Tuesday for private prayer. \nPlease remember to keep yourself and others safe. Wear a mask\, keep your distance and if you have COVID-19 symptoms or have been in contact with someone who has it in the last 14 days\, please go home.
URL:https://monyash.info/event/church-open-13/
LOCATION:St Leonard’s Church\, Church Street\, Monyash\, DE45 1JH
END:VEVENT
BEGIN:VEVENT
DTSTART;TZID=Europe/London:20210822T100000
DTEND;TZID=Europe/London:20210822T100000
DTSTAMP:20260420T175129
CREATED:20210615T134143Z
LAST-MODIFIED:20210615T134143Z
UID:4073-1629626400-1629626400@monyash.info
SUMMARY:Church Service
DESCRIPTION:Holy Communion – Revd. Lynn Bowden –  from Taxal\, Whaley Bridge
URL:https://monyash.info/event/church-service-5/
END:VEVENT
BEGIN:VEVENT
DTSTART;TZID=Europe/London:20210820T140000
DTEND;TZID=Europe/London:20210820T153000
DTSTAMP:20260420T175129
CREATED:20210709T155332Z
LAST-MODIFIED:20210711T104747Z
UID:4133-1629468000-1629473400@monyash.info
SUMMARY:Crafternoon
DESCRIPTION:Tea & Cake\, Crafts and Chat – what’s not to like?! \n£1.50 – All welcome
URL:https://monyash.info/event/crafternoon-34/
LOCATION:Monyash Village Hall\, Church Street\, Monyash\, DE45 1JH
END:VEVENT
BEGIN:VEVENT
DTSTART;TZID=Europe/London:20210817T100000
DTEND;TZID=Europe/London:20210817T163000
DTSTAMP:20260420T175129
CREATED:20210609T205706Z
LAST-MODIFIED:20210609T205706Z
UID:4024-1629194400-1629217800@monyash.info
SUMMARY:Church open
DESCRIPTION:St Leonard’s is open each Tuesday for private prayer. \nPlease remember to keep yourself and others safe. Wear a mask\, keep your distance and if you have COVID-19 symptoms or have been in contact with someone who has it in the last 14 days\, please go home.
URL:https://monyash.info/event/church-open-12/
LOCATION:St Leonard’s Church\, Church Street\, Monyash\, DE45 1JH
END:VEVENT
BEGIN:VEVENT
DTSTART;TZID=Europe/London:20210816T080000
DTEND;TZID=Europe/London:20210817T170000
DTSTAMP:20260420T175129
CREATED:20210723T105107Z
LAST-MODIFIED:20210816T143605Z
UID:4275-1629100800-1629219600@monyash.info
SUMMARY:Chapel Street roadworks closure
DESCRIPTION:Chapel Street will be closed just south of Main Road\, Flagg\, between Dyke Head Farm and Moorfields Farm to facilitate a water pipe repair.\n\nDetails on the roadworks website here.\n\nYou can download the County Council closure notice here.
URL:https://monyash.info/event/chapel-street-roadworks-closure/
END:VEVENT
END:VCALENDAR