BEGIN:VCALENDAR
VERSION:2.0
PRODID:-//Monyash Village - ECPv6.15.20//NONSGML v1.0//EN
CALSCALE:GREGORIAN
METHOD:PUBLISH
X-ORIGINAL-URL:https://monyash.info
X-WR-CALDESC:Events for Monyash Village
REFRESH-INTERVAL;VALUE=DURATION:PT1H
X-Robots-Tag:noindex
X-PUBLISHED-TTL:PT1H
BEGIN:VTIMEZONE
TZID:Europe/London
BEGIN:DAYLIGHT
TZOFFSETFROM:+0000
TZOFFSETTO:+0100
TZNAME:BST
DTSTART:20250330T010000
END:DAYLIGHT
BEGIN:STANDARD
TZOFFSETFROM:+0100
TZOFFSETTO:+0000
TZNAME:GMT
DTSTART:20251026T010000
END:STANDARD
BEGIN:DAYLIGHT
TZOFFSETFROM:+0000
TZOFFSETTO:+0100
TZNAME:BST
DTSTART:20260329T010000
END:DAYLIGHT
BEGIN:STANDARD
TZOFFSETFROM:+0100
TZOFFSETTO:+0000
TZNAME:GMT
DTSTART:20261025T010000
END:STANDARD
BEGIN:DAYLIGHT
TZOFFSETFROM:+0000
TZOFFSETTO:+0100
TZNAME:BST
DTSTART:20270328T010000
END:DAYLIGHT
BEGIN:STANDARD
TZOFFSETFROM:+0100
TZOFFSETTO:+0000
TZNAME:GMT
DTSTART:20271031T010000
END:STANDARD
END:VTIMEZONE
BEGIN:VEVENT
DTSTART;TZID=Europe/London:20260511T190000
DTEND;TZID=Europe/London:20260511T190000
DTSTAMP:20260420T111538
CREATED:20251115T163527Z
LAST-MODIFIED:20251115T163530Z
UID:14527-1778526000-1778526000@monyash.info
SUMMARY:Annual Parish Meeting
DESCRIPTION:An opportunity for residents to ask anything of the council. The meeting\, sometimes informally called the AGM\, will open with an address from the Parish Council Chair about what the council has achieved over the past year and what they are considering for the coming twelve months.
URL:https://monyash.info/event/annual-parish-meeting-4/
LOCATION:Monyash Village Hall\, Church Street\, Monyash\, DE45 1JH
END:VEVENT
BEGIN:VEVENT
DTSTART;TZID=Europe/London:20260511T193000
DTEND;TZID=Europe/London:20260511T193000
DTSTAMP:20260420T111538
CREATED:20251115T162534Z
LAST-MODIFIED:20251115T163628Z
UID:14512-1778527800-1778527800@monyash.info
SUMMARY:Parish Council meeting
DESCRIPTION:
URL:https://monyash.info/event/parish-council-meeting-78/
LOCATION:Monyash Village Hall\, Church Street\, Monyash\, DE45 1JH
END:VEVENT
BEGIN:VEVENT
DTSTART;TZID=Europe/London:20260512T180000
DTEND;TZID=Europe/London:20260512T190000
DTSTAMP:20260420T111538
CREATED:20260415T094737Z
LAST-MODIFIED:20260415T094749Z
UID:15178-1778608800-1778612400@monyash.info
SUMMARY:Pilates
DESCRIPTION:Classes by Caroline Webster \n\n\n\nMore details on our Pilates and Yoga page
URL:https://monyash.info/event/pilates-269/
LOCATION:Monyash Village Hall\, Church Street\, Monyash\, DE45 1JH
END:VEVENT
BEGIN:VEVENT
DTSTART;TZID=Europe/London:20260513T180000
DTEND;TZID=Europe/London:20260513T191500
DTSTAMP:20260420T111538
CREATED:20260419T205639Z
LAST-MODIFIED:20260419T205651Z
UID:15249-1778695200-1778699700@monyash.info
SUMMARY:Hatha Yoga
DESCRIPTION:Hatha Yoga ending with Yoga Nidra relaxationClasses by Caroline WebsterMore details on our Pilates and Yoga page
URL:https://monyash.info/event/hatha-yoga-152/
LOCATION:Monyash Village Hall\, Church Street\, Monyash\, DE45 1JH
END:VEVENT
BEGIN:VEVENT
DTSTART;TZID=Europe/London:20260517T100000
DTEND;TZID=Europe/London:20260517T100000
DTSTAMP:20260420T111538
CREATED:20260412T150006Z
LAST-MODIFIED:20260412T150810Z
UID:15138-1779012000-1779012000@monyash.info
SUMMARY:Puddling the wells
DESCRIPTION:Putting the clay in the wells frames ready for dressing.It will be in front of the old bus garage at Rowson House Farm – the last driveway on the left at edge of the village heading towards Bakewell\, just before the road starts to go downhill.
URL:https://monyash.info/event/puddling-the-wells-5/
LOCATION:Rowson House Farm\, Rowson House Farm\, Church Street\, Monyash\, DE45 1JH
END:VEVENT
BEGIN:VEVENT
DTSTART;TZID=Europe/London:20260518T000000
DTEND;TZID=Europe/London:20260522T235959
DTSTAMP:20260420T111538
CREATED:20260412T150959Z
LAST-MODIFIED:20260412T151002Z
UID:15145-1779062400-1779494399@monyash.info
SUMMARY:Dressing the Wells
DESCRIPTION:
URL:https://monyash.info/event/dressing-the-wells-5/
LOCATION:St Leonard’s Church\, Church Street\, Monyash\, DE45 1JH
END:VEVENT
BEGIN:VEVENT
DTSTART;TZID=Europe/London:20260519T180000
DTEND;TZID=Europe/London:20260519T190000
DTSTAMP:20260420T111538
CREATED:20260419T204705Z
LAST-MODIFIED:20260419T204713Z
UID:15241-1779213600-1779217200@monyash.info
SUMMARY:Pilates
DESCRIPTION:Classes by Caroline Webster.More details on our Pilates and Yoga page.PLEASE NOTE change of venue because Monyash Village Hall is being used for Well Dressing.
URL:https://monyash.info/event/pilates-279/
LOCATION:Flagg Village Hall\, Mycock Lane\, Flagg\, SK17 9ED
END:VEVENT
BEGIN:VEVENT
DTSTART;TZID=Europe/London:20260520T180000
DTEND;TZID=Europe/London:20260520T191500
DTSTAMP:20260420T111538
CREATED:20260419T205855Z
LAST-MODIFIED:20260419T205902Z
UID:15251-1779300000-1779304500@monyash.info
SUMMARY:Hatha Yoga
DESCRIPTION:Hatha Yoga ending with Yoga Nidra relaxationClasses by Caroline WebsterMore details on our Pilates and Yoga pagePLEASE NOTE the change of venue\, because Monyash Village Hall is being used for Well Dressing.
URL:https://monyash.info/event/hatha-yoga-153/
LOCATION:Flagg Village Hall\, Mycock Lane\, Flagg\, SK17 9ED
END:VEVENT
BEGIN:VEVENT
DTSTART;TZID=Europe/London:20260522T000000
DTEND;TZID=Europe/London:20260522T235959
DTSTAMP:20260420T111538
CREATED:20260412T152208Z
LAST-MODIFIED:20260412T152214Z
UID:15147-1779408000-1779494399@monyash.info
SUMMARY:Erecting Children’s Wells
DESCRIPTION:Exact time TBD for erecting the children’s well dressings
URL:https://monyash.info/event/erecting-childrens-wells-4/
LOCATION:Monyash Primary School\, Church Street\, Monyash\, DE45 1JH
END:VEVENT
BEGIN:VEVENT
DTSTART;TZID=Europe/London:20260525T000000
DTEND;TZID=Europe/London:20260529T235959
DTSTAMP:20260420T111538
CREATED:20250422T210231Z
LAST-MODIFIED:20250422T210233Z
UID:12828-1779667200-1780099199@monyash.info
SUMMARY:School Half Term
DESCRIPTION:
URL:https://monyash.info/event/school-half-term-23/
LOCATION:Monyash Primary School\, Church Street\, Monyash\, DE45 1JH
END:VEVENT
BEGIN:VEVENT
DTSTART;TZID=Europe/London:20260526T180000
DTEND;TZID=Europe/London:20260526T190000
DTSTAMP:20260420T111538
CREATED:20260415T094938Z
LAST-MODIFIED:20260415T094951Z
UID:15180-1779818400-1779822000@monyash.info
SUMMARY:Pilates
DESCRIPTION:Classes by Caroline Webster \n\n\n\nMore details on our Pilates and Yoga page
URL:https://monyash.info/event/pilates-270/
LOCATION:Monyash Village Hall\, Church Street\, Monyash\, DE45 1JH
END:VEVENT
BEGIN:VEVENT
DTSTART;TZID=Europe/London:20260527T180000
DTEND;TZID=Europe/London:20260527T191500
DTSTAMP:20260420T111538
CREATED:20260419T210101Z
LAST-MODIFIED:20260419T210108Z
UID:15253-1779904800-1779909300@monyash.info
SUMMARY:Hatha Yoga
DESCRIPTION:Hatha Yoga ending with Yoga Nidra relaxationClasses by Caroline WebsterMore details on our Pilates and Yoga page
URL:https://monyash.info/event/hatha-yoga-154/
LOCATION:Monyash Village Hall\, Church Street\, Monyash\, DE45 1JH
END:VEVENT
BEGIN:VEVENT
DTSTART;TZID=Europe/London:20260528T000000
DTEND;TZID=Europe/London:20260528T235959
DTSTAMP:20260420T111538
CREATED:20251129T170305Z
LAST-MODIFIED:20251129T170323Z
UID:14599-1779926400-1780012799@monyash.info
SUMMARY:Domestic bins emptied a day later
DESCRIPTION:Domestic bins will be emptied a day later than usual. For most of us\, this means green (if you subscribe to the garden waste scheme) and blue bins emptied on Thursday 28th May.
URL:https://monyash.info/event/domestic-bins-emptied-a-day-later-33/
END:VEVENT
BEGIN:VEVENT
DTSTART;TZID=Europe/London:20260601T000000
DTEND;TZID=Europe/London:20260601T235959
DTSTAMP:20260420T111538
CREATED:20251007T140831Z
LAST-MODIFIED:20251007T140834Z
UID:14202-1780272000-1780358399@monyash.info
SUMMARY:School INSET Day
DESCRIPTION:
URL:https://monyash.info/event/school-inset-day-19/
LOCATION:Monyash Primary School\, Church Street\, Monyash\, DE45 1JH
END:VEVENT
BEGIN:VEVENT
DTSTART;TZID=Europe/London:20260601T100000
DTEND;TZID=Europe/London:20260630T150000
DTSTAMP:20260420T111538
CREATED:20260412T102011Z
LAST-MODIFIED:20260412T102017Z
UID:15134-1780308000-1782831600@monyash.info
SUMMARY:Church Open 10am-3pm
DESCRIPTION:St Leonard’s is open every day from 10:00-15:00 for private prayer.We are looking forward to welcoming you inside our historic village church and know that you will help keep our village safe. Please take sensible precautions to avoid passing on any infection.
URL:https://monyash.info/event/church-open-10am-3pm-6/
LOCATION:St Leonard’s Church\, Church Street\, Monyash\, DE45 1JH
END:VEVENT
BEGIN:VEVENT
DTSTART;TZID=Europe/London:20260601T190000
DTEND;TZID=Europe/London:20260601T190000
DTSTAMP:20260420T111538
CREATED:20251115T162635Z
LAST-MODIFIED:20251115T162639Z
UID:14515-1780340400-1780340400@monyash.info
SUMMARY:Parish Council meeting
DESCRIPTION:Parish Council meeting
URL:https://monyash.info/event/parish-council-meeting-79/
LOCATION:Monyash Village Hall\, Church Street\, Monyash\, DE45 1JH
END:VEVENT
BEGIN:VEVENT
DTSTART;TZID=Europe/London:20260602T180000
DTEND;TZID=Europe/London:20260602T190000
DTSTAMP:20260420T111538
CREATED:20260419T212214Z
LAST-MODIFIED:20260419T212220Z
UID:15274-1780423200-1780426800@monyash.info
SUMMARY:Pilates
DESCRIPTION:Classes by Caroline Webster \n\n\n\nMore details on our Pilates and Yoga page
URL:https://monyash.info/event/pilates-280/
LOCATION:Monyash Village Hall\, Church Street\, Monyash\, DE45 1JH
END:VEVENT
BEGIN:VEVENT
DTSTART;TZID=Europe/London:20260603T173000
DTEND;TZID=Europe/London:20260603T184500
DTSTAMP:20260420T111538
CREATED:20260419T210231Z
LAST-MODIFIED:20260419T210740Z
UID:15255-1780507800-1780512300@monyash.info
SUMMARY:Hatha Yoga
DESCRIPTION:Hatha Yoga ending with Yoga Nidra relaxationClasses by Caroline WebsterMore details on our Pilates and Yoga page
URL:https://monyash.info/event/hatha-yoga-155/
LOCATION:Monyash Village Hall\, Church Street\, Monyash\, DE45 1JH
END:VEVENT
BEGIN:VEVENT
DTSTART;TZID=Europe/London:20260603T193000
DTEND;TZID=Europe/London:20260603T193000
DTSTAMP:20260420T111538
CREATED:20251115T152548Z
LAST-MODIFIED:20251115T152554Z
UID:14471-1780515000-1780515000@monyash.info
SUMMARY:WI
DESCRIPTION:Guest speaker\, competition and refreshments.
URL:https://monyash.info/event/wi-61/
LOCATION:Monyash Village Hall\, Church Street\, Monyash\, DE45 1JH
END:VEVENT
BEGIN:VEVENT
DTSTART;TZID=Europe/London:20260609T180000
DTEND;TZID=Europe/London:20260609T190000
DTSTAMP:20260420T111538
CREATED:20260415T095441Z
LAST-MODIFIED:20260415T095453Z
UID:15187-1781028000-1781031600@monyash.info
SUMMARY:Pilates
DESCRIPTION:Classes by Caroline Webster \n\n\n\nMore details on our Pilates and Yoga page
URL:https://monyash.info/event/pilates-272/
LOCATION:Monyash Village Hall\, Church Street\, Monyash\, DE45 1JH
END:VEVENT
BEGIN:VEVENT
DTSTART;TZID=Europe/London:20260610T180000
DTEND;TZID=Europe/London:20260610T191500
DTSTAMP:20260420T111538
CREATED:20260419T210340Z
LAST-MODIFIED:20260419T210345Z
UID:15257-1781114400-1781118900@monyash.info
SUMMARY:Hatha Yoga
DESCRIPTION:Hatha Yoga ending with Yoga Nidra relaxationClasses by Caroline WebsterMore details on our Pilates and Yoga page
URL:https://monyash.info/event/hatha-yoga-156/
LOCATION:Monyash Village Hall\, Church Street\, Monyash\, DE45 1JH
END:VEVENT
BEGIN:VEVENT
DTSTART;TZID=Europe/London:20260612T151500
DTEND;TZID=Europe/London:20260612T164500
DTSTAMP:20260420T111538
CREATED:20260408T211032Z
LAST-MODIFIED:20260408T211045Z
UID:15105-1781277300-1781282700@monyash.info
SUMMARY:Messy Church
DESCRIPTION:Messy Church is straight after school\, usually on the 2nd Friday of the month.£2 per child\, incuding food and squash.Children must be accompanied by an adult.
URL:https://monyash.info/event/messy-church-23/
LOCATION:Monyash Methodist Chapel\, Chapel Street\, Monyash\, DE45 1JJ
END:VEVENT
BEGIN:VEVENT
DTSTART;TZID=Europe/London:20260616T180000
DTEND;TZID=Europe/London:20260616T180000
DTSTAMP:20260420T111538
CREATED:20260419T204851Z
LAST-MODIFIED:20260419T204900Z
UID:15243-1781632800-1781632800@monyash.info
SUMMARY:No Pilates
DESCRIPTION:Pilates is taking a break for holidays.  Classes resume 23rd June.
URL:https://monyash.info/event/no-pilates-28/
LOCATION:Monyash Village Hall\, Church Street\, Monyash\, DE45 1JH
END:VEVENT
BEGIN:VEVENT
DTSTART;TZID=Europe/London:20260617T180000
DTEND;TZID=Europe/London:20260617T180000
DTSTAMP:20260420T111538
CREATED:20260419T210503Z
LAST-MODIFIED:20260419T210512Z
UID:15259-1781719200-1781719200@monyash.info
SUMMARY:No Hatha Yoga
DESCRIPTION:Hatha Yoga is taking a break for holidays.  Classes resume on 24th June.
URL:https://monyash.info/event/no-hatha-yoga-7/
LOCATION:Monyash Village Hall\, Church Street\, Monyash\, DE45 1JH
END:VEVENT
BEGIN:VEVENT
DTSTART;TZID=Europe/London:20260623T180000
DTEND;TZID=Europe/London:20260623T190000
DTSTAMP:20260420T111538
CREATED:20260415T095624Z
LAST-MODIFIED:20260419T203320Z
UID:15189-1782237600-1782241200@monyash.info
SUMMARY:Pilates
DESCRIPTION:Classes by Caroline Webster \n\n\n\nMore details on our Pilates and Yoga page
URL:https://monyash.info/event/pilates-273/
LOCATION:Monyash Village Hall\, Church Street\, Monyash\, DE45 1JH
END:VEVENT
BEGIN:VEVENT
DTSTART;TZID=Europe/London:20260624T180000
DTEND;TZID=Europe/London:20260624T191500
DTSTAMP:20260420T111538
CREATED:20260419T210713Z
LAST-MODIFIED:20260419T210723Z
UID:15261-1782324000-1782328500@monyash.info
SUMMARY:Hatha Yoga
DESCRIPTION:Hatha Yoga ending with Yoga Nidra relaxationClasses by Caroline WebsterMore details on our Pilates and Yoga page
URL:https://monyash.info/event/hatha-yoga-157/
LOCATION:Monyash Village Hall\, Church Street\, Monyash\, DE45 1JH
END:VEVENT
BEGIN:VEVENT
DTSTART;TZID=Europe/London:20260630T180000
DTEND;TZID=Europe/London:20260630T190000
DTSTAMP:20260420T111538
CREATED:20260415T100153Z
LAST-MODIFIED:20260415T100206Z
UID:15191-1782842400-1782846000@monyash.info
SUMMARY:Pilates
DESCRIPTION:Classes by Caroline Webster \n\n\n\nMore details on our Pilates and Yoga page
URL:https://monyash.info/event/pilates-274/
LOCATION:Monyash Village Hall\, Church Street\, Monyash\, DE45 1JH
END:VEVENT
BEGIN:VEVENT
DTSTART;TZID=Europe/London:20260701T100000
DTEND;TZID=Europe/London:20260731T150000
DTSTAMP:20260420T111538
CREATED:20260412T102517Z
LAST-MODIFIED:20260412T102520Z
UID:15136-1782900000-1785510000@monyash.info
SUMMARY:Church Open 10am-3pm
DESCRIPTION:St Leonard’s is open every day from 10:00-15:00 for private prayer.We are looking forward to welcoming you inside our historic village church and know that you will help keep our village safe. Please take sensible precautions to avoid passing on any infection.
URL:https://monyash.info/event/church-open-10am-3pm-7/
LOCATION:St Leonard’s Church\, Church Street\, Monyash\, DE45 1JH
END:VEVENT
BEGIN:VEVENT
DTSTART;TZID=Europe/London:20260701T173000
DTEND;TZID=Europe/London:20260701T184500
DTSTAMP:20260420T111538
CREATED:20260419T210919Z
LAST-MODIFIED:20260419T210927Z
UID:15264-1782927000-1782931500@monyash.info
SUMMARY:Hatha Yoga
DESCRIPTION:Hatha Yoga ending with Yoga Nidra relaxationClasses by Caroline WebsterMore details on our Pilates and Yoga page
URL:https://monyash.info/event/hatha-yoga-158/
LOCATION:Monyash Village Hall\, Church Street\, Monyash\, DE45 1JH
END:VEVENT
BEGIN:VEVENT
DTSTART;TZID=Europe/London:20260701T193000
DTEND;TZID=Europe/London:20260701T193000
DTSTAMP:20260420T111538
CREATED:20251115T152720Z
LAST-MODIFIED:20251115T152724Z
UID:14473-1782934200-1782934200@monyash.info
SUMMARY:WI
DESCRIPTION:Guest speaker\, competition and refreshments.
URL:https://monyash.info/event/wi-62/
LOCATION:Monyash Village Hall\, Church Street\, Monyash\, DE45 1JH
END:VEVENT
END:VCALENDAR