BEGIN:VCALENDAR
VERSION:2.0
PRODID:-//Monyash Village - ECPv6.15.20//NONSGML v1.0//EN
CALSCALE:GREGORIAN
METHOD:PUBLISH
X-WR-CALNAME:Monyash Village
X-ORIGINAL-URL:https://monyash.info
X-WR-CALDESC:Events for Monyash Village
REFRESH-INTERVAL;VALUE=DURATION:PT1H
X-Robots-Tag:noindex
X-PUBLISHED-TTL:PT1H
BEGIN:VTIMEZONE
TZID:Europe/London
BEGIN:DAYLIGHT
TZOFFSETFROM:+0000
TZOFFSETTO:+0100
TZNAME:BST
DTSTART:20200329T010000
END:DAYLIGHT
BEGIN:STANDARD
TZOFFSETFROM:+0100
TZOFFSETTO:+0000
TZNAME:GMT
DTSTART:20201025T010000
END:STANDARD
BEGIN:DAYLIGHT
TZOFFSETFROM:+0000
TZOFFSETTO:+0100
TZNAME:BST
DTSTART:20210328T010000
END:DAYLIGHT
BEGIN:STANDARD
TZOFFSETFROM:+0100
TZOFFSETTO:+0000
TZNAME:GMT
DTSTART:20211031T010000
END:STANDARD
BEGIN:DAYLIGHT
TZOFFSETFROM:+0000
TZOFFSETTO:+0100
TZNAME:BST
DTSTART:20220327T010000
END:DAYLIGHT
BEGIN:STANDARD
TZOFFSETFROM:+0100
TZOFFSETTO:+0000
TZNAME:GMT
DTSTART:20221030T010000
END:STANDARD
END:VTIMEZONE
BEGIN:VEVENT
DTSTART;TZID=Europe/London:20211031T100000
DTEND;TZID=Europe/London:20211031T100000
DTSTAMP:20260420T151351
CREATED:20210928T105015Z
LAST-MODIFIED:20210928T105018Z
UID:4740-1635674400-1635674400@monyash.info
SUMMARY:Church Service
DESCRIPTION:A very special service for All Saints Day and our Patronal Festival – for St Leonard after whom our church is named. \n\n\n\nThis will be a warm\, welcoming ‘come to church’ interactive informal service for all ages followed by refreshments & time to chat.  It will be led by the ministry team from Tideswell Parish Church.
URL:https://monyash.info/event/church-service-9/
LOCATION:St Leonard’s Church\, Church Street\, Monyash\, DE45 1JH
END:VEVENT
BEGIN:VEVENT
DTSTART;TZID=Europe/London:20211029T140000
DTEND;TZID=Europe/London:20211029T153000
DTSTAMP:20260420T151351
CREATED:20210709T155716Z
LAST-MODIFIED:20210711T105038Z
UID:4143-1635516000-1635521400@monyash.info
SUMMARY:Crafternoon
DESCRIPTION:Tea & Cake\, Crafts and Chat – what’s not to like?! \n£1.50 – All welcome
URL:https://monyash.info/event/crafternoon-39/
LOCATION:Monyash Village Hall\, Church Street\, Monyash\, DE45 1JH
END:VEVENT
BEGIN:VEVENT
DTSTART;TZID=Europe/London:20211027T093000
DTEND;TZID=Europe/London:20211027T103000
DTSTAMP:20260420T151351
CREATED:20210913T143638Z
LAST-MODIFIED:20210913T143642Z
UID:4677-1635327000-1635330600@monyash.info
SUMMARY:Pilates
DESCRIPTION:Classes by Caroline Webster \n\n\n\nMore details on our Pilates page
URL:https://monyash.info/event/pilates-16/
LOCATION:Monyash Village Hall\, Church Street\, Monyash\, DE45 1JH
END:VEVENT
BEGIN:VEVENT
DTSTART;TZID=Europe/London:20211026T180000
DTEND;TZID=Europe/London:20211026T190000
DTSTAMP:20260420T151351
CREATED:20210913T142333Z
LAST-MODIFIED:20210913T142336Z
UID:4657-1635271200-1635274800@monyash.info
SUMMARY:Pilates
DESCRIPTION:Classes by Caroline Webster \n\n\n\nMore details on our Pilates page
URL:https://monyash.info/event/pilates-7/
LOCATION:Monyash Village Hall\, Church Street\, Monyash\, DE45 1JH
END:VEVENT
BEGIN:VEVENT
DTSTART;TZID=Europe/London:20211025T000000
DTEND;TZID=Europe/London:20211029T235959
DTSTAMP:20260420T151351
CREATED:20210827T153055Z
LAST-MODIFIED:20210827T153058Z
UID:4512-1635120000-1635551999@monyash.info
SUMMARY:School Half Term
DESCRIPTION:
URL:https://monyash.info/event/school-half-term-9/
LOCATION:Monyash Primary School\, Church Street\, Monyash\, DE45 1JH
END:VEVENT
BEGIN:VEVENT
DTSTART;TZID=Europe/London:20211022T000000
DTEND;TZID=Europe/London:20211022T235959
DTSTAMP:20260420T151351
CREATED:20210827T152916Z
LAST-MODIFIED:20210827T154220Z
UID:4510-1634860800-1634947199@monyash.info
SUMMARY:School INSET Day
DESCRIPTION:
URL:https://monyash.info/event/inset-day/
LOCATION:Monyash Primary School\, Church Street\, Monyash\, DE45 1JH
END:VEVENT
BEGIN:VEVENT
DTSTART;TZID=Europe/London:20211020T115500
DTEND;TZID=Europe/London:20211020T123000
DTSTAMP:20260420T151351
CREATED:20210824T131300Z
LAST-MODIFIED:20210824T131302Z
UID:4480-1634730900-1634733000@monyash.info
SUMMARY:Mobile Library
DESCRIPTION:
URL:https://monyash.info/event/mobile-library-27/
LOCATION:The Square\, The Square\, Monyash\, DE45 1JH
END:VEVENT
BEGIN:VEVENT
DTSTART;TZID=Europe/London:20211020T093000
DTEND;TZID=Europe/London:20211020T103000
DTSTAMP:20260420T151351
CREATED:20210913T143746Z
LAST-MODIFIED:20210913T143750Z
UID:4679-1634722200-1634725800@monyash.info
SUMMARY:Pilates
DESCRIPTION:Classes by Caroline Webster \n\n\n\nMore details on our Pilates page
URL:https://monyash.info/event/pilates-17/
LOCATION:Monyash Village Hall\, Church Street\, Monyash\, DE45 1JH
END:VEVENT
BEGIN:VEVENT
DTSTART;TZID=Europe/London:20211019T180000
DTEND;TZID=Europe/London:20211019T190000
DTSTAMP:20260420T151351
CREATED:20210913T142113Z
LAST-MODIFIED:20210913T142116Z
UID:4655-1634666400-1634670000@monyash.info
SUMMARY:Pilates
DESCRIPTION:Classes by Caroline Webster \n\n\n\nMore details on our Pilates page
URL:https://monyash.info/event/pilates-6/
LOCATION:Monyash Village Hall\, Church Street\, Monyash\, DE45 1JH
END:VEVENT
BEGIN:VEVENT
DTSTART;TZID=Europe/London:20211015T140000
DTEND;TZID=Europe/London:20211015T153000
DTSTAMP:20260420T151351
CREATED:20210709T155627Z
LAST-MODIFIED:20210711T105015Z
UID:4141-1634306400-1634311800@monyash.info
SUMMARY:Crafternoon
DESCRIPTION:Tea & Cake\, Crafts and Chat – what’s not to like?! \n£1.50 – All welcome
URL:https://monyash.info/event/crafternoon-38/
LOCATION:Monyash Village Hall\, Church Street\, Monyash\, DE45 1JH
END:VEVENT
BEGIN:VEVENT
DTSTART;TZID=Europe/London:20211013T093000
DTEND;TZID=Europe/London:20211013T103000
DTSTAMP:20260420T151351
CREATED:20210913T144030Z
LAST-MODIFIED:20210913T144033Z
UID:4682-1634117400-1634121000@monyash.info
SUMMARY:Pilates
DESCRIPTION:Classes by Caroline Webster \n\n\n\nMore details on our Pilates page
URL:https://monyash.info/event/pilates-18/
LOCATION:Monyash Village Hall\, Church Street\, Monyash\, DE45 1JH
END:VEVENT
BEGIN:VEVENT
DTSTART;TZID=Europe/London:20211012T180000
DTEND;TZID=Europe/London:20211012T190000
DTSTAMP:20260420T151351
CREATED:20210913T142005Z
LAST-MODIFIED:20210913T142008Z
UID:4653-1634061600-1634065200@monyash.info
SUMMARY:Pilates
DESCRIPTION:Classes by Caroline Webster \n\n\n\nMore details on our Pilates page
URL:https://monyash.info/event/pilates-5/
LOCATION:Monyash Village Hall\, Church Street\, Monyash\, DE45 1JH
END:VEVENT
BEGIN:VEVENT
DTSTART;TZID=Europe/London:20211006T193000
DTEND;TZID=Europe/London:20211006T193000
DTSTAMP:20260420T151351
CREATED:20210913T131950Z
LAST-MODIFIED:20210913T131953Z
UID:4635-1633548600-1633548600@monyash.info
SUMMARY:WI
DESCRIPTION:
URL:https://monyash.info/event/wi-23/
LOCATION:Monyash Village Hall\, Church Street\, Monyash\, DE45 1JH
END:VEVENT
BEGIN:VEVENT
DTSTART;TZID=Europe/London:20211006T093000
DTEND;TZID=Europe/London:20211006T103000
DTSTAMP:20260420T151351
CREATED:20210913T144135Z
LAST-MODIFIED:20210913T144138Z
UID:4684-1633512600-1633516200@monyash.info
SUMMARY:Pilates
DESCRIPTION:Classes by Caroline Webster \n\n\n\nMore details on our Pilates page
URL:https://monyash.info/event/pilates-19/
LOCATION:Monyash Village Hall\, Church Street\, Monyash\, DE45 1JH
END:VEVENT
BEGIN:VEVENT
DTSTART;TZID=Europe/London:20211005T180000
DTEND;TZID=Europe/London:20211005T190000
DTSTAMP:20260420T151351
CREATED:20210913T141845Z
LAST-MODIFIED:20210913T141847Z
UID:4651-1633456800-1633460400@monyash.info
SUMMARY:Pilates
DESCRIPTION:Classes by Caroline Webster \n\n\n\nMore details on our Pilates page
URL:https://monyash.info/event/pilates-4/
LOCATION:Monyash Village Hall\, Church Street\, Monyash\, DE45 1JH
END:VEVENT
BEGIN:VEVENT
DTSTART;TZID=Europe/London:20211004T190000
DTEND;TZID=Europe/London:20211004T190000
DTSTAMP:20260420T151351
CREATED:20201211T163652Z
LAST-MODIFIED:20210609T145059Z
UID:3531-1633374000-1633374000@monyash.info
SUMMARY:Parish Council meeting
DESCRIPTION:
URL:https://monyash.info/event/parish-council-meeting-29/
LOCATION:Monyash Village Hall\, Church Street\, Monyash\, DE45 1JH
END:VEVENT
BEGIN:VEVENT
DTSTART;TZID=Europe/London:20211003T100000
DTEND;TZID=Europe/London:20211003T100000
DTSTAMP:20260420T151351
CREATED:20210928T102431Z
LAST-MODIFIED:20210928T102434Z
UID:4738-1633255200-1633255200@monyash.info
SUMMARY:Church Service
DESCRIPTION:Holy Communion
URL:https://monyash.info/event/church-service-8/
LOCATION:St Leonard’s Church\, Church Street\, Monyash\, DE45 1JH
END:VEVENT
BEGIN:VEVENT
DTSTART;TZID=Europe/London:20211002T190000
DTEND;TZID=Europe/London:20211002T190000
DTSTAMP:20260420T151351
CREATED:20210902T155411Z
LAST-MODIFIED:20210929T213213Z
UID:4557-1633201200-1633201200@monyash.info
SUMMARY:Ceilidh cancelled
DESCRIPTION:It’s hoped to hold the Ceilidh in the spring
URL:https://monyash.info/event/ceilidh-2/
LOCATION:Monyash Village Hall\, Church Street\, Monyash\, DE45 1JH
END:VEVENT
BEGIN:VEVENT
DTSTART;TZID=Europe/London:20211001T140000
DTEND;TZID=Europe/London:20211001T153000
DTSTAMP:20260420T151351
CREATED:20210709T155548Z
LAST-MODIFIED:20210711T104952Z
UID:4139-1633096800-1633102200@monyash.info
SUMMARY:Crafternoon
DESCRIPTION:Tea & Cake\, Crafts and Chat – what’s not to like?! \n£1.50 – All welcome
URL:https://monyash.info/event/crafternoon-37/
LOCATION:Monyash Village Hall\, Church Street\, Monyash\, DE45 1JH
END:VEVENT
BEGIN:VEVENT
DTSTART;TZID=Europe/London:20210930T140000
DTEND;TZID=Europe/London:20210930T235900
DTSTAMP:20260420T151351
CREATED:20210829T163824Z
LAST-MODIFIED:20210829T163826Z
UID:4537-1633010400-1633046340@monyash.info
SUMMARY:Free afternoon parking - last day
DESCRIPTION:DDDC car parks are free to use after 2pm throughout September.
URL:https://monyash.info/event/free-afternoon-parking-last-day/
END:VEVENT
BEGIN:VEVENT
DTSTART;TZID=Europe/London:20210929T093000
DTEND;TZID=Europe/London:20210929T103000
DTSTAMP:20260420T151351
CREATED:20210913T144254Z
LAST-MODIFIED:20210913T144255Z
UID:4686-1632907800-1632911400@monyash.info
SUMMARY:Pilates
DESCRIPTION:Classes by Caroline Webster \n\n\n\nMore details on our Pilates page
URL:https://monyash.info/event/pilates-20/
LOCATION:Monyash Village Hall\, Church Street\, Monyash\, DE45 1JH
END:VEVENT
BEGIN:VEVENT
DTSTART;TZID=Europe/London:20210928T180000
DTEND;TZID=Europe/London:20210928T190000
DTSTAMP:20260420T151351
CREATED:20210913T141644Z
LAST-MODIFIED:20210913T141720Z
UID:4648-1632852000-1632855600@monyash.info
SUMMARY:Pilates
DESCRIPTION:Classes by Caroline Webster \n\n\n\nMore details on our Pilates page
URL:https://monyash.info/event/4648/
LOCATION:Monyash Village Hall\, Church Street\, Monyash\, DE45 1JH
END:VEVENT
BEGIN:VEVENT
DTSTART;TZID=Europe/London:20210926T100000
DTEND;TZID=Europe/London:20210926T100000
DTSTAMP:20260420T151351
CREATED:20210827T141757Z
LAST-MODIFIED:20210827T141759Z
UID:4503-1632650400-1632650400@monyash.info
SUMMARY:Church Service
DESCRIPTION:Holy Communion
URL:https://monyash.info/event/church-service-7/
LOCATION:St Leonard’s Church\, Church Street\, Monyash\, DE45 1JH
END:VEVENT
BEGIN:VEVENT
DTSTART;TZID=Europe/London:20210922T115500
DTEND;TZID=Europe/London:20210922T123000
DTSTAMP:20260420T151351
CREATED:20210824T131142Z
LAST-MODIFIED:20210824T131145Z
UID:4478-1632311700-1632313800@monyash.info
SUMMARY:Mobile Library
DESCRIPTION:
URL:https://monyash.info/event/mobile-library-26/
LOCATION:The Square\, The Square\, Monyash\, DE45 1JH
END:VEVENT
BEGIN:VEVENT
DTSTART;TZID=Europe/London:20210922T093000
DTEND;TZID=Europe/London:20210922T103000
DTSTAMP:20260420T151351
CREATED:20210913T144415Z
LAST-MODIFIED:20210913T144417Z
UID:4688-1632303000-1632306600@monyash.info
SUMMARY:Pilates
DESCRIPTION:Classes by Caroline Webster \n\n\n\nMore details on our Pilates page
URL:https://monyash.info/event/pilates-21/
LOCATION:Monyash Village Hall\, Church Street\, Monyash\, DE45 1JH
END:VEVENT
BEGIN:VEVENT
DTSTART;TZID=Europe/London:20210921T180000
DTEND;TZID=Europe/London:20210921T190000
DTSTAMP:20260420T151351
CREATED:20210913T141516Z
LAST-MODIFIED:20210913T141519Z
UID:4646-1632247200-1632250800@monyash.info
SUMMARY:Pilates
DESCRIPTION:Classes by Caroline Webster \n\n\n\nMore details on our Pilates page
URL:https://monyash.info/event/pilates-3/
LOCATION:Monyash Village Hall\, Church Street\, Monyash\, DE45 1JH
END:VEVENT
BEGIN:VEVENT
DTSTART;TZID=Europe/London:20210920T100000
DTEND;TZID=Europe/London:20210930T150000
DTSTAMP:20260420T151351
CREATED:20210706T104521Z
LAST-MODIFIED:20210915T203503Z
UID:4112-1632132000-1633014000@monyash.info
SUMMARY:Church open 10:00-15:00
DESCRIPTION:St Leonard’s is open every day from 10:00-15:00 for private prayer. \nPlease remember to keep yourself and others safe. Wear a mask\, keep your distance and if you have COVID-19 symptoms or have been in contact with someone who has it in the last 14 days\, please go home.
URL:https://monyash.info/event/church-open-17/
LOCATION:St Leonard’s Church\, Church Street\, Monyash\, DE45 1JH
END:VEVENT
BEGIN:VEVENT
DTSTART;TZID=Europe/London:20210919T180000
DTEND;TZID=Europe/London:20210919T180000
DTSTAMP:20260420T151351
CREATED:20210827T142009Z
LAST-MODIFIED:20210913T130501Z
UID:4505-1632074400-1632074400@monyash.info
SUMMARY:Harvest Festival Service
DESCRIPTION:Led by the Reverend Andrew Parker and Deacon Lorraine Brown from Monyash Methodist Chapel \n\n\n\nPlease bring donations for the food bank – details in the flyer which you can view or download here.
URL:https://monyash.info/event/harvest-festival-service-2/
LOCATION:St Leonard’s Church\, Church Street\, Monyash\, DE45 1JH
END:VEVENT
BEGIN:VEVENT
DTSTART;TZID=Europe/London:20210917T140000
DTEND;TZID=Europe/London:20210917T153000
DTSTAMP:20260420T151351
CREATED:20210709T155501Z
LAST-MODIFIED:20210711T104901Z
UID:4137-1631887200-1631892600@monyash.info
SUMMARY:Crafternoon
DESCRIPTION:Tea & Cake\, Crafts and Chat – what’s not to like?! \n£1.50 – All welcome
URL:https://monyash.info/event/crafternoon-36/
LOCATION:Monyash Village Hall\, Church Street\, Monyash\, DE45 1JH
END:VEVENT
BEGIN:VEVENT
DTSTART;TZID=Europe/London:20210915T093000
DTEND;TZID=Europe/London:20210915T103000
DTSTAMP:20260420T151351
CREATED:20210905T144250Z
LAST-MODIFIED:20210913T140718Z
UID:4580-1631698200-1631701800@monyash.info
SUMMARY:Pilates
DESCRIPTION:Classes by Caroline Webster \n\n\n\nMore details on our Pilates page
URL:https://monyash.info/event/pilates-2/
LOCATION:Monyash Village Hall\, Church Street\, Monyash\, DE45 1JH
END:VEVENT
END:VCALENDAR