BEGIN:VCALENDAR
VERSION:2.0
PRODID:-//Monyash Village - ECPv6.15.20//NONSGML v1.0//EN
CALSCALE:GREGORIAN
METHOD:PUBLISH
X-WR-CALNAME:Monyash Village
X-ORIGINAL-URL:https://monyash.info
X-WR-CALDESC:Events for Monyash Village
REFRESH-INTERVAL;VALUE=DURATION:PT1H
X-Robots-Tag:noindex
X-PUBLISHED-TTL:PT1H
BEGIN:VTIMEZONE
TZID:Europe/London
BEGIN:DAYLIGHT
TZOFFSETFROM:+0000
TZOFFSETTO:+0100
TZNAME:BST
DTSTART:20220327T010000
END:DAYLIGHT
BEGIN:STANDARD
TZOFFSETFROM:+0100
TZOFFSETTO:+0000
TZNAME:GMT
DTSTART:20221030T010000
END:STANDARD
BEGIN:DAYLIGHT
TZOFFSETFROM:+0000
TZOFFSETTO:+0100
TZNAME:BST
DTSTART:20230326T010000
END:DAYLIGHT
BEGIN:STANDARD
TZOFFSETFROM:+0100
TZOFFSETTO:+0000
TZNAME:GMT
DTSTART:20231029T010000
END:STANDARD
BEGIN:DAYLIGHT
TZOFFSETFROM:+0000
TZOFFSETTO:+0100
TZNAME:BST
DTSTART:20240331T010000
END:DAYLIGHT
BEGIN:STANDARD
TZOFFSETFROM:+0100
TZOFFSETTO:+0000
TZNAME:GMT
DTSTART:20241027T010000
END:STANDARD
END:VTIMEZONE
BEGIN:VEVENT
DTSTART;TZID=Europe/London:20231110T090000
DTEND;TZID=Europe/London:20231110T110000
DTSTAMP:20260420T063221
CREATED:20230824T200653Z
LAST-MODIFIED:20230930T154204Z
UID:9053-1699606800-1699614000@monyash.info
SUMMARY:Tea and Tots
DESCRIPTION:Tea and Tots is a playgroup\, aimed at babies and preschoolers\, for local families and friends to get together for a cuppa\, chat and play! Whilst we are aimed at preschool ages\, anyone is welcome to pop in and join us.Tea coffee\, snacks and a variety of toys are provided. Parents are responsible for their children whilst there.Hope to see you soon!
URL:https://monyash.info/event/tea-and-tots-19/
LOCATION:Monyash Village Hall\, Church Street\, Monyash\, DE45 1JH
END:VEVENT
BEGIN:VEVENT
DTSTART;TZID=Europe/London:20231109T193000
DTEND;TZID=Europe/London:20231109T202000
DTSTAMP:20260420T063221
CREATED:20231030T135211Z
LAST-MODIFIED:20231030T135215Z
UID:9335-1699558200-1699561200@monyash.info
SUMMARY:Pilates for men
DESCRIPTION:Classes by Caroline Webster \n\n\n\nMore details on our Pilates and Yoga page
URL:https://monyash.info/event/pilates-for-men/
LOCATION:Monyash Village Hall\, Church Street\, Monyash\, DE45 1JH
END:VEVENT
BEGIN:VEVENT
DTSTART;TZID=Europe/London:20231107T180000
DTEND;TZID=Europe/London:20231107T190000
DTSTAMP:20260420T063221
CREATED:20230824T193653Z
LAST-MODIFIED:20231030T141216Z
UID:9013-1699380000-1699383600@monyash.info
SUMMARY:Pilates
DESCRIPTION:Classes by Caroline Webster \n\n\n\nMore details on our Pilates and Yoga page
URL:https://monyash.info/event/pilates-152/
LOCATION:Monyash Village Hall\, Church Street\, Monyash\, DE45 1JH
END:VEVENT
BEGIN:VEVENT
DTSTART;TZID=Europe/London:20231107T140000
DTEND;TZID=Europe/London:20231107T160000
DTSTAMP:20260420T063221
CREATED:20230824T195808Z
LAST-MODIFIED:20230923T121300Z
UID:9039-1699365600-1699372800@monyash.info
SUMMARY:Monyash Quilters
DESCRIPTION:A friendly group with a wide range of creative talent who love making beautiful quilts and anything crafty. Drop into one of our weekly meetings as a taster to see what we do and if we can tempt you to join.
URL:https://monyash.info/event/monyash-quilters-29/
LOCATION:Monyash Village Hall\, Church Street\, Monyash\, DE45 1JH
END:VEVENT
BEGIN:VEVENT
DTSTART;TZID=Europe/London:20231106T190000
DTEND;TZID=Europe/London:20231106T190000
DTSTAMP:20260420T063221
CREATED:20230109T213522Z
LAST-MODIFIED:20230109T213524Z
UID:7643-1699297200-1699297200@monyash.info
SUMMARY:Parish Council meeting
DESCRIPTION:
URL:https://monyash.info/event/parish-council-meeting-51/
LOCATION:Monyash Village Hall\, Church Street\, Monyash\, DE45 1JH
END:VEVENT
BEGIN:VEVENT
DTSTART;TZID=Europe/London:20231106T173000
DTEND;TZID=Europe/London:20231106T184500
DTSTAMP:20260420T063221
CREATED:20230930T150446Z
LAST-MODIFIED:20230930T150449Z
UID:9229-1699291800-1699296300@monyash.info
SUMMARY:Iyengar Yoga
DESCRIPTION:Classes by Dave Swinhoe \n\n\n\nMore details about Iyengar Yoga on the IYUK website
URL:https://monyash.info/event/iyengar-yoga-3/
LOCATION:Monyash Village Hall\, Church Street\, Monyash\, DE45 1JH
END:VEVENT
BEGIN:VEVENT
DTSTART;TZID=Europe/London:20231105T100000
DTEND;TZID=Europe/London:20231105T160000
DTSTAMP:20260420T063221
CREATED:20230910T103559Z
LAST-MODIFIED:20230910T103602Z
UID:9100-1699178400-1699200000@monyash.info
SUMMARY:Makers and Crafters Fair
DESCRIPTION:Monyash Quilters present a Makers and Crafters Fair \n\n\n\nAttendance is FREE and refreshments are available. \n\n\n\nFull details are in this poster which you can read or download.
URL:https://monyash.info/event/makers-and-crafters-fair/
LOCATION:Monyash Village Hall\, Church Street\, Monyash\, DE45 1JH
END:VEVENT
BEGIN:VEVENT
DTSTART;TZID=Europe/London:20231103T090000
DTEND;TZID=Europe/London:20231103T110000
DTSTAMP:20260420T063221
CREATED:20230824T200608Z
LAST-MODIFIED:20230930T154146Z
UID:9051-1699002000-1699009200@monyash.info
SUMMARY:Tea and Tots
DESCRIPTION:Tea and Tots is a playgroup\, aimed at babies and preschoolers\, for local families and friends to get together for a cuppa\, chat and play! Whilst we are aimed at preschool ages\, anyone is welcome to pop in and join us.Tea coffee\, snacks and a variety of toys are provided. Parents are responsible for their children whilst there.Hope to see you soon!
URL:https://monyash.info/event/tea-and-tots-18/
LOCATION:Monyash Village Hall\, Church Street\, Monyash\, DE45 1JH
END:VEVENT
BEGIN:VEVENT
DTSTART;TZID=Europe/London:20231101T193000
DTEND;TZID=Europe/London:20231101T193000
DTSTAMP:20260420T063221
CREATED:20230609T130558Z
LAST-MODIFIED:20230609T144652Z
UID:8524-1698867000-1698867000@monyash.info
SUMMARY:WI
DESCRIPTION:Guest speaker\, competition and refreshments.
URL:https://monyash.info/event/wi-37/
LOCATION:Monyash Village Hall\, Church Street\, Monyash\, DE45 1JH
END:VEVENT
BEGIN:VEVENT
DTSTART;TZID=Europe/London:20231031T180000
DTEND;TZID=Europe/London:20231031T190000
DTSTAMP:20260420T063221
CREATED:20230731T110723Z
LAST-MODIFIED:20231030T141139Z
UID:8908-1698775200-1698778800@monyash.info
SUMMARY:Pilates
DESCRIPTION:Classes by Caroline Webster \n\n\n\nMore details on our Pilates and Yoga page
URL:https://monyash.info/event/pilates-142/
LOCATION:Monyash Village Hall\, Church Street\, Monyash\, DE45 1JH
END:VEVENT
BEGIN:VEVENT
DTSTART;TZID=Europe/London:20231031T140000
DTEND;TZID=Europe/London:20231031T160000
DTSTAMP:20260420T063221
CREATED:20230731T125835Z
LAST-MODIFIED:20230923T121231Z
UID:8938-1698760800-1698768000@monyash.info
SUMMARY:Monyash Quilters
DESCRIPTION:A friendly group with a wide range of creative talent who love making beautiful quilts and anything crafty. Drop into one of our weekly meetings as a taster to see what we do and if we can tempt you to join.
URL:https://monyash.info/event/monyash-quilters-28/
LOCATION:Monyash Village Hall\, Church Street\, Monyash\, DE45 1JH
END:VEVENT
BEGIN:VEVENT
DTSTART;TZID=Europe/London:20231031T083000
DTEND;TZID=Europe/London:20231031T120000
DTSTAMP:20260420T063221
CREATED:20231031T144951Z
LAST-MODIFIED:20231031T144954Z
UID:9363-1698741000-1698753600@monyash.info
SUMMARY:Macmillan Coffee Morning
DESCRIPTION:The Bull’s Head is hosting a coffee morning to raise funds for Macmillan Cancer Support. Entrance is free\, so please just turn up\, make a donation to Macmillan and enjoy a mingle and a brew 🍵☕🍰🥓 \n\n\n\nBaking donations and raffle prizes are welcome\, but the most important thing is to just be there. \n\n\n\nYou can find out more about Macmillan on their website here.
URL:https://monyash.info/event/macmillan-coffee-morning-3/
LOCATION:The Bull’s Head\, The Square\, Monyash\, DE45 1JH
END:VEVENT
BEGIN:VEVENT
DTSTART;TZID=Europe/London:20231030T173000
DTEND;TZID=Europe/London:20231030T173000
DTSTAMP:20260420T063221
CREATED:20230930T151059Z
LAST-MODIFIED:20230930T151101Z
UID:9241-1698687000-1698687000@monyash.info
SUMMARY:No Iyengar Yoga
DESCRIPTION:Iyengar Yoga is taking a three-week break.  The next class will be on 6th November.
URL:https://monyash.info/event/no-iyengar-yoga-3/
LOCATION:Monyash Village Hall\, Church Street\, Monyash\, DE45 1JH
END:VEVENT
BEGIN:VEVENT
DTSTART;TZID=Europe/London:20231030T000000
DTEND;TZID=Europe/London:20231103T235959
DTSTAMP:20260420T063221
CREATED:20220125T152037Z
LAST-MODIFIED:20220125T152040Z
UID:5231-1698624000-1699055999@monyash.info
SUMMARY:School Half Term
DESCRIPTION:
URL:https://monyash.info/event/school-half-term-13/
LOCATION:Monyash Primary School\, Church Street\, Monyash\, DE45 1JH
END:VEVENT
BEGIN:VEVENT
DTSTART;TZID=Europe/London:20231027T140000
DTEND;TZID=Europe/London:20231027T153000
DTSTAMP:20260420T063221
CREATED:20230731T130110Z
LAST-MODIFIED:20230731T130113Z
UID:8942-1698415200-1698420600@monyash.info
SUMMARY:Crafternoon
DESCRIPTION:Tea & Cake\, Crafts and Chat – what’s not to like?!
URL:https://monyash.info/event/crafternoon-68/
LOCATION:Monyash Village Hall\, Church Street\, Monyash\, DE45 1JH
END:VEVENT
BEGIN:VEVENT
DTSTART;TZID=Europe/London:20231027T090000
DTEND;TZID=Europe/London:20231027T110000
DTSTAMP:20260420T063221
CREATED:20230731T130445Z
LAST-MODIFIED:20230930T154133Z
UID:8950-1698397200-1698404400@monyash.info
SUMMARY:Tea and Tots
DESCRIPTION:Tea and Tots is a playgroup\, aimed at babies and preschoolers\, for local families and friends to get together for a cuppa\, chat and play! Whilst we are aimed at preschool ages\, anyone is welcome to pop in and join us.Tea coffee\, snacks and a variety of toys are provided. Parents are responsible for their children whilst there.Hope to see you soon!
URL:https://monyash.info/event/tea-and-tots-17/
LOCATION:Monyash Village Hall\, Church Street\, Monyash\, DE45 1JH
END:VEVENT
BEGIN:VEVENT
DTSTART;TZID=Europe/London:20231024T180000
DTEND;TZID=Europe/London:20231024T190000
DTSTAMP:20260420T063221
CREATED:20230731T110633Z
LAST-MODIFIED:20230731T110637Z
UID:8906-1698170400-1698174000@monyash.info
SUMMARY:Pilates
DESCRIPTION:Classes by Caroline Webster \n\n\n\nMore details on our Pilates and Yoga page
URL:https://monyash.info/event/pilates-141/
LOCATION:Monyash Village Hall\, Church Street\, Monyash\, DE45 1JH
END:VEVENT
BEGIN:VEVENT
DTSTART;TZID=Europe/London:20231024T140000
DTEND;TZID=Europe/London:20231024T160000
DTSTAMP:20260420T063221
CREATED:20230731T125736Z
LAST-MODIFIED:20230923T121215Z
UID:8936-1698156000-1698163200@monyash.info
SUMMARY:Monyash Quilters
DESCRIPTION:A friendly group with a wide range of creative talent who love making beautiful quilts and anything crafty. Drop into one of our weekly meetings as a taster to see what we do and if we can tempt you to join.
URL:https://monyash.info/event/monyash-quilters-27/
LOCATION:Monyash Village Hall\, Church Street\, Monyash\, DE45 1JH
END:VEVENT
BEGIN:VEVENT
DTSTART;TZID=Europe/London:20231023T173000
DTEND;TZID=Europe/London:20231023T173000
DTSTAMP:20260420T063221
CREATED:20230930T151015Z
LAST-MODIFIED:20230930T151018Z
UID:9239-1698082200-1698082200@monyash.info
SUMMARY:No Iyengar Yoga
DESCRIPTION:Iyengar Yoga is taking a three-week break.  The next class will be on 6th November.
URL:https://monyash.info/event/no-iyengar-yoga-2/
LOCATION:Monyash Village Hall\, Church Street\, Monyash\, DE45 1JH
END:VEVENT
BEGIN:VEVENT
DTSTART;TZID=Europe/London:20231020T090000
DTEND;TZID=Europe/London:20231020T110000
DTSTAMP:20260420T063221
CREATED:20230731T130403Z
LAST-MODIFIED:20230930T154116Z
UID:8948-1697792400-1697799600@monyash.info
SUMMARY:Tea and Tots
DESCRIPTION:Tea and Tots is a playgroup\, aimed at babies and preschoolers\, for local families and friends to get together for a cuppa\, chat and play! Whilst we are aimed at preschool ages\, anyone is welcome to pop in and join us.Tea coffee\, snacks and a variety of toys are provided. Parents are responsible for their children whilst there.Hope to see you soon!
URL:https://monyash.info/event/tea-and-tots-16/
LOCATION:Monyash Village Hall\, Church Street\, Monyash\, DE45 1JH
END:VEVENT
BEGIN:VEVENT
DTSTART;TZID=Europe/London:20231018T111500
DTEND;TZID=Europe/London:20231018T114500
DTSTAMP:20260420T063221
CREATED:20230731T104826Z
LAST-MODIFIED:20230731T104829Z
UID:8891-1697627700-1697629500@monyash.info
SUMMARY:Mobile Library
DESCRIPTION:Full details of the mobile library service including a county-wide schedule are on this page on the County Council website.
URL:https://monyash.info/event/mobile-library-53/
LOCATION:The Square\, The Square\, Monyash\, DE45 1JH
END:VEVENT
BEGIN:VEVENT
DTSTART;TZID=Europe/London:20231017T180000
DTEND;TZID=Europe/London:20231017T190000
DTSTAMP:20260420T063221
CREATED:20230731T110529Z
LAST-MODIFIED:20230731T110531Z
UID:8904-1697565600-1697569200@monyash.info
SUMMARY:Pilates
DESCRIPTION:Classes by Caroline Webster \n\n\n\nMore details on our Pilates and Yoga page
URL:https://monyash.info/event/pilates-128/
LOCATION:Monyash Village Hall\, Church Street\, Monyash\, DE45 1JH
END:VEVENT
BEGIN:VEVENT
DTSTART;TZID=Europe/London:20231017T140000
DTEND;TZID=Europe/London:20231017T160000
DTSTAMP:20260420T063221
CREATED:20230731T125647Z
LAST-MODIFIED:20230923T121159Z
UID:8934-1697551200-1697558400@monyash.info
SUMMARY:Monyash Quilters
DESCRIPTION:A friendly group with a wide range of creative talent who love making beautiful quilts and anything crafty. Drop into one of our weekly meetings as a taster to see what we do and if we can tempt you to join.
URL:https://monyash.info/event/monyash-quilters-26/
LOCATION:Monyash Village Hall\, Church Street\, Monyash\, DE45 1JH
END:VEVENT
BEGIN:VEVENT
DTSTART;TZID=Europe/London:20231016T173000
DTEND;TZID=Europe/London:20231016T173000
DTSTAMP:20260420T063221
CREATED:20230930T150852Z
LAST-MODIFIED:20230930T150853Z
UID:9237-1697477400-1697477400@monyash.info
SUMMARY:No Iyengar Yoga
DESCRIPTION:Iyengar Yoga is taking a three-week break.  The next class will be on 6th November.
URL:https://monyash.info/event/no-iyengar-yoga/
LOCATION:Monyash Village Hall\, Church Street\, Monyash\, DE45 1JH
END:VEVENT
BEGIN:VEVENT
DTSTART;TZID=Europe/London:20231013T140000
DTEND;TZID=Europe/London:20231013T153000
DTSTAMP:20260420T063221
CREATED:20230731T130018Z
LAST-MODIFIED:20230731T130021Z
UID:8940-1697205600-1697211000@monyash.info
SUMMARY:Crafternoon
DESCRIPTION:Tea & Cake\, Crafts and Chat – what’s not to like?!
URL:https://monyash.info/event/crafternoon-67/
LOCATION:Monyash Village Hall\, Church Street\, Monyash\, DE45 1JH
END:VEVENT
BEGIN:VEVENT
DTSTART;TZID=Europe/London:20231013T090000
DTEND;TZID=Europe/London:20231013T110000
DTSTAMP:20260420T063221
CREATED:20230731T130316Z
LAST-MODIFIED:20230930T154100Z
UID:8946-1697187600-1697194800@monyash.info
SUMMARY:Tea and Tots
DESCRIPTION:Tea and Tots is a playgroup\, aimed at babies and preschoolers\, for local families and friends to get together for a cuppa\, chat and play! Whilst we are aimed at preschool ages\, anyone is welcome to pop in and join us.Tea coffee\, snacks and a variety of toys are provided. Parents are responsible for their children whilst there.Hope to see you soon!
URL:https://monyash.info/event/tea-and-tots-15/
LOCATION:Monyash Village Hall\, Church Street\, Monyash\, DE45 1JH
END:VEVENT
BEGIN:VEVENT
DTSTART;TZID=Europe/London:20231010T180000
DTEND;TZID=Europe/London:20231010T190000
DTSTAMP:20260420T063221
CREATED:20230731T110424Z
LAST-MODIFIED:20230731T110427Z
UID:8902-1696960800-1696964400@monyash.info
SUMMARY:Pilates
DESCRIPTION:Classes by Caroline Webster \n\n\n\nMore details on our Pilates and Yoga page
URL:https://monyash.info/event/pilates-115/
LOCATION:Monyash Village Hall\, Church Street\, Monyash\, DE45 1JH
END:VEVENT
BEGIN:VEVENT
DTSTART;TZID=Europe/London:20231010T140000
DTEND;TZID=Europe/London:20231010T160000
DTSTAMP:20260420T063221
CREATED:20230731T125602Z
LAST-MODIFIED:20230923T121139Z
UID:8932-1696946400-1696953600@monyash.info
SUMMARY:Monyash Quilters
DESCRIPTION:A friendly group with a wide range of creative talent who love making beautiful quilts and anything crafty. Drop into one of our weekly meetings as a taster to see what we do and if we can tempt you to join.
URL:https://monyash.info/event/monyash-quilters-25/
LOCATION:Monyash Village Hall\, Church Street\, Monyash\, DE45 1JH
END:VEVENT
BEGIN:VEVENT
DTSTART;TZID=Europe/London:20231009T180000
DTEND;TZID=Europe/London:20231009T190000
DTSTAMP:20260420T063221
CREATED:20230731T124608Z
LAST-MODIFIED:20230731T124611Z
UID:8912-1696874400-1696878000@monyash.info
SUMMARY:Pilates
DESCRIPTION:Classes by Caroline Webster \n\n\n\nMore details on our Pilates and Yoga page
URL:https://monyash.info/event/pilates-144/
LOCATION:Taddington Institute\, Bramwell Memorial Institute\, Main Road\, Taddington\, SK17 9TU
END:VEVENT
BEGIN:VEVENT
DTSTART;TZID=Europe/London:20231009T173000
DTEND;TZID=Europe/London:20231009T184500
DTSTAMP:20260420T063221
CREATED:20230930T150255Z
LAST-MODIFIED:20230930T150257Z
UID:9226-1696872600-1696877100@monyash.info
SUMMARY:Iyengar Yoga
DESCRIPTION:Classes by Dave Swinhoe \n\n\n\nMore details about Iyengar Yoga on the IYUK website
URL:https://monyash.info/event/iyengar-yoga-2/
LOCATION:Monyash Village Hall\, Church Street\, Monyash\, DE45 1JH
END:VEVENT
END:VCALENDAR