BEGIN:VCALENDAR
VERSION:2.0
PRODID:-//Monyash Village - ECPv6.15.20//NONSGML v1.0//EN
CALSCALE:GREGORIAN
METHOD:PUBLISH
X-WR-CALNAME:Monyash Village
X-ORIGINAL-URL:https://monyash.info
X-WR-CALDESC:Events for Monyash Village
REFRESH-INTERVAL;VALUE=DURATION:PT1H
X-Robots-Tag:noindex
X-PUBLISHED-TTL:PT1H
BEGIN:VTIMEZONE
TZID:Europe/London
BEGIN:DAYLIGHT
TZOFFSETFROM:+0000
TZOFFSETTO:+0100
TZNAME:BST
DTSTART:20250330T010000
END:DAYLIGHT
BEGIN:STANDARD
TZOFFSETFROM:+0100
TZOFFSETTO:+0000
TZNAME:GMT
DTSTART:20251026T010000
END:STANDARD
BEGIN:DAYLIGHT
TZOFFSETFROM:+0000
TZOFFSETTO:+0100
TZNAME:BST
DTSTART:20260329T010000
END:DAYLIGHT
BEGIN:STANDARD
TZOFFSETFROM:+0100
TZOFFSETTO:+0000
TZNAME:GMT
DTSTART:20261025T010000
END:STANDARD
BEGIN:DAYLIGHT
TZOFFSETFROM:+0000
TZOFFSETTO:+0100
TZNAME:BST
DTSTART:20270328T010000
END:DAYLIGHT
BEGIN:STANDARD
TZOFFSETFROM:+0100
TZOFFSETTO:+0000
TZNAME:GMT
DTSTART:20271031T010000
END:STANDARD
BEGIN:DAYLIGHT
TZOFFSETFROM:+0000
TZOFFSETTO:+0100
TZNAME:BST
DTSTART:20280326T010000
END:DAYLIGHT
BEGIN:STANDARD
TZOFFSETFROM:+0100
TZOFFSETTO:+0000
TZNAME:GMT
DTSTART:20281029T010000
END:STANDARD
BEGIN:DAYLIGHT
TZOFFSETFROM:+0000
TZOFFSETTO:+0100
TZNAME:BST
DTSTART:20290325T010000
END:DAYLIGHT
BEGIN:STANDARD
TZOFFSETFROM:+0100
TZOFFSETTO:+0000
TZNAME:GMT
DTSTART:20291028T010000
END:STANDARD
BEGIN:DAYLIGHT
TZOFFSETFROM:+0000
TZOFFSETTO:+0100
TZNAME:BST
DTSTART:20300331T010000
END:DAYLIGHT
BEGIN:STANDARD
TZOFFSETFROM:+0100
TZOFFSETTO:+0000
TZNAME:GMT
DTSTART:20301027T010000
END:STANDARD
END:VTIMEZONE
BEGIN:VEVENT
DTSTART;TZID=Europe/London:20260728T180000
DTEND;TZID=Europe/London:20260728T190000
DTSTAMP:20260421T224040
CREATED:20260415T102711Z
LAST-MODIFIED:20260415T102718Z
UID:15199-1785261600-1785265200@monyash.info
SUMMARY:Pilates
DESCRIPTION:Classes by Caroline Webster \n\n\n\nMore details on our Pilates and Yoga page
URL:https://monyash.info/event/pilates-278/
LOCATION:Monyash Village Hall\, Church Street\, Monyash\, DE45 1JH
END:VEVENT
BEGIN:VEVENT
DTSTART;TZID=Europe/London:20260729T090000
DTEND;TZID=Europe/London:20260729T090000
DTSTAMP:20260421T224040
CREATED:20260421T131251Z
LAST-MODIFIED:20260421T131257Z
UID:15446-1785315600-1785315600@monyash.info
SUMMARY:Wildlife Wander
DESCRIPTION:A stroll through the village\, up a green lane and down a dale\, to admire flowers\, butterflies and bees\, listen for birds\, with tips on ID\, but mostly for sheer pleasure! Meet on the green. 2 hours +Further details: www.corble.co.uk/birdsongwalks or Tripadvisor.Advance booking needed: 07930 266218\, call/text/WhatsApp.
URL:https://monyash.info/event/wildlife-wander-16/
LOCATION:Village Green\, Village Green\, Monyash\, DE45 1JH
END:VEVENT
BEGIN:VEVENT
DTSTART;TZID=Europe/London:20260729T180000
DTEND;TZID=Europe/London:20260729T191500
DTSTAMP:20260421T224040
CREATED:20260419T211816Z
LAST-MODIFIED:20260419T211819Z
UID:15272-1785348000-1785352500@monyash.info
SUMMARY:Hatha Yoga
DESCRIPTION:Hatha Yoga ending with Yoga Nidra relaxationClasses by Caroline WebsterMore details on our Pilates and Yoga page
URL:https://monyash.info/event/hatha-yoga-162/
LOCATION:Monyash Village Hall\, Church Street\, Monyash\, DE45 1JH
END:VEVENT
BEGIN:VEVENT
DTSTART;TZID=Europe/London:20260730T213000
DTEND;TZID=Europe/London:20260730T214500
DTSTAMP:20260421T224040
CREATED:20260420T210603Z
LAST-MODIFIED:20260420T210610Z
UID:15346-1785447000-1785447900@monyash.info
SUMMARY:Pub Quiz
DESCRIPTION:Quiz night at the pub every Thursday starting 9:30-9:45. 50p/person entry fee. Winnings £25 per team\, but you have to set the quiz the following weekFollowed by Play Your Cards Right 🃏♠️❤️♦️♣️🃏
URL:https://monyash.info/event/pub-quiz-71/
LOCATION:The Bull’s Head\, The Square\, Monyash\, DE45 1JH
END:VEVENT
BEGIN:VEVENT
DTSTART;TZID=Europe/London:20260802T100000
DTEND;TZID=Europe/London:20260802T150000
DTSTAMP:20260421T224040
CREATED:20260420T213534Z
LAST-MODIFIED:20260420T213557Z
UID:15362-1785664800-1785682800@monyash.info
SUMMARY:Donkey Sanctuary Open Day
DESCRIPTION:Although not open to the general public\, the local Donkey Sanctuary holds limited open days during the Summer period.Limited space for cars so booking is required. Visiting on foot may be OK but check in advance.Details can be found on their website here.
URL:https://monyash.info/event/donkey-sanctuary-open-day-6/
LOCATION:Donkey Sanctuary\, Newton Farm\, Flagg\, SK17 9QQ
END:VEVENT
BEGIN:VEVENT
DTSTART;TZID=Europe/London:20260902T193000
DTEND;TZID=Europe/London:20260902T193000
DTSTAMP:20260421T224040
CREATED:20251115T152839Z
LAST-MODIFIED:20251115T152846Z
UID:14475-1788377400-1788377400@monyash.info
SUMMARY:WI
DESCRIPTION:Guest speaker\, competition and refreshments.
URL:https://monyash.info/event/wi-63/
LOCATION:Monyash Village Hall\, Church Street\, Monyash\, DE45 1JH
END:VEVENT
BEGIN:VEVENT
DTSTART;TZID=Europe/London:20260903T000000
DTEND;TZID=Europe/London:20260903T235959
DTSTAMP:20260421T224040
CREATED:20250422T205621Z
LAST-MODIFIED:20250422T214139Z
UID:12816-1788393600-1788479999@monyash.info
SUMMARY:Last day of school summer holiday
DESCRIPTION:
URL:https://monyash.info/event/last-day-of-school-summer-holiday-8/
LOCATION:Monyash Primary School\, Church Street\, Monyash\, DE45 1JH
END:VEVENT
BEGIN:VEVENT
DTSTART;TZID=Europe/London:20260903T000000
DTEND;TZID=Europe/London:20260903T235959
DTSTAMP:20260421T224040
CREATED:20251129T170432Z
LAST-MODIFIED:20251129T170439Z
UID:14601-1788393600-1788479999@monyash.info
SUMMARY:Domestic bins emptied a day later
DESCRIPTION:Domestic bins will be emptied a day later than usual. For most of us\, this means green (if you subscribe to the garden waste scheme) and blue bins emptied on Thursday 3rd September.
URL:https://monyash.info/event/domestic-bins-emptied-a-day-later-34/
END:VEVENT
BEGIN:VEVENT
DTSTART;TZID=Europe/London:20260907T190000
DTEND;TZID=Europe/London:20260907T190000
DTSTAMP:20260421T224040
CREATED:20251115T163008Z
LAST-MODIFIED:20251115T163011Z
UID:14519-1788807600-1788807600@monyash.info
SUMMARY:Parish Council meeting
DESCRIPTION:
URL:https://monyash.info/event/parish-council-meeting-81/
LOCATION:Monyash Village Hall\, Church Street\, Monyash\, DE45 1JH
END:VEVENT
BEGIN:VEVENT
DTSTART;TZID=Europe/London:20261005T190000
DTEND;TZID=Europe/London:20261005T190000
DTSTAMP:20260421T224040
CREATED:20251115T163120Z
LAST-MODIFIED:20251115T163124Z
UID:14521-1791226800-1791226800@monyash.info
SUMMARY:Parish Council meeting
DESCRIPTION:
URL:https://monyash.info/event/parish-council-meeting-82/
LOCATION:Monyash Village Hall\, Church Street\, Monyash\, DE45 1JH
END:VEVENT
BEGIN:VEVENT
DTSTART;TZID=Europe/London:20261007T193000
DTEND;TZID=Europe/London:20261007T193000
DTSTAMP:20260421T224040
CREATED:20251115T152951Z
LAST-MODIFIED:20251115T152958Z
UID:14477-1791401400-1791401400@monyash.info
SUMMARY:WI
DESCRIPTION:Guest speaker\, competition and refreshments.
URL:https://monyash.info/event/wi-64/
LOCATION:Monyash Village Hall\, Church Street\, Monyash\, DE45 1JH
END:VEVENT
BEGIN:VEVENT
DTSTART;TZID=Europe/London:20261026T000000
DTEND;TZID=Europe/London:20261030T235959
DTSTAMP:20260421T224040
CREATED:20250422T210337Z
LAST-MODIFIED:20250422T210340Z
UID:12830-1792972800-1793404799@monyash.info
SUMMARY:School Half Term
DESCRIPTION:
URL:https://monyash.info/event/school-half-term-24/
LOCATION:Monyash Primary School\, Church Street\, Monyash\, DE45 1JH
END:VEVENT
BEGIN:VEVENT
DTSTART;TZID=Europe/London:20261102T190000
DTEND;TZID=Europe/London:20261102T190000
DTSTAMP:20260421T224040
CREATED:20251115T163210Z
LAST-MODIFIED:20251115T163218Z
UID:14523-1793646000-1793646000@monyash.info
SUMMARY:Parish Council meeting
DESCRIPTION:
URL:https://monyash.info/event/parish-council-meeting-83/
LOCATION:Monyash Village Hall\, Church Street\, Monyash\, DE45 1JH
END:VEVENT
BEGIN:VEVENT
DTSTART;TZID=Europe/London:20261104T193000
DTEND;TZID=Europe/London:20261104T193000
DTSTAMP:20260421T224040
CREATED:20251115T153055Z
LAST-MODIFIED:20251115T153100Z
UID:14479-1793820600-1793820600@monyash.info
SUMMARY:WI
DESCRIPTION:Guest speaker\, competition and refreshments.
URL:https://monyash.info/event/wi-65/
LOCATION:Monyash Village Hall\, Church Street\, Monyash\, DE45 1JH
END:VEVENT
BEGIN:VEVENT
DTSTART;TZID=Europe/London:20261207T190000
DTEND;TZID=Europe/London:20261207T190000
DTSTAMP:20260421T224040
CREATED:20251115T163309Z
LAST-MODIFIED:20251115T163313Z
UID:14525-1796670000-1796670000@monyash.info
SUMMARY:Parish Council meeting
DESCRIPTION:
URL:https://monyash.info/event/parish-council-meeting-84/
LOCATION:Monyash Village Hall\, Church Street\, Monyash\, DE45 1JH
END:VEVENT
BEGIN:VEVENT
DTSTART;TZID=Europe/London:20261221T000000
DTEND;TZID=Europe/London:20270101T235959
DTSTAMP:20260421T224040
CREATED:20250422T211745Z
LAST-MODIFIED:20250422T211810Z
UID:12858-1797811200-1798847999@monyash.info
SUMMARY:School Christmas Holiday
DESCRIPTION:
URL:https://monyash.info/event/school-christmas-holiday-8/
LOCATION:Monyash Primary School\, Church Street\, Monyash\, DE45 1JH
END:VEVENT
BEGIN:VEVENT
DTSTART;TZID=Europe/London:20270215T000000
DTEND;TZID=Europe/London:20270219T235959
DTSTAMP:20260421T224040
CREATED:20250422T210433Z
LAST-MODIFIED:20250422T210437Z
UID:12832-1802649600-1803081599@monyash.info
SUMMARY:School Half Term
DESCRIPTION:
URL:https://monyash.info/event/school-half-term-25/
LOCATION:Monyash Primary School\, Church Street\, Monyash\, DE45 1JH
END:VEVENT
BEGIN:VEVENT
DTSTART;TZID=Europe/London:20270326T000000
DTEND;TZID=Europe/London:20270409T235959
DTSTAMP:20260421T224040
CREATED:20250422T212435Z
LAST-MODIFIED:20250422T212437Z
UID:12869-1806019200-1807315199@monyash.info
SUMMARY:School Easter Holiday
DESCRIPTION:
URL:https://monyash.info/event/school-easter-holiday-9/
LOCATION:Monyash Primary School\, Church Street\, Monyash\, DE45 1JH
END:VEVENT
BEGIN:VEVENT
DTSTART;TZID=Europe/London:20270531T000000
DTEND;TZID=Europe/London:20270604T235959
DTSTAMP:20260421T224040
CREATED:20250422T210533Z
LAST-MODIFIED:20250422T210635Z
UID:12834-1811721600-1812153599@monyash.info
SUMMARY:School Half Term
DESCRIPTION:
URL:https://monyash.info/event/school-half-term-26/
LOCATION:Monyash Primary School\, Church Street\, Monyash\, DE45 1JH
END:VEVENT
BEGIN:VEVENT
DTSTART;TZID=Europe/London:20270727T000000
DTEND;TZID=Europe/London:20270727T235959
DTSTAMP:20260421T224040
CREATED:20250422T213023Z
LAST-MODIFIED:20250422T213026Z
UID:12879-1816646400-1816732799@monyash.info
SUMMARY:School summer holiday starts
DESCRIPTION:
URL:https://monyash.info/event/school-summer-holiday-starts-9/
LOCATION:Monyash Primary School\, Church Street\, Monyash\, DE45 1JH
END:VEVENT
BEGIN:VEVENT
DTSTART;TZID=Europe/London:20270903T000000
DTEND;TZID=Europe/London:20270903T235959
DTSTAMP:20260421T224040
CREATED:20250422T205706Z
LAST-MODIFIED:20250422T214310Z
UID:12818-1819929600-1820015999@monyash.info
SUMMARY:Last day of school summer holiday
DESCRIPTION:
URL:https://monyash.info/event/last-day-of-school-summer-holiday-9/
LOCATION:Monyash Primary School\, Church Street\, Monyash\, DE45 1JH
END:VEVENT
BEGIN:VEVENT
DTSTART;TZID=Europe/London:20271025T000000
DTEND;TZID=Europe/London:20271029T235959
DTSTAMP:20260421T224040
CREATED:20250422T210745Z
LAST-MODIFIED:20250422T210748Z
UID:12838-1824422400-1824854399@monyash.info
SUMMARY:School Half Term
DESCRIPTION:
URL:https://monyash.info/event/school-half-term-27/
LOCATION:Monyash Primary School\, Church Street\, Monyash\, DE45 1JH
END:VEVENT
BEGIN:VEVENT
DTSTART;TZID=Europe/London:20271223T000000
DTEND;TZID=Europe/London:20280105T235959
DTSTAMP:20260421T224040
CREATED:20250422T211923Z
LAST-MODIFIED:20250422T211927Z
UID:12861-1829520000-1830729599@monyash.info
SUMMARY:School Christmas Holiday
DESCRIPTION:
URL:https://monyash.info/event/school-christmas-holiday-9/
LOCATION:Monyash Primary School\, Church Street\, Monyash\, DE45 1JH
END:VEVENT
BEGIN:VEVENT
DTSTART;TZID=Europe/London:20280221T000000
DTEND;TZID=Europe/London:20280225T235959
DTSTAMP:20260421T224040
CREATED:20250422T210841Z
LAST-MODIFIED:20250422T210843Z
UID:12840-1834704000-1835135999@monyash.info
SUMMARY:School Half Term
DESCRIPTION:
URL:https://monyash.info/event/school-half-term-28/
LOCATION:Monyash Primary School\, Church Street\, Monyash\, DE45 1JH
END:VEVENT
BEGIN:VEVENT
DTSTART;TZID=Europe/London:20280410T000000
DTEND;TZID=Europe/London:20280421T235959
DTSTAMP:20260421T224040
CREATED:20250422T212534Z
LAST-MODIFIED:20250422T212538Z
UID:12871-1838937600-1839974399@monyash.info
SUMMARY:School Easter Holiday
DESCRIPTION:
URL:https://monyash.info/event/school-easter-holiday-10/
LOCATION:Monyash Primary School\, Church Street\, Monyash\, DE45 1JH
END:VEVENT
BEGIN:VEVENT
DTSTART;TZID=Europe/London:20280529T000000
DTEND;TZID=Europe/London:20280602T235959
DTSTAMP:20260421T224040
CREATED:20250422T210937Z
LAST-MODIFIED:20250422T210940Z
UID:12842-1843171200-1843603199@monyash.info
SUMMARY:School Half Term
DESCRIPTION:
URL:https://monyash.info/event/school-half-term-29/
LOCATION:Monyash Primary School\, Church Street\, Monyash\, DE45 1JH
END:VEVENT
BEGIN:VEVENT
DTSTART;TZID=Europe/London:20280725T000000
DTEND;TZID=Europe/London:20280725T235959
DTSTAMP:20260421T224040
CREATED:20250422T213109Z
LAST-MODIFIED:20250422T213113Z
UID:12881-1848096000-1848182399@monyash.info
SUMMARY:School summer holiday starts
DESCRIPTION:
URL:https://monyash.info/event/school-summer-holiday-starts-10/
LOCATION:Monyash Primary School\, Church Street\, Monyash\, DE45 1JH
END:VEVENT
BEGIN:VEVENT
DTSTART;TZID=Europe/London:20280904T000000
DTEND;TZID=Europe/London:20280904T235959
DTSTAMP:20260421T224040
CREATED:20250422T205755Z
LAST-MODIFIED:20250422T213911Z
UID:12820-1851638400-1851724799@monyash.info
SUMMARY:Last day of school summer holiday
DESCRIPTION:
URL:https://monyash.info/event/last-day-of-school-summer-holiday-10/
LOCATION:Monyash Primary School\, Church Street\, Monyash\, DE45 1JH
END:VEVENT
BEGIN:VEVENT
DTSTART;TZID=Europe/London:20281023T000000
DTEND;TZID=Europe/London:20281027T235959
DTSTAMP:20260421T224040
CREATED:20250422T211041Z
LAST-MODIFIED:20250422T211044Z
UID:12844-1855872000-1856303999@monyash.info
SUMMARY:School Half Term
DESCRIPTION:
URL:https://monyash.info/event/school-half-term-30/
LOCATION:Monyash Primary School\, Church Street\, Monyash\, DE45 1JH
END:VEVENT
BEGIN:VEVENT
DTSTART;TZID=Europe/London:20281225T000000
DTEND;TZID=Europe/London:20290105T235959
DTSTAMP:20260421T224040
CREATED:20250422T212029Z
LAST-MODIFIED:20250422T212031Z
UID:12863-1861315200-1862351999@monyash.info
SUMMARY:School Christmas Holiday
DESCRIPTION:
URL:https://monyash.info/event/school-christmas-holiday-10/
LOCATION:Monyash Primary School\, Church Street\, Monyash\, DE45 1JH
END:VEVENT
END:VCALENDAR