BEGIN:VCALENDAR
VERSION:2.0
PRODID:-//Monyash Village - ECPv6.15.20//NONSGML v1.0//EN
CALSCALE:GREGORIAN
METHOD:PUBLISH
X-WR-CALNAME:Monyash Village
X-ORIGINAL-URL:https://monyash.info
X-WR-CALDESC:Events for Monyash Village
REFRESH-INTERVAL;VALUE=DURATION:PT1H
X-Robots-Tag:noindex
X-PUBLISHED-TTL:PT1H
BEGIN:VTIMEZONE
TZID:Europe/London
BEGIN:DAYLIGHT
TZOFFSETFROM:+0000
TZOFFSETTO:+0100
TZNAME:BST
DTSTART:20220327T010000
END:DAYLIGHT
BEGIN:STANDARD
TZOFFSETFROM:+0100
TZOFFSETTO:+0000
TZNAME:GMT
DTSTART:20221030T010000
END:STANDARD
BEGIN:DAYLIGHT
TZOFFSETFROM:+0000
TZOFFSETTO:+0100
TZNAME:BST
DTSTART:20230326T010000
END:DAYLIGHT
BEGIN:STANDARD
TZOFFSETFROM:+0100
TZOFFSETTO:+0000
TZNAME:GMT
DTSTART:20231029T010000
END:STANDARD
BEGIN:DAYLIGHT
TZOFFSETFROM:+0000
TZOFFSETTO:+0100
TZNAME:BST
DTSTART:20240331T010000
END:DAYLIGHT
BEGIN:STANDARD
TZOFFSETFROM:+0100
TZOFFSETTO:+0000
TZNAME:GMT
DTSTART:20241027T010000
END:STANDARD
END:VTIMEZONE
BEGIN:VEVENT
DTSTART;TZID=Europe/London:20230731T180000
DTEND;TZID=Europe/London:20230731T180000
DTSTAMP:20260420T143923
CREATED:20230725T104959Z
LAST-MODIFIED:20230725T105003Z
UID:8867-1690826400-1690826400@monyash.info
SUMMARY:No Pilates
DESCRIPTION:Pilates is cancelled for 31st July due to injury
URL:https://monyash.info/event/no-pilates-7/
LOCATION:Taddington Institute\, Bramwell Memorial Institute\, Main Road\, Taddington\, SK17 9TU
END:VEVENT
BEGIN:VEVENT
DTSTART;TZID=Europe/London:20230730T110000
DTEND;TZID=Europe/London:20230730T110000
DTSTAMP:20260420T143923
CREATED:20230508T151602Z
LAST-MODIFIED:20230508T151603Z
UID:8278-1690714800-1690714800@monyash.info
SUMMARY:Church Service
DESCRIPTION:At All Saint’s Youlgreave – Holy Communion service for all churches across the two benefices
URL:https://monyash.info/event/church-service-42/
LOCATION:All Saints Church\, Bradford\, Youlgreave\, DE45 1WG
END:VEVENT
BEGIN:VEVENT
DTSTART;TZID=Europe/London:20230726T111500
DTEND;TZID=Europe/London:20230726T114500
DTSTAMP:20260420T143923
CREATED:20230608T201917Z
LAST-MODIFIED:20230608T201919Z
UID:8471-1690370100-1690371900@monyash.info
SUMMARY:Mobile Library
DESCRIPTION:
URL:https://monyash.info/event/mobile-library-50/
LOCATION:The Square\, The Square\, Monyash\, DE45 1JH
END:VEVENT
BEGIN:VEVENT
DTSTART;TZID=Europe/London:20230725T180000
DTEND;TZID=Europe/London:20230725T180000
DTSTAMP:20260420T143923
CREATED:20230725T104457Z
LAST-MODIFIED:20230725T104459Z
UID:8863-1690308000-1690308000@monyash.info
SUMMARY:No Pilates
DESCRIPTION:Pilates is cancelled for 25th July and 1st August due to injury
URL:https://monyash.info/event/no-pilates-5/
LOCATION:Monyash Village Hall\, Church Street\, Monyash\, DE45 1JH
END:VEVENT
BEGIN:VEVENT
DTSTART;TZID=Europe/London:20230725T140000
DTEND;TZID=Europe/London:20230725T160000
DTSTAMP:20260420T143923
CREATED:20230609T125538Z
LAST-MODIFIED:20230609T125552Z
UID:8504-1690293600-1690300800@monyash.info
SUMMARY:Monyash Quilters
DESCRIPTION:A friendly group with a wide range of creative talent who love making beautiful quilts and anything crafty. Drop into one of our weekly meetings as a taster to see what we do and if we can tempt you to join.
URL:https://monyash.info/event/monyash-quilters-14/
LOCATION:Monyash Village Hall\, Church Street\, Monyash\, DE45 1JH
END:VEVENT
BEGIN:VEVENT
DTSTART;TZID=Europe/London:20230724T191500
DTEND;TZID=Europe/London:20230724T203000
DTSTAMP:20260420T143923
CREATED:20230610T135919Z
LAST-MODIFIED:20230610T135921Z
UID:8580-1690226100-1690230600@monyash.info
SUMMARY:Hatha Yoga
DESCRIPTION:Classes by Caroline Webster \n\n\n\nMore details on our Pilates and Yoga page
URL:https://monyash.info/event/hatha-yoga-23/
LOCATION:Taddington Institute\, Bramwell Memorial Institute\, Main Road\, Taddington\, SK17 9TU
END:VEVENT
BEGIN:VEVENT
DTSTART;TZID=Europe/London:20230724T180000
DTEND;TZID=Europe/London:20230724T190000
DTSTAMP:20260420T143923
CREATED:20230610T134429Z
LAST-MODIFIED:20230610T134432Z
UID:8558-1690221600-1690225200@monyash.info
SUMMARY:Pilates
DESCRIPTION:Classes by Caroline Webster \n\n\n\nMore details on our Pilates and Yoga page
URL:https://monyash.info/event/pilates-127/
LOCATION:Taddington Institute\, Bramwell Memorial Institute\, Main Road\, Taddington\, SK17 9TU
END:VEVENT
BEGIN:VEVENT
DTSTART;TZID=Europe/London:20230724T000000
DTEND;TZID=Europe/London:20230724T235959
DTSTAMP:20260420T143923
CREATED:20220125T154230Z
LAST-MODIFIED:20220125T154234Z
UID:5262-1690156800-1690243199@monyash.info
SUMMARY:School summer holiday starts
DESCRIPTION:
URL:https://monyash.info/event/school-summer-holiday-starts-5/
LOCATION:Monyash Primary School\, Church Street\, Monyash\, DE45 1JH
END:VEVENT
BEGIN:VEVENT
DTSTART;TZID=Europe/London:20230721T140000
DTEND;TZID=Europe/London:20230721T153000
DTSTAMP:20260420T143923
CREATED:20230609T124834Z
LAST-MODIFIED:20230609T124837Z
UID:8492-1689948000-1689953400@monyash.info
SUMMARY:Crafternoon
DESCRIPTION:Tea & Cake\, Crafts and Chat – what’s not to like?!
URL:https://monyash.info/event/crafternoon-61/
LOCATION:Monyash Village Hall\, Church Street\, Monyash\, DE45 1JH
END:VEVENT
BEGIN:VEVENT
DTSTART;TZID=Europe/London:20230721T090000
DTEND;TZID=Europe/London:20230721T110000
DTSTAMP:20260420T143923
CREATED:20230519T150235Z
LAST-MODIFIED:20230519T150237Z
UID:8363-1689930000-1689937200@monyash.info
SUMMARY:Tea and Tots
DESCRIPTION:Tea and Tots is a playgroup\, aimed at babies and preschoolers\, for local families and friends to get together for a cuppa\, chat and play! Whilst we are aimed at preschool ages\, anyone is welcome to pop in and join us.Tea coffee\, snacks and a variety of toys are provided. Parents are responsible for their children whilst there.Hope to see you soon!
URL:https://monyash.info/event/tea-and-tots-8/
LOCATION:Monyash Village Hall\, Church Street\, Monyash\, DE45 1JH
END:VEVENT
BEGIN:VEVENT
DTSTART;TZID=Europe/London:20230718T180000
DTEND;TZID=Europe/London:20230718T190000
DTSTAMP:20260420T143923
CREATED:20230506T143256Z
LAST-MODIFIED:20230506T143257Z
UID:8239-1689703200-1689706800@monyash.info
SUMMARY:Pilates
DESCRIPTION:Classes by Caroline Webster \n\n\n\nMore details on our Pilates and Yoga page
URL:https://monyash.info/event/pilates-114/
LOCATION:Monyash Village Hall\, Church Street\, Monyash\, DE45 1JH
END:VEVENT
BEGIN:VEVENT
DTSTART;TZID=Europe/London:20230718T140000
DTEND;TZID=Europe/London:20230718T160000
DTSTAMP:20260420T143923
CREATED:20230609T125503Z
LAST-MODIFIED:20230609T125506Z
UID:8502-1689688800-1689696000@monyash.info
SUMMARY:Monyash Quilters
DESCRIPTION:A friendly group with a wide range of creative talent who love making beautiful quilts and anything crafty. Drop into one of our weekly meetings as a taster to see what we do and if we can tempt you to join.
URL:https://monyash.info/event/monyash-quilters-13/
LOCATION:Monyash Village Hall\, Church Street\, Monyash\, DE45 1JH
END:VEVENT
BEGIN:VEVENT
DTSTART;TZID=Europe/London:20230717T191500
DTEND;TZID=Europe/London:20230717T203000
DTSTAMP:20260420T143923
CREATED:20230610T140011Z
LAST-MODIFIED:20230610T140016Z
UID:8582-1689621300-1689625800@monyash.info
SUMMARY:Hatha Yoga
DESCRIPTION:Classes by Caroline Webster \n\n\n\nMore details on our Pilates and Yoga page
URL:https://monyash.info/event/hatha-yoga-24/
LOCATION:Taddington Institute\, Bramwell Memorial Institute\, Main Road\, Taddington\, SK17 9TU
END:VEVENT
BEGIN:VEVENT
DTSTART;TZID=Europe/London:20230717T180000
DTEND;TZID=Europe/London:20230717T190000
DTSTAMP:20260420T143923
CREATED:20230610T134338Z
LAST-MODIFIED:20230610T134340Z
UID:8556-1689616800-1689620400@monyash.info
SUMMARY:Pilates
DESCRIPTION:Classes by Caroline Webster \n\n\n\nMore details on our Pilates and Yoga page
URL:https://monyash.info/event/pilates-126/
LOCATION:Taddington Institute\, Bramwell Memorial Institute\, Main Road\, Taddington\, SK17 9TU
END:VEVENT
BEGIN:VEVENT
DTSTART;TZID=Europe/London:20230716T160000
DTEND;TZID=Europe/London:20230716T160000
DTSTAMP:20260420T143923
CREATED:20230703T102702Z
LAST-MODIFIED:20230703T102705Z
UID:8741-1689523200-1689523200@monyash.info
SUMMARY:Church Service
DESCRIPTION:Flower Festival Songs of Praise service\, taken by Rev’d Adele Barker
URL:https://monyash.info/event/church-service-43/
LOCATION:St Leonard’s Church\, Church Street\, Monyash\, DE45 1JH
END:VEVENT
BEGIN:VEVENT
DTSTART;TZID=Europe/London:20230714T090000
DTEND;TZID=Europe/London:20230714T110000
DTSTAMP:20260420T143923
CREATED:20230519T145941Z
LAST-MODIFIED:20230519T145943Z
UID:8361-1689325200-1689332400@monyash.info
SUMMARY:Tea and Tots
DESCRIPTION:Tea and Tots is a playgroup\, aimed at babies and preschoolers\, for local families and friends to get together for a cuppa\, chat and play! Whilst we are aimed at preschool ages\, anyone is welcome to pop in and join us.Tea coffee\, snacks and a variety of toys are provided. Parents are responsible for their children whilst there.Hope to see you soon!
URL:https://monyash.info/event/tea-and-tots-7/
LOCATION:Monyash Village Hall\, Church Street\, Monyash\, DE45 1JH
END:VEVENT
BEGIN:VEVENT
DTSTART;TZID=Europe/London:20230713T203000
DTEND;TZID=Europe/London:20230713T203000
DTSTAMP:20260420T143923
CREATED:20230521T140024Z
LAST-MODIFIED:20231124T182658Z
UID:8369-1689280200-1689280200@monyash.info
SUMMARY:Test L
DESCRIPTION:Test event to check the behaviour of The Events Calendar for events created across Daylight Savings changes.
URL:https://monyash.info/event/test-l/
END:VEVENT
BEGIN:VEVENT
DTSTART;TZID=Europe/London:20230711T180000
DTEND;TZID=Europe/London:20230711T190000
DTSTAMP:20260420T143923
CREATED:20230506T143151Z
LAST-MODIFIED:20230506T143155Z
UID:8237-1689098400-1689102000@monyash.info
SUMMARY:Pilates
DESCRIPTION:Classes by Caroline Webster \n\n\n\nMore details on our Pilates and Yoga page
URL:https://monyash.info/event/pilates-113/
LOCATION:Monyash Village Hall\, Church Street\, Monyash\, DE45 1JH
END:VEVENT
BEGIN:VEVENT
DTSTART;TZID=Europe/London:20230711T140000
DTEND;TZID=Europe/London:20230711T160000
DTSTAMP:20260420T143923
CREATED:20230609T125401Z
LAST-MODIFIED:20230609T125404Z
UID:8500-1689084000-1689091200@monyash.info
SUMMARY:Monyash Quilters
DESCRIPTION:A friendly group with a wide range of creative talent who love making beautiful quilts and anything crafty. Drop into one of our weekly meetings as a taster to see what we do and if we can tempt you to join.
URL:https://monyash.info/event/monyash-quilters-12/
LOCATION:Monyash Village Hall\, Church Street\, Monyash\, DE45 1JH
END:VEVENT
BEGIN:VEVENT
DTSTART;TZID=Europe/London:20230710T191500
DTEND;TZID=Europe/London:20230710T203000
DTSTAMP:20260420T143923
CREATED:20230610T140128Z
LAST-MODIFIED:20230610T140130Z
UID:8584-1689016500-1689021000@monyash.info
SUMMARY:Hatha Yoga
DESCRIPTION:Classes by Caroline Webster \n\n\n\nMore details on our Pilates and Yoga page
URL:https://monyash.info/event/hatha-yoga-25/
LOCATION:Taddington Institute\, Bramwell Memorial Institute\, Main Road\, Taddington\, SK17 9TU
END:VEVENT
BEGIN:VEVENT
DTSTART;TZID=Europe/London:20230710T180000
DTEND;TZID=Europe/London:20230710T190000
DTSTAMP:20260420T143923
CREATED:20230610T134215Z
LAST-MODIFIED:20230610T134218Z
UID:8554-1689012000-1689015600@monyash.info
SUMMARY:Pilates
DESCRIPTION:Classes by Caroline Webster \n\n\n\nMore details on our Pilates and Yoga page
URL:https://monyash.info/event/pilates-125/
LOCATION:Taddington Institute\, Bramwell Memorial Institute\, Main Road\, Taddington\, SK17 9TU
END:VEVENT
BEGIN:VEVENT
DTSTART;TZID=Europe/London:20230708T090000
DTEND;TZID=Europe/London:20230715T160000
DTSTAMP:20260420T143923
CREATED:20230703T103311Z
LAST-MODIFIED:20230703T103314Z
UID:8743-1688806800-1689436800@monyash.info
SUMMARY:Flower Festival
DESCRIPTION:The theme is “Letters of the Alphabet”Sat 8th to Sat 15th July\, 9am-4pm every dayRefreshments from 12 noon.Tombola stall – any donations for prizes would be much appreciated.If you can help in any way\, contact Heather Read or Jo Scoggins.
URL:https://monyash.info/event/flower-festival-2/
LOCATION:St Leonard’s Church\, Church Street\, Monyash\, DE45 1JH
END:VEVENT
BEGIN:VEVENT
DTSTART;TZID=Europe/London:20230707T140000
DTEND;TZID=Europe/London:20230707T153000
DTSTAMP:20260420T143923
CREATED:20230609T124744Z
LAST-MODIFIED:20230609T124746Z
UID:8490-1688738400-1688743800@monyash.info
SUMMARY:Crafternoon
DESCRIPTION:Tea & Cake\, Crafts and Chat – what’s not to like?!
URL:https://monyash.info/event/crafternoon-60/
LOCATION:Monyash Village Hall\, Church Street\, Monyash\, DE45 1JH
END:VEVENT
BEGIN:VEVENT
DTSTART;TZID=Europe/London:20230707T090000
DTEND;TZID=Europe/London:20230707T110000
DTSTAMP:20260420T143923
CREATED:20230519T145850Z
LAST-MODIFIED:20230519T145852Z
UID:8359-1688720400-1688727600@monyash.info
SUMMARY:Tea and Tots
DESCRIPTION:Tea and Tots is a playgroup\, aimed at babies and preschoolers\, for local families and friends to get together for a cuppa\, chat and play! Whilst we are aimed at preschool ages\, anyone is welcome to pop in and join us.Tea coffee\, snacks and a variety of toys are provided. Parents are responsible for their children whilst there.Hope to see you soon!
URL:https://monyash.info/event/tea-and-tots-6/
LOCATION:Monyash Village Hall\, Church Street\, Monyash\, DE45 1JH
END:VEVENT
BEGIN:VEVENT
DTSTART;TZID=Europe/London:20230705T193000
DTEND;TZID=Europe/London:20230705T193000
DTSTAMP:20260420T143923
CREATED:20230609T130402Z
LAST-MODIFIED:20230609T143049Z
UID:8518-1688585400-1688585400@monyash.info
SUMMARY:WI AGM
DESCRIPTION:Annual General Meeting
URL:https://monyash.info/event/wi-annual-general-meeting-4/
LOCATION:Monyash Village Hall\, Church Street\, Monyash\, DE45 1JH
END:VEVENT
BEGIN:VEVENT
DTSTART;TZID=Europe/London:20230704T180000
DTEND;TZID=Europe/London:20230704T190000
DTSTAMP:20260420T143923
CREATED:20230506T143054Z
LAST-MODIFIED:20230506T143057Z
UID:8235-1688493600-1688497200@monyash.info
SUMMARY:Pilates
DESCRIPTION:Classes by Caroline Webster \n\n\n\nMore details on our Pilates and Yoga page
URL:https://monyash.info/event/pilates-112/
LOCATION:Monyash Village Hall\, Church Street\, Monyash\, DE45 1JH
END:VEVENT
BEGIN:VEVENT
DTSTART;TZID=Europe/London:20230704T140000
DTEND;TZID=Europe/London:20230704T160000
DTSTAMP:20260420T143923
CREATED:20230609T125320Z
LAST-MODIFIED:20230609T125323Z
UID:8498-1688479200-1688486400@monyash.info
SUMMARY:Monyash Quilters
DESCRIPTION:A friendly group with a wide range of creative talent who love making beautiful quilts and anything crafty. Drop into one of our weekly meetings as a taster to see what we do and if we can tempt you to join.
URL:https://monyash.info/event/monyash-quilters-11/
LOCATION:Monyash Village Hall\, Church Street\, Monyash\, DE45 1JH
END:VEVENT
BEGIN:VEVENT
DTSTART;TZID=Europe/London:20230703T191500
DTEND;TZID=Europe/London:20230703T203000
DTSTAMP:20260420T143923
CREATED:20230610T140228Z
LAST-MODIFIED:20230610T140229Z
UID:8586-1688411700-1688416200@monyash.info
SUMMARY:Hatha Yoga
DESCRIPTION:Classes by Caroline Webster \n\n\n\nMore details on our Pilates and Yoga page
URL:https://monyash.info/event/hatha-yoga-26/
LOCATION:Taddington Institute\, Bramwell Memorial Institute\, Main Road\, Taddington\, SK17 9TU
END:VEVENT
BEGIN:VEVENT
DTSTART;TZID=Europe/London:20230703T190000
DTEND;TZID=Europe/London:20230703T190000
DTSTAMP:20260420T143923
CREATED:20230109T213206Z
LAST-MODIFIED:20230109T213209Z
UID:7635-1688410800-1688410800@monyash.info
SUMMARY:Parish Council meeting
DESCRIPTION:
URL:https://monyash.info/event/parish-council-meeting-47/
LOCATION:Monyash Village Hall\, Church Street\, Monyash\, DE45 1JH
END:VEVENT
BEGIN:VEVENT
DTSTART;TZID=Europe/London:20230703T180000
DTEND;TZID=Europe/London:20230703T190000
DTSTAMP:20260420T143923
CREATED:20230610T134122Z
LAST-MODIFIED:20230610T134124Z
UID:8552-1688407200-1688410800@monyash.info
SUMMARY:Pilates
DESCRIPTION:Classes by Caroline Webster \n\n\n\nMore details on our Pilates and Yoga page
URL:https://monyash.info/event/pilates-124/
LOCATION:Taddington Institute\, Bramwell Memorial Institute\, Main Road\, Taddington\, SK17 9TU
END:VEVENT
END:VCALENDAR