BEGIN:VCALENDAR
VERSION:2.0
PRODID:-//Monyash Village - ECPv6.15.20//NONSGML v1.0//EN
CALSCALE:GREGORIAN
METHOD:PUBLISH
X-WR-CALNAME:Monyash Village
X-ORIGINAL-URL:https://monyash.info
X-WR-CALDESC:Events for Monyash Village
REFRESH-INTERVAL;VALUE=DURATION:PT1H
X-Robots-Tag:noindex
X-PUBLISHED-TTL:PT1H
BEGIN:VTIMEZONE
TZID:Europe/London
BEGIN:DAYLIGHT
TZOFFSETFROM:+0000
TZOFFSETTO:+0100
TZNAME:BST
DTSTART:20220327T010000
END:DAYLIGHT
BEGIN:STANDARD
TZOFFSETFROM:+0100
TZOFFSETTO:+0000
TZNAME:GMT
DTSTART:20221030T010000
END:STANDARD
BEGIN:DAYLIGHT
TZOFFSETFROM:+0000
TZOFFSETTO:+0100
TZNAME:BST
DTSTART:20230326T010000
END:DAYLIGHT
BEGIN:STANDARD
TZOFFSETFROM:+0100
TZOFFSETTO:+0000
TZNAME:GMT
DTSTART:20231029T010000
END:STANDARD
BEGIN:DAYLIGHT
TZOFFSETFROM:+0000
TZOFFSETTO:+0100
TZNAME:BST
DTSTART:20240331T010000
END:DAYLIGHT
BEGIN:STANDARD
TZOFFSETFROM:+0100
TZOFFSETTO:+0000
TZNAME:GMT
DTSTART:20241027T010000
END:STANDARD
END:VTIMEZONE
BEGIN:VEVENT
DTSTART;TZID=Europe/London:20231130T191500
DTEND;TZID=Europe/London:20231130T203000
DTSTAMP:20260420T073758
CREATED:20231117T113345Z
LAST-MODIFIED:20231117T113347Z
UID:9525-1701371700-1701376200@monyash.info
SUMMARY:Hatha Yoga
DESCRIPTION:Hatha Yoga with Yoga Nidra meditation \n\n\n\nClasses by Caroline Webster \n\n\n\nMore details on our Pilates and Yoga page
URL:https://monyash.info/event/hatha-yoga-34/
LOCATION:Monyash Village Hall\, Church Street\, Monyash\, DE45 1JH
END:VEVENT
BEGIN:VEVENT
DTSTART;TZID=Europe/London:20231129T193000
DTEND;TZID=Europe/London:20231129T203000
DTSTAMP:20260420T073758
CREATED:20231030T135808Z
LAST-MODIFIED:20231030T135811Z
UID:9341-1701286200-1701289800@monyash.info
SUMMARY:Pilates for men
DESCRIPTION:Classes by Caroline Webster \n\n\n\nMore details on our Pilates and Yoga page
URL:https://monyash.info/event/pilates-for-men-4/
LOCATION:Monyash Village Hall\, Church Street\, Monyash\, DE45 1JH
END:VEVENT
BEGIN:VEVENT
DTSTART;TZID=Europe/London:20231128T180000
DTEND;TZID=Europe/London:20231128T190000
DTSTAMP:20260420T073758
CREATED:20230824T193946Z
LAST-MODIFIED:20231030T141528Z
UID:9019-1701194400-1701198000@monyash.info
SUMMARY:Pilates
DESCRIPTION:Classes by Caroline Webster \n\n\n\nMore details on our Pilates and Yoga page
URL:https://monyash.info/event/pilates-155/
LOCATION:Monyash Village Hall\, Church Street\, Monyash\, DE45 1JH
END:VEVENT
BEGIN:VEVENT
DTSTART;TZID=Europe/London:20231128T140000
DTEND;TZID=Europe/London:20231128T160000
DTSTAMP:20260420T073758
CREATED:20230824T200017Z
LAST-MODIFIED:20230923T121410Z
UID:9045-1701180000-1701187200@monyash.info
SUMMARY:Monyash Quilters
DESCRIPTION:A friendly group with a wide range of creative talent who love making beautiful quilts and anything crafty. Drop into one of our weekly meetings as a taster to see what we do and if we can tempt you to join.
URL:https://monyash.info/event/monyash-quilters-32/
LOCATION:Monyash Village Hall\, Church Street\, Monyash\, DE45 1JH
END:VEVENT
BEGIN:VEVENT
DTSTART;TZID=Europe/London:20231127T173000
DTEND;TZID=Europe/London:20231127T184500
DTSTAMP:20260420T073759
CREATED:20230930T150729Z
LAST-MODIFIED:20230930T150732Z
UID:9235-1701106200-1701110700@monyash.info
SUMMARY:Iyengar Yoga
DESCRIPTION:Classes by Dave Swinhoe \n\n\n\nMore details about Iyengar Yoga on the IYUK website
URL:https://monyash.info/event/iyengar-yoga-6/
LOCATION:Monyash Village Hall\, Church Street\, Monyash\, DE45 1JH
END:VEVENT
BEGIN:VEVENT
DTSTART;TZID=Europe/London:20231124T140000
DTEND;TZID=Europe/London:20231124T153000
DTSTAMP:20260420T073759
CREATED:20230824T200436Z
LAST-MODIFIED:20230824T200439Z
UID:9049-1700834400-1700839800@monyash.info
SUMMARY:Crafternoon
DESCRIPTION:Tea & Cake\, Crafts and Chat – what’s not to like?!
URL:https://monyash.info/event/crafternoon-70/
LOCATION:Monyash Village Hall\, Church Street\, Monyash\, DE45 1JH
END:VEVENT
BEGIN:VEVENT
DTSTART;TZID=Europe/London:20231124T090000
DTEND;TZID=Europe/London:20231124T110000
DTSTAMP:20260420T073759
CREATED:20230824T200826Z
LAST-MODIFIED:20230930T154235Z
UID:9057-1700816400-1700823600@monyash.info
SUMMARY:Tea and Tots
DESCRIPTION:Tea and Tots is a playgroup\, aimed at babies and preschoolers\, for local families and friends to get together for a cuppa\, chat and play! Whilst we are aimed at preschool ages\, anyone is welcome to pop in and join us.Tea coffee\, snacks and a variety of toys are provided. Parents are responsible for their children whilst there.Hope to see you soon!
URL:https://monyash.info/event/tea-and-tots-21/
LOCATION:Monyash Village Hall\, Church Street\, Monyash\, DE45 1JH
END:VEVENT
BEGIN:VEVENT
DTSTART;TZID=Europe/London:20231123T191500
DTEND;TZID=Europe/London:20231123T203000
DTSTAMP:20260420T073759
CREATED:20231117T113218Z
LAST-MODIFIED:20231117T113220Z
UID:9523-1700766900-1700771400@monyash.info
SUMMARY:Hatha Yoga
DESCRIPTION:Hatha Yoga with Yoga Nidra meditation \n\n\n\nClasses by Caroline Webster \n\n\n\nMore details on our Pilates and Yoga page
URL:https://monyash.info/event/hatha-yoga-22/
LOCATION:Monyash Village Hall\, Church Street\, Monyash\, DE45 1JH
END:VEVENT
BEGIN:VEVENT
DTSTART;TZID=Europe/London:20231122T193000
DTEND;TZID=Europe/London:20231122T203000
DTSTAMP:20260420T073759
CREATED:20231030T135658Z
LAST-MODIFIED:20231030T135701Z
UID:9339-1700681400-1700685000@monyash.info
SUMMARY:Pilates for men
DESCRIPTION:Classes by Caroline Webster \n\n\n\nMore details on our Pilates and Yoga page
URL:https://monyash.info/event/pilates-for-men-3/
LOCATION:Monyash Village Hall\, Church Street\, Monyash\, DE45 1JH
END:VEVENT
BEGIN:VEVENT
DTSTART;TZID=Europe/London:20231121T180000
DTEND;TZID=Europe/London:20231121T190000
DTSTAMP:20260420T073759
CREATED:20230824T193902Z
LAST-MODIFIED:20231030T141511Z
UID:9017-1700589600-1700593200@monyash.info
SUMMARY:Pilates
DESCRIPTION:Classes by Caroline Webster \n\n\n\nMore details on our Pilates and Yoga page
URL:https://monyash.info/event/pilates-154/
LOCATION:Monyash Village Hall\, Church Street\, Monyash\, DE45 1JH
END:VEVENT
BEGIN:VEVENT
DTSTART;TZID=Europe/London:20231121T140000
DTEND;TZID=Europe/London:20231121T160000
DTSTAMP:20260420T073759
CREATED:20230824T195927Z
LAST-MODIFIED:20230923T121330Z
UID:9043-1700575200-1700582400@monyash.info
SUMMARY:Monyash Quilters
DESCRIPTION:A friendly group with a wide range of creative talent who love making beautiful quilts and anything crafty. Drop into one of our weekly meetings as a taster to see what we do and if we can tempt you to join.
URL:https://monyash.info/event/monyash-quilters-31/
LOCATION:Monyash Village Hall\, Church Street\, Monyash\, DE45 1JH
END:VEVENT
BEGIN:VEVENT
DTSTART;TZID=Europe/London:20231120T173000
DTEND;TZID=Europe/London:20231120T184500
DTSTAMP:20260420T073759
CREATED:20230930T150633Z
LAST-MODIFIED:20230930T150635Z
UID:9233-1700501400-1700505900@monyash.info
SUMMARY:Iyengar Yoga
DESCRIPTION:Classes by Dave Swinhoe \n\n\n\nMore details about Iyengar Yoga on the IYUK website
URL:https://monyash.info/event/iyengar-yoga-5/
LOCATION:Monyash Village Hall\, Church Street\, Monyash\, DE45 1JH
END:VEVENT
BEGIN:VEVENT
DTSTART;TZID=Europe/London:20231117T090000
DTEND;TZID=Europe/London:20231117T110000
DTSTAMP:20260420T073759
CREATED:20230824T200744Z
LAST-MODIFIED:20230930T154220Z
UID:9055-1700211600-1700218800@monyash.info
SUMMARY:Tea and Tots
DESCRIPTION:Tea and Tots is a playgroup\, aimed at babies and preschoolers\, for local families and friends to get together for a cuppa\, chat and play! Whilst we are aimed at preschool ages\, anyone is welcome to pop in and join us.Tea coffee\, snacks and a variety of toys are provided. Parents are responsible for their children whilst there.Hope to see you soon!
URL:https://monyash.info/event/tea-and-tots-20/
LOCATION:Monyash Village Hall\, Church Street\, Monyash\, DE45 1JH
END:VEVENT
BEGIN:VEVENT
DTSTART;TZID=Europe/London:20231116T170000
DTEND;TZID=Europe/London:20231116T200000
DTSTAMP:20260420T073759
CREATED:20231031T225124Z
LAST-MODIFIED:20231031T225937Z
UID:9370-1700154000-1700164800@monyash.info
SUMMARY:Pie & Peas evening
DESCRIPTION:At the annual Pie and Peas 🥧🫛 evening at the pub\, you can choose from suet or shortcrust pastry for your meat&potato pie\, served with mushy peas\, mashed swede\, pickled red cabbage and crusty bread to mop up! There’s Homity Pie available too.🥧🫛Takeout and delivery can be arranged🥧🫛
URL:https://monyash.info/event/pie-peas-evening-5/
LOCATION:The Bull’s Head\, The Square\, Monyash\, DE45 1JH
END:VEVENT
BEGIN:VEVENT
DTSTART;TZID=Europe/London:20231115T193000
DTEND;TZID=Europe/London:20231115T203000
DTSTAMP:20260420T073759
CREATED:20231030T135313Z
LAST-MODIFIED:20231030T135316Z
UID:9337-1700076600-1700080200@monyash.info
SUMMARY:Pilates for men
DESCRIPTION:Classes by Caroline Webster \n\n\n\nMore details on our Pilates and Yoga page
URL:https://monyash.info/event/pilates-for-men-2/
LOCATION:Monyash Village Hall\, Church Street\, Monyash\, DE45 1JH
END:VEVENT
BEGIN:VEVENT
DTSTART;TZID=Europe/London:20231115T111500
DTEND;TZID=Europe/London:20231115T114500
DTSTAMP:20260420T073759
CREATED:20230824T192645Z
LAST-MODIFIED:20230824T192648Z
UID:9002-1700046900-1700048700@monyash.info
SUMMARY:Mobile Library
DESCRIPTION:Full details of the mobile library service including a county-wide schedule are on this page on the County Council website.
URL:https://monyash.info/event/mobile-library-54/
LOCATION:The Square\, The Square\, Monyash\, DE45 1JH
END:VEVENT
BEGIN:VEVENT
DTSTART;TZID=Europe/London:20231114T180000
DTEND;TZID=Europe/London:20231114T190000
DTSTAMP:20260420T073759
CREATED:20230824T193738Z
LAST-MODIFIED:20231030T141449Z
UID:9015-1699984800-1699988400@monyash.info
SUMMARY:Pilates
DESCRIPTION:Classes by Caroline Webster \n\n\n\nMore details on our Pilates and Yoga page
URL:https://monyash.info/event/pilates-153/
LOCATION:Monyash Village Hall\, Church Street\, Monyash\, DE45 1JH
END:VEVENT
BEGIN:VEVENT
DTSTART;TZID=Europe/London:20231114T140000
DTEND;TZID=Europe/London:20231114T160000
DTSTAMP:20260420T073759
CREATED:20230824T195850Z
LAST-MODIFIED:20230923T121313Z
UID:9041-1699970400-1699977600@monyash.info
SUMMARY:Monyash Quilters
DESCRIPTION:A friendly group with a wide range of creative talent who love making beautiful quilts and anything crafty. Drop into one of our weekly meetings as a taster to see what we do and if we can tempt you to join.
URL:https://monyash.info/event/monyash-quilters-30/
LOCATION:Monyash Village Hall\, Church Street\, Monyash\, DE45 1JH
END:VEVENT
BEGIN:VEVENT
DTSTART;TZID=Europe/London:20231113T173000
DTEND;TZID=Europe/London:20231113T184500
DTSTAMP:20260420T073759
CREATED:20230930T150540Z
LAST-MODIFIED:20230930T150543Z
UID:9231-1699896600-1699901100@monyash.info
SUMMARY:Iyengar Yoga
DESCRIPTION:Classes by Dave Swinhoe \n\n\n\nMore details about Iyengar Yoga on the IYUK website
URL:https://monyash.info/event/iyengar-yoga-4/
LOCATION:Monyash Village Hall\, Church Street\, Monyash\, DE45 1JH
END:VEVENT
BEGIN:VEVENT
DTSTART;TZID=Europe/London:20231112T110000
DTEND;TZID=Europe/London:20231112T110000
DTSTAMP:20260420T073759
CREATED:20230824T195558Z
LAST-MODIFIED:20230824T195601Z
UID:9037-1699786800-1699786800@monyash.info
SUMMARY:Remembrance Service
DESCRIPTION:
URL:https://monyash.info/event/remembrance-service-2/
LOCATION:Village Green\, Village Green\, Monyash\, DE45 1JH
END:VEVENT
BEGIN:VEVENT
DTSTART;TZID=Europe/London:20231112T100000
DTEND;TZID=Europe/London:20231112T100000
DTSTAMP:20260420T073759
CREATED:20230824T195459Z
LAST-MODIFIED:20230824T195502Z
UID:9035-1699783200-1699783200@monyash.info
SUMMARY:Church Service
DESCRIPTION:You are welcome to join us for our Remembrance service which takes place at 10am before proceeding to the village green for 11am.
URL:https://monyash.info/event/church-service-46/
LOCATION:St Leonard’s Church\, Church Street\, Monyash\, DE45 1JH
END:VEVENT
BEGIN:VEVENT
DTSTART;TZID=Europe/London:20231110T140000
DTEND;TZID=Europe/London:20231110T153000
DTSTAMP:20260420T073759
CREATED:20230824T200339Z
LAST-MODIFIED:20230824T200342Z
UID:9047-1699624800-1699630200@monyash.info
SUMMARY:Crafternoon
DESCRIPTION:Tea & Cake\, Crafts and Chat – what’s not to like?!
URL:https://monyash.info/event/crafternoon-69/
LOCATION:Monyash Village Hall\, Church Street\, Monyash\, DE45 1JH
END:VEVENT
BEGIN:VEVENT
DTSTART;TZID=Europe/London:20231110T090000
DTEND;TZID=Europe/London:20231110T110000
DTSTAMP:20260420T073759
CREATED:20230824T200653Z
LAST-MODIFIED:20230930T154204Z
UID:9053-1699606800-1699614000@monyash.info
SUMMARY:Tea and Tots
DESCRIPTION:Tea and Tots is a playgroup\, aimed at babies and preschoolers\, for local families and friends to get together for a cuppa\, chat and play! Whilst we are aimed at preschool ages\, anyone is welcome to pop in and join us.Tea coffee\, snacks and a variety of toys are provided. Parents are responsible for their children whilst there.Hope to see you soon!
URL:https://monyash.info/event/tea-and-tots-19/
LOCATION:Monyash Village Hall\, Church Street\, Monyash\, DE45 1JH
END:VEVENT
BEGIN:VEVENT
DTSTART;TZID=Europe/London:20231109T193000
DTEND;TZID=Europe/London:20231109T202000
DTSTAMP:20260420T073759
CREATED:20231030T135211Z
LAST-MODIFIED:20231030T135215Z
UID:9335-1699558200-1699561200@monyash.info
SUMMARY:Pilates for men
DESCRIPTION:Classes by Caroline Webster \n\n\n\nMore details on our Pilates and Yoga page
URL:https://monyash.info/event/pilates-for-men/
LOCATION:Monyash Village Hall\, Church Street\, Monyash\, DE45 1JH
END:VEVENT
BEGIN:VEVENT
DTSTART;TZID=Europe/London:20231107T180000
DTEND;TZID=Europe/London:20231107T190000
DTSTAMP:20260420T073759
CREATED:20230824T193653Z
LAST-MODIFIED:20231030T141216Z
UID:9013-1699380000-1699383600@monyash.info
SUMMARY:Pilates
DESCRIPTION:Classes by Caroline Webster \n\n\n\nMore details on our Pilates and Yoga page
URL:https://monyash.info/event/pilates-152/
LOCATION:Monyash Village Hall\, Church Street\, Monyash\, DE45 1JH
END:VEVENT
BEGIN:VEVENT
DTSTART;TZID=Europe/London:20231107T140000
DTEND;TZID=Europe/London:20231107T160000
DTSTAMP:20260420T073759
CREATED:20230824T195808Z
LAST-MODIFIED:20230923T121300Z
UID:9039-1699365600-1699372800@monyash.info
SUMMARY:Monyash Quilters
DESCRIPTION:A friendly group with a wide range of creative talent who love making beautiful quilts and anything crafty. Drop into one of our weekly meetings as a taster to see what we do and if we can tempt you to join.
URL:https://monyash.info/event/monyash-quilters-29/
LOCATION:Monyash Village Hall\, Church Street\, Monyash\, DE45 1JH
END:VEVENT
BEGIN:VEVENT
DTSTART;TZID=Europe/London:20231106T190000
DTEND;TZID=Europe/London:20231106T190000
DTSTAMP:20260420T073759
CREATED:20230109T213522Z
LAST-MODIFIED:20230109T213524Z
UID:7643-1699297200-1699297200@monyash.info
SUMMARY:Parish Council meeting
DESCRIPTION:
URL:https://monyash.info/event/parish-council-meeting-51/
LOCATION:Monyash Village Hall\, Church Street\, Monyash\, DE45 1JH
END:VEVENT
BEGIN:VEVENT
DTSTART;TZID=Europe/London:20231106T173000
DTEND;TZID=Europe/London:20231106T184500
DTSTAMP:20260420T073759
CREATED:20230930T150446Z
LAST-MODIFIED:20230930T150449Z
UID:9229-1699291800-1699296300@monyash.info
SUMMARY:Iyengar Yoga
DESCRIPTION:Classes by Dave Swinhoe \n\n\n\nMore details about Iyengar Yoga on the IYUK website
URL:https://monyash.info/event/iyengar-yoga-3/
LOCATION:Monyash Village Hall\, Church Street\, Monyash\, DE45 1JH
END:VEVENT
BEGIN:VEVENT
DTSTART;TZID=Europe/London:20231105T100000
DTEND;TZID=Europe/London:20231105T160000
DTSTAMP:20260420T073759
CREATED:20230910T103559Z
LAST-MODIFIED:20230910T103602Z
UID:9100-1699178400-1699200000@monyash.info
SUMMARY:Makers and Crafters Fair
DESCRIPTION:Monyash Quilters present a Makers and Crafters Fair \n\n\n\nAttendance is FREE and refreshments are available. \n\n\n\nFull details are in this poster which you can read or download.
URL:https://monyash.info/event/makers-and-crafters-fair/
LOCATION:Monyash Village Hall\, Church Street\, Monyash\, DE45 1JH
END:VEVENT
BEGIN:VEVENT
DTSTART;TZID=Europe/London:20231103T090000
DTEND;TZID=Europe/London:20231103T110000
DTSTAMP:20260420T073759
CREATED:20230824T200608Z
LAST-MODIFIED:20230930T154146Z
UID:9051-1699002000-1699009200@monyash.info
SUMMARY:Tea and Tots
DESCRIPTION:Tea and Tots is a playgroup\, aimed at babies and preschoolers\, for local families and friends to get together for a cuppa\, chat and play! Whilst we are aimed at preschool ages\, anyone is welcome to pop in and join us.Tea coffee\, snacks and a variety of toys are provided. Parents are responsible for their children whilst there.Hope to see you soon!
URL:https://monyash.info/event/tea-and-tots-18/
LOCATION:Monyash Village Hall\, Church Street\, Monyash\, DE45 1JH
END:VEVENT
END:VCALENDAR