BEGIN:VCALENDAR
VERSION:2.0
PRODID:-//Monyash Village - ECPv6.15.20//NONSGML v1.0//EN
CALSCALE:GREGORIAN
METHOD:PUBLISH
X-ORIGINAL-URL:https://monyash.info
X-WR-CALDESC:Events for Monyash Village
REFRESH-INTERVAL;VALUE=DURATION:PT1H
X-Robots-Tag:noindex
X-PUBLISHED-TTL:PT1H
BEGIN:VTIMEZONE
TZID:Europe/London
BEGIN:DAYLIGHT
TZOFFSETFROM:+0000
TZOFFSETTO:+0100
TZNAME:BST
DTSTART:20240331T010000
END:DAYLIGHT
BEGIN:STANDARD
TZOFFSETFROM:+0100
TZOFFSETTO:+0000
TZNAME:GMT
DTSTART:20241027T010000
END:STANDARD
BEGIN:DAYLIGHT
TZOFFSETFROM:+0000
TZOFFSETTO:+0100
TZNAME:BST
DTSTART:20250330T010000
END:DAYLIGHT
BEGIN:STANDARD
TZOFFSETFROM:+0100
TZOFFSETTO:+0000
TZNAME:GMT
DTSTART:20251026T010000
END:STANDARD
BEGIN:DAYLIGHT
TZOFFSETFROM:+0000
TZOFFSETTO:+0100
TZNAME:BST
DTSTART:20260329T010000
END:DAYLIGHT
BEGIN:STANDARD
TZOFFSETFROM:+0100
TZOFFSETTO:+0000
TZNAME:GMT
DTSTART:20261025T010000
END:STANDARD
END:VTIMEZONE
BEGIN:VEVENT
DTSTART;TZID=Europe/London:20250701T100000
DTEND;TZID=Europe/London:20250731T150000
DTSTAMP:20260420T214523
CREATED:20250419T141023Z
LAST-MODIFIED:20250419T141026Z
UID:12606-1751364000-1753974000@monyash.info
SUMMARY:Church open 10:00-15:00
DESCRIPTION:St Leonard’s is open every day from 10:00-15:00 for private prayer.We are looking forward to welcoming you inside our historic village church and know that you will help keep our village safe. Please take sensible precautions to avoid passing on any infection.
URL:https://monyash.info/event/church-open-1000-1500-45/
LOCATION:St Leonard’s Church\, Church Street\, Monyash\, DE45 1JH
END:VEVENT
BEGIN:VEVENT
DTSTART;TZID=Europe/London:20250717T190000
DTEND;TZID=Europe/London:20250717T200000
DTSTAMP:20260420T214523
CREATED:20250701T150237Z
LAST-MODIFIED:20250701T150241Z
UID:13517-1752778800-1752782400@monyash.info
SUMMARY:Spanish class
DESCRIPTION:Conversational Spanish class by Jennie UchuariContact Jennie for more details\, including how the class works for different levels of ability and experience.📱07779 844823
URL:https://monyash.info/event/spanish-class-4/
LOCATION:Monyash Methodist Chapel\, Chapel Street\, Monyash\, DE45 1JJ
END:VEVENT
BEGIN:VEVENT
DTSTART;TZID=Europe/London:20250717T213000
DTEND;TZID=Europe/London:20250717T214500
DTSTAMP:20260420T214523
CREATED:20250421T210123Z
LAST-MODIFIED:20250421T210126Z
UID:12684-1752787800-1752788700@monyash.info
SUMMARY:Pub Quiz
DESCRIPTION:Quiz night at the pub every Thursday starting 9:30-9:45. 50p/person entry fee. Winnings £25 per team\, but you have to set the quiz the following weekFollowed by Play Your Cards Right 🃏♠️❤️♦️♣️🃏
URL:https://monyash.info/event/pub-quiz-20/
LOCATION:The Bull’s Head\, The Square\, Monyash\, DE45 1JH
END:VEVENT
END:VCALENDAR