BEGIN:VCALENDAR
VERSION:2.0
PRODID:-//Monyash Village - ECPv6.15.20//NONSGML v1.0//EN
CALSCALE:GREGORIAN
METHOD:PUBLISH
X-ORIGINAL-URL:https://monyash.info
X-WR-CALDESC:Events for Monyash Village
REFRESH-INTERVAL;VALUE=DURATION:PT1H
X-Robots-Tag:noindex
X-PUBLISHED-TTL:PT1H
BEGIN:VTIMEZONE
TZID:Europe/London
BEGIN:DAYLIGHT
TZOFFSETFROM:+0000
TZOFFSETTO:+0100
TZNAME:BST
DTSTART:20240331T010000
END:DAYLIGHT
BEGIN:STANDARD
TZOFFSETFROM:+0100
TZOFFSETTO:+0000
TZNAME:GMT
DTSTART:20241027T010000
END:STANDARD
BEGIN:DAYLIGHT
TZOFFSETFROM:+0000
TZOFFSETTO:+0100
TZNAME:BST
DTSTART:20250330T010000
END:DAYLIGHT
BEGIN:STANDARD
TZOFFSETFROM:+0100
TZOFFSETTO:+0000
TZNAME:GMT
DTSTART:20251026T010000
END:STANDARD
BEGIN:DAYLIGHT
TZOFFSETFROM:+0000
TZOFFSETTO:+0100
TZNAME:BST
DTSTART:20260329T010000
END:DAYLIGHT
BEGIN:STANDARD
TZOFFSETFROM:+0100
TZOFFSETTO:+0000
TZNAME:GMT
DTSTART:20261025T010000
END:STANDARD
END:VTIMEZONE
BEGIN:VEVENT
DTSTART;TZID=Europe/London:20250601T100000
DTEND;TZID=Europe/London:20250630T150000
DTSTAMP:20260421T060143
CREATED:20250409T094333Z
LAST-MODIFIED:20250409T094341Z
UID:12572-1748772000-1751295600@monyash.info
SUMMARY:Church open 10:00-15:00
DESCRIPTION:St Leonard’s is open every day from 10:00-15:00 for private prayer.We are looking forward to welcoming you inside our historic village church and know that you will help keep our village safe. Please take sensible precautions to avoid passing on any infection.
URL:https://monyash.info/event/church-open-1000-1500-44/
LOCATION:St Leonard’s Church\, Church Street\, Monyash\, DE45 1JH
END:VEVENT
BEGIN:VEVENT
DTSTART;TZID=Europe/London:20250613T140000
DTEND;TZID=Europe/London:20250613T153000
DTSTAMP:20260421T060143
CREATED:20250422T124522Z
LAST-MODIFIED:20250422T124525Z
UID:12717-1749823200-1749828600@monyash.info
SUMMARY:Crafternoon
DESCRIPTION:Tea & Cake\, Crafts and Chat – what’s not to like!?
URL:https://monyash.info/event/crafternoon-108/
LOCATION:Monyash Village Hall\, Church Street\, Monyash\, DE45 1JH
END:VEVENT
BEGIN:VEVENT
DTSTART;TZID=Europe/London:20250613T151500
DTEND;TZID=Europe/London:20250613T164500
DTSTAMP:20260421T060143
CREATED:20250421T104326Z
LAST-MODIFIED:20250421T105031Z
UID:12617-1749827700-1749833100@monyash.info
SUMMARY:Messy Church
DESCRIPTION:Messy Church is straight after school\, usually on the 2nd Friday of the month.£2 per child\, incuding food and squash.Children must be accompanied by an adult.
URL:https://monyash.info/event/messy-church-17/
LOCATION:Monyash Methodist Chapel\, Chapel Street\, Monyash\, DE45 1JJ
END:VEVENT
END:VCALENDAR