BEGIN:VCALENDAR
VERSION:2.0
PRODID:-//Monyash Village - ECPv6.15.20//NONSGML v1.0//EN
CALSCALE:GREGORIAN
METHOD:PUBLISH
X-ORIGINAL-URL:https://monyash.info
X-WR-CALDESC:Events for Monyash Village
REFRESH-INTERVAL;VALUE=DURATION:PT1H
X-Robots-Tag:noindex
X-PUBLISHED-TTL:PT1H
BEGIN:VTIMEZONE
TZID:Europe/London
BEGIN:DAYLIGHT
TZOFFSETFROM:+0000
TZOFFSETTO:+0100
TZNAME:BST
DTSTART:20240331T010000
END:DAYLIGHT
BEGIN:STANDARD
TZOFFSETFROM:+0100
TZOFFSETTO:+0000
TZNAME:GMT
DTSTART:20241027T010000
END:STANDARD
BEGIN:DAYLIGHT
TZOFFSETFROM:+0000
TZOFFSETTO:+0100
TZNAME:BST
DTSTART:20250330T010000
END:DAYLIGHT
BEGIN:STANDARD
TZOFFSETFROM:+0100
TZOFFSETTO:+0000
TZNAME:GMT
DTSTART:20251026T010000
END:STANDARD
BEGIN:DAYLIGHT
TZOFFSETFROM:+0000
TZOFFSETTO:+0100
TZNAME:BST
DTSTART:20260329T010000
END:DAYLIGHT
BEGIN:STANDARD
TZOFFSETFROM:+0100
TZOFFSETTO:+0000
TZNAME:GMT
DTSTART:20261025T010000
END:STANDARD
END:VTIMEZONE
BEGIN:VEVENT
DTSTART;TZID=Europe/London:20250401T100000
DTEND;TZID=Europe/London:20250430T150000
DTSTAMP:20260419T200217
CREATED:20250209T135410Z
LAST-MODIFIED:20250209T135412Z
UID:12197-1743501600-1746025200@monyash.info
SUMMARY:Church open 10:00-15:00
DESCRIPTION:St Leonard’s is open every day from 10:00-15:00 for private prayer.We are looking forward to welcoming you inside our historic village church and know that you will help keep our village safe. Please take sensible precautions to avoid passing on any infection.
URL:https://monyash.info/event/church-open-1000-1500-42/
LOCATION:St Leonard’s Church\, Church Street\, Monyash\, DE45 1JH
END:VEVENT
BEGIN:VEVENT
DTSTART;TZID=Europe/London:20250407T000000
DTEND;TZID=Europe/London:20250421T235959
DTSTAMP:20260419T200217
CREATED:20220125T153709Z
LAST-MODIFIED:20220125T153712Z
UID:5253-1743984000-1745279999@monyash.info
SUMMARY:School Easter Holiday
DESCRIPTION:
URL:https://monyash.info/event/school-easter-holiday-7/
LOCATION:Monyash Primary School\, Church Street\, Monyash\, DE45 1JH
END:VEVENT
BEGIN:VEVENT
DTSTART;TZID=Europe/London:20250407T093000
DTEND;TZID=Europe/London:20250407T103000
DTSTAMP:20260419T200217
CREATED:20250302T154540Z
LAST-MODIFIED:20250302T154542Z
UID:12264-1744018200-1744021800@monyash.info
SUMMARY:Beginners' Pilates
DESCRIPTION:Classes by Caroline Webster \n\n\n\nMore details on our Pilates and Yoga page
URL:https://monyash.info/event/beginners-pilates-6/
LOCATION:Monyash Village Hall\, Church Street\, Monyash\, DE45 1JH
END:VEVENT
BEGIN:VEVENT
DTSTART;TZID=Europe/London:20250407T173000
DTEND;TZID=Europe/London:20250407T184500
DTSTAMP:20260419T200217
CREATED:20250305T122337Z
LAST-MODIFIED:20250305T122340Z
UID:12347-1744047000-1744051500@monyash.info
SUMMARY:Iyengar Yoga
DESCRIPTION:Classes by Dave Swinhoe \n\n\n\nMore details about Iyengar Yoga on the IYUK website
URL:https://monyash.info/event/iyengar-yoga-70/
LOCATION:Monyash Village Hall\, Church Street\, Monyash\, DE45 1JH
END:VEVENT
BEGIN:VEVENT
DTSTART;TZID=Europe/London:20250407T190000
DTEND;TZID=Europe/London:20250407T190000
DTSTAMP:20260419T200217
CREATED:20241222T115343Z
LAST-MODIFIED:20241222T115346Z
UID:11962-1744052400-1744052400@monyash.info
SUMMARY:Parish Council meeting
DESCRIPTION:
URL:https://monyash.info/event/parish-council-meeting-66/
LOCATION:Monyash Village Hall\, Church Street\, Monyash\, DE45 1JH
END:VEVENT
END:VCALENDAR