BEGIN:VCALENDAR
VERSION:2.0
PRODID:-//Monyash Village - ECPv6.15.20//NONSGML v1.0//EN
CALSCALE:GREGORIAN
METHOD:PUBLISH
X-WR-CALNAME:Monyash Village
X-ORIGINAL-URL:https://monyash.info
X-WR-CALDESC:Events for Monyash Village
REFRESH-INTERVAL;VALUE=DURATION:PT1H
X-Robots-Tag:noindex
X-PUBLISHED-TTL:PT1H
BEGIN:VTIMEZONE
TZID:Europe/London
BEGIN:DAYLIGHT
TZOFFSETFROM:+0000
TZOFFSETTO:+0100
TZNAME:BST
DTSTART:20240331T010000
END:DAYLIGHT
BEGIN:STANDARD
TZOFFSETFROM:+0100
TZOFFSETTO:+0000
TZNAME:GMT
DTSTART:20241027T010000
END:STANDARD
BEGIN:DAYLIGHT
TZOFFSETFROM:+0000
TZOFFSETTO:+0100
TZNAME:BST
DTSTART:20250330T010000
END:DAYLIGHT
BEGIN:STANDARD
TZOFFSETFROM:+0100
TZOFFSETTO:+0000
TZNAME:GMT
DTSTART:20251026T010000
END:STANDARD
BEGIN:DAYLIGHT
TZOFFSETFROM:+0000
TZOFFSETTO:+0100
TZNAME:BST
DTSTART:20260329T010000
END:DAYLIGHT
BEGIN:STANDARD
TZOFFSETFROM:+0100
TZOFFSETTO:+0000
TZNAME:GMT
DTSTART:20261025T010000
END:STANDARD
END:VTIMEZONE
BEGIN:VEVENT
DTSTART;TZID=Europe/London:20250401T100000
DTEND;TZID=Europe/London:20250430T150000
DTSTAMP:20260419T195855
CREATED:20250209T135410Z
LAST-MODIFIED:20250209T135412Z
UID:12197-1743501600-1746025200@monyash.info
SUMMARY:Church open 10:00-15:00
DESCRIPTION:St Leonard’s is open every day from 10:00-15:00 for private prayer.We are looking forward to welcoming you inside our historic village church and know that you will help keep our village safe. Please take sensible precautions to avoid passing on any infection.
URL:https://monyash.info/event/church-open-1000-1500-42/
LOCATION:St Leonard’s Church\, Church Street\, Monyash\, DE45 1JH
END:VEVENT
BEGIN:VEVENT
DTSTART;TZID=Europe/London:20250402T090000
DTEND;TZID=Europe/London:20250402T090000
DTSTAMP:20260419T195855
CREATED:20250305T163857Z
LAST-MODIFIED:20250305T163902Z
UID:12387-1743584400-1743584400@monyash.info
SUMMARY:Bird Song Walk
DESCRIPTION:A walk lasting around two hours starting at the ancient market cross on the village green\, led by Simon Corble. For more details\, check out this page on our website.
URL:https://monyash.info/event/bird-song-walk-6/
LOCATION:Village Green\, Village Green\, Monyash\, DE45 1JH
END:VEVENT
BEGIN:VEVENT
DTSTART;TZID=Europe/London:20250402T111500
DTEND;TZID=Europe/London:20250402T114500
DTSTAMP:20260419T195855
CREATED:20250209T135700Z
LAST-MODIFIED:20250209T135704Z
UID:12199-1743592500-1743594300@monyash.info
SUMMARY:Mobile Library
DESCRIPTION:Full details of the mobile library service including a county-wide schedule are on this page on the County Council website.
URL:https://monyash.info/event/mobile-library-71/
LOCATION:Village Green\, Village Green\, Monyash\, DE45 1JH
END:VEVENT
BEGIN:VEVENT
DTSTART;TZID=Europe/London:20250402T173000
DTEND;TZID=Europe/London:20250402T173000
DTSTAMP:20260419T195855
CREATED:20250305T120611Z
LAST-MODIFIED:20250331T124918Z
UID:12329-1743615000-1743615000@monyash.info
SUMMARY:No Hatha Yoga
DESCRIPTION:No Hatha Yoga this week due to holidays.Classes restart w/c Monday 8th April.More details on our Pilates and Yoga page
URL:https://monyash.info/event/hatha-yoga-97/
LOCATION:Monyash Village Hall\, Church Street\, Monyash\, DE45 1JH
END:VEVENT
BEGIN:VEVENT
DTSTART;TZID=Europe/London:20250402T193000
DTEND;TZID=Europe/London:20250402T193000
DTSTAMP:20260419T195855
CREATED:20250113T111820Z
LAST-MODIFIED:20250113T111822Z
UID:12097-1743622200-1743622200@monyash.info
SUMMARY:WI
DESCRIPTION:Guest speaker\, competition and refreshments.
URL:https://monyash.info/event/wi-50/
LOCATION:Monyash Village Hall\, Church Street\, Monyash\, DE45 1JH
END:VEVENT
END:VCALENDAR