BEGIN:VCALENDAR
VERSION:2.0
PRODID:-//Monyash Village - ECPv6.15.20//NONSGML v1.0//EN
CALSCALE:GREGORIAN
METHOD:PUBLISH
X-ORIGINAL-URL:https://monyash.info
X-WR-CALDESC:Events for Monyash Village
REFRESH-INTERVAL;VALUE=DURATION:PT1H
X-Robots-Tag:noindex
X-PUBLISHED-TTL:PT1H
BEGIN:VTIMEZONE
TZID:Europe/London
BEGIN:DAYLIGHT
TZOFFSETFROM:+0000
TZOFFSETTO:+0100
TZNAME:BST
DTSTART:20230326T010000
END:DAYLIGHT
BEGIN:STANDARD
TZOFFSETFROM:+0100
TZOFFSETTO:+0000
TZNAME:GMT
DTSTART:20231029T010000
END:STANDARD
BEGIN:DAYLIGHT
TZOFFSETFROM:+0000
TZOFFSETTO:+0100
TZNAME:BST
DTSTART:20240331T010000
END:DAYLIGHT
BEGIN:STANDARD
TZOFFSETFROM:+0100
TZOFFSETTO:+0000
TZNAME:GMT
DTSTART:20241027T010000
END:STANDARD
BEGIN:DAYLIGHT
TZOFFSETFROM:+0000
TZOFFSETTO:+0100
TZNAME:BST
DTSTART:20250330T010000
END:DAYLIGHT
BEGIN:STANDARD
TZOFFSETFROM:+0100
TZOFFSETTO:+0000
TZNAME:GMT
DTSTART:20251026T010000
END:STANDARD
END:VTIMEZONE
BEGIN:VEVENT
DTSTART;TZID=Europe/London:20240501T100000
DTEND;TZID=Europe/London:20240531T150000
DTSTAMP:20260419T183506
CREATED:20240307T120037Z
LAST-MODIFIED:20240307T120040Z
UID:10281-1714557600-1717167600@monyash.info
SUMMARY:Church open 10:00-15:00
DESCRIPTION:St Leonard’s is open every day from 10:00-15:00 for private prayer.We are looking forward to welcoming you inside our historic village church and know that you will help keep our village safe. Please take sensible precautions to avoid passing on any infection.
URL:https://monyash.info/event/church-open-1000-1500-31/
LOCATION:St Leonard’s Church\, Church Street\, Monyash\, DE45 1JH
END:VEVENT
BEGIN:VEVENT
DTSTART;TZID=Europe/London:20240525T000000
DTEND;TZID=Europe/London:20240525T235959
DTSTAMP:20260419T183506
CREATED:20240401T151043Z
LAST-MODIFIED:20240401T151047Z
UID:10481-1716595200-1716681599@monyash.info
SUMMARY:Erecting Adult Well
DESCRIPTION:Exact time TBD for erecting the Adult Well Dressing in the car park on Chapel Street
URL:https://monyash.info/event/erecting-adult-well-2/
LOCATION:Jack Mere Car Park\, Chapel Street\, Monyash\, DE45 1JJ
END:VEVENT
BEGIN:VEVENT
DTSTART;TZID=Europe/London:20240525T140000
DTEND;TZID=Europe/London:20240525T140000
DTSTAMP:20260419T183506
CREATED:20240401T151319Z
LAST-MODIFIED:20240401T151322Z
UID:10485-1716645600-1716645600@monyash.info
SUMMARY:Blessing the Village and School’s Well Dressings
DESCRIPTION:Starting in Jack Mere Car Park\, Chapel Street then moving on to the school
URL:https://monyash.info/event/blessing-the-village-and-schools-well-dressings-3/
LOCATION:Jack Mere Car Park\, Chapel Street\, Monyash\, DE45 1JJ
END:VEVENT
END:VCALENDAR