BEGIN:VCALENDAR
VERSION:2.0
PRODID:-//Monyash Village - ECPv6.15.20//NONSGML v1.0//EN
CALSCALE:GREGORIAN
METHOD:PUBLISH
X-WR-CALNAME:Monyash Village
X-ORIGINAL-URL:https://monyash.info
X-WR-CALDESC:Events for Monyash Village
REFRESH-INTERVAL;VALUE=DURATION:PT1H
X-Robots-Tag:noindex
X-PUBLISHED-TTL:PT1H
BEGIN:VTIMEZONE
TZID:Europe/London
BEGIN:DAYLIGHT
TZOFFSETFROM:+0000
TZOFFSETTO:+0100
TZNAME:BST
DTSTART:20230326T010000
END:DAYLIGHT
BEGIN:STANDARD
TZOFFSETFROM:+0100
TZOFFSETTO:+0000
TZNAME:GMT
DTSTART:20231029T010000
END:STANDARD
BEGIN:DAYLIGHT
TZOFFSETFROM:+0000
TZOFFSETTO:+0100
TZNAME:BST
DTSTART:20240331T010000
END:DAYLIGHT
BEGIN:STANDARD
TZOFFSETFROM:+0100
TZOFFSETTO:+0000
TZNAME:GMT
DTSTART:20241027T010000
END:STANDARD
BEGIN:DAYLIGHT
TZOFFSETFROM:+0000
TZOFFSETTO:+0100
TZNAME:BST
DTSTART:20250330T010000
END:DAYLIGHT
BEGIN:STANDARD
TZOFFSETFROM:+0100
TZOFFSETTO:+0000
TZNAME:GMT
DTSTART:20251026T010000
END:STANDARD
END:VTIMEZONE
BEGIN:VEVENT
DTSTART;TZID=Europe/London:20240401T100000
DTEND;TZID=Europe/London:20240430T150000
DTSTAMP:20260419T212249
CREATED:20240205T151427Z
LAST-MODIFIED:20240205T151429Z
UID:10077-1711965600-1714489200@monyash.info
SUMMARY:Church open 10:00-15:00
DESCRIPTION:St Leonard’s is open every day from 10:00-15:00 for private prayer.We are looking forward to welcoming you inside our historic village church and know that you will help keep our village safe. Please take sensible precautions to avoid passing on any infection.
URL:https://monyash.info/event/church-open-1000-1500-30/
LOCATION:St Leonard’s Church\, Church Street\, Monyash\, DE45 1JH
END:VEVENT
BEGIN:VEVENT
DTSTART;TZID=Europe/London:20240419T090000
DTEND;TZID=Europe/London:20240419T110000
DTSTAMP:20260419T212249
CREATED:20240205T155512Z
LAST-MODIFIED:20240205T155514Z
UID:10103-1713517200-1713524400@monyash.info
SUMMARY:Tea and Tots
DESCRIPTION:Tea and Tots is a playgroup\, aimed at babies and preschoolers\, for local families and friends to get together for a cuppa\, chat and play! Whilst we are aimed at preschool ages\, anyone is welcome to pop in and join us.Tea\, coffee\, snacks and a variety of toys are provided. Parents are responsible for their children whilst there.Hope to see you soon!
URL:https://monyash.info/event/tea-and-tots-36/
LOCATION:Monyash Village Hall\, Church Street\, Monyash\, DE45 1JH
END:VEVENT
BEGIN:VEVENT
DTSTART;TZID=Europe/London:20240419T151500
DTEND;TZID=Europe/London:20240419T164500
DTSTAMP:20260419T212249
CREATED:20240319T103358Z
LAST-MODIFIED:20240418T203944Z
UID:10361-1713539700-1713545100@monyash.info
SUMMARY:Messy Church
DESCRIPTION:Messy Church is straight after school\, usually on the 2nd Friday of the month.£2 per child\, incuding food and squash.Children must be accompanied by an adult.
URL:https://monyash.info/event/messy-church-4/
LOCATION:Monyash Methodist Chapel\, Chapel Street\, Monyash\, DE45 1JJ
END:VEVENT
BEGIN:VEVENT
DTSTART;TZID=Europe/London:20240419T193000
DTEND;TZID=Europe/London:20240419T193000
DTSTAMP:20260419T212249
CREATED:20240408T121123Z
LAST-MODIFIED:20240408T121126Z
UID:10517-1713555000-1713555000@monyash.info
SUMMARY:Cyber crime and scam protection
DESCRIPTION:Join us to learn about protecting yourself from cyber crime\, fraud\, risk\, internet scams and about improving your own security. \n\n\n\nA talk from the Cyber Crime Unit and the Safer Neighbourhood Team\, organised by the Parish Council.
URL:https://monyash.info/event/cyber-crime-and-scam-protection/
LOCATION:Monyash Village Hall\, Church Street\, Monyash\, DE45 1JH
END:VEVENT
END:VCALENDAR