BEGIN:VCALENDAR
VERSION:2.0
PRODID:-//Monyash Village - ECPv6.15.20//NONSGML v1.0//EN
CALSCALE:GREGORIAN
METHOD:PUBLISH
X-ORIGINAL-URL:https://monyash.info
X-WR-CALDESC:Events for Monyash Village
REFRESH-INTERVAL;VALUE=DURATION:PT1H
X-Robots-Tag:noindex
X-PUBLISHED-TTL:PT1H
BEGIN:VTIMEZONE
TZID:Europe/London
BEGIN:DAYLIGHT
TZOFFSETFROM:+0000
TZOFFSETTO:+0100
TZNAME:BST
DTSTART:20220327T010000
END:DAYLIGHT
BEGIN:STANDARD
TZOFFSETFROM:+0100
TZOFFSETTO:+0000
TZNAME:GMT
DTSTART:20221030T010000
END:STANDARD
BEGIN:DAYLIGHT
TZOFFSETFROM:+0000
TZOFFSETTO:+0100
TZNAME:BST
DTSTART:20230326T010000
END:DAYLIGHT
BEGIN:STANDARD
TZOFFSETFROM:+0100
TZOFFSETTO:+0000
TZNAME:GMT
DTSTART:20231029T010000
END:STANDARD
BEGIN:DAYLIGHT
TZOFFSETFROM:+0000
TZOFFSETTO:+0100
TZNAME:BST
DTSTART:20240331T010000
END:DAYLIGHT
BEGIN:STANDARD
TZOFFSETFROM:+0100
TZOFFSETTO:+0000
TZNAME:GMT
DTSTART:20241027T010000
END:STANDARD
END:VTIMEZONE
BEGIN:VEVENT
DTSTART;TZID=Europe/London:20230801T100000
DTEND;TZID=Europe/London:20230831T150000
DTSTAMP:20260419T235602
CREATED:20230609T123721Z
LAST-MODIFIED:20230609T123724Z
UID:8484-1690884000-1693494000@monyash.info
SUMMARY:Church open 10:00-15:00
DESCRIPTION:St Leonard’s is open every day from 10:00-15:00 for private prayer.We are looking forward to welcoming you inside our historic village church and know that you will help keep our village safe. Please take sensible precautions to avoid passing on any infection.
URL:https://monyash.info/event/church-open-1000-1500-22/
LOCATION:St Leonard’s Church\, Church Street\, Monyash\, DE45 1JH
END:VEVENT
BEGIN:VEVENT
DTSTART;TZID=Europe/London:20230828T180000
DTEND;TZID=Europe/London:20230828T190000
DTSTAMP:20260419T235602
CREATED:20230610T134841Z
LAST-MODIFIED:20230610T134844Z
UID:8568-1693245600-1693249200@monyash.info
SUMMARY:Pilates
DESCRIPTION:Classes by Caroline Webster \n\n\n\nMore details on our Pilates and Yoga page
URL:https://monyash.info/event/pilates-132/
END:VEVENT
BEGIN:VEVENT
DTSTART;TZID=Europe/London:20230828T191500
DTEND;TZID=Europe/London:20230828T203000
DTSTAMP:20260419T235602
CREATED:20230610T135053Z
LAST-MODIFIED:20230610T135056Z
UID:8570-1693250100-1693254600@monyash.info
SUMMARY:Hatha Yoga
DESCRIPTION:Classes by Caroline Webster \n\n\n\nMore details on our Pilates and Yoga page
URL:https://monyash.info/event/hatha-yoga-18/
LOCATION:Taddington Institute\, Bramwell Memorial Institute\, Main Road\, Taddington\, SK17 9TU
END:VEVENT
END:VCALENDAR